{"text_format":"1","workbook":"xlsx","n_sheets":6,"sheets":["راهنما","Data","Report","Stat","Sett","Archive"],"not_rendered":{"charts":0,"images":0,"macros":1,"external_links":2,"defined_names":1,"comments":0,"pivot_tables":0},"unopened":[],"bounds":{"document_bytes":16777216,"sheet_cells":100000,"rows_first":2000,"rows_last":500,"rows_between":2000,"halvings":0,"cell_chars":16384,"cell_head_chars":4096},"cells_cut":0,"cells_raw":0,"read":"whole","date_system":"1900"}

{"sheet":"راهنما","index":0,"n_rows":52,"n_cols":18,"rows_kept":52,"cut":false,"hidden":false,"merged":[[2,1,2,19],[1,1,1,19],[17,1,17,19],[7,1,7,19],[8,1,8,19],[9,1,9,16],[9,17,9,19],[10,1,10,19],[11,1,11,19],[12,1,12,19],[13,1,13,19],[14,1,14,19],[15,1,15,19],[16,1,16,19],[3,1,4,19],[5,17,6,17],[5,18,6,18],[29,1,29,19],[18,1,18,19],[19,1,19,19],[20,1,20,19],[21,1,21,19],[22,1,22,19],[23,1,23,19],[24,1,24,19],[25,1,25,19],[26,1,26,19],[27,1,27,19],[28,1,28,19],[5,19,6,19],[42,1,42,19],[30,1,30,19],[32,1,32,19],[33,1,33,19],[34,1,34,19],[35,1,35,19],[36,1,36,19],[37,1,37,19],[38,1,38,19],[39,1,39,19],[40,1,40,19],[41,1,41,19],[53,2,53,3],[43,1,43,19],[44,1,44,19],[45,1,45,19],[46,1,46,19],[47,1,47,19],[48,1,48,19],[49,1,49,19],[50,1,50,19],[51,1,51,19],[52,1,52,19]]}
[]
[null,"عنوان برنامه"]
[null,"برنامه مدیریت ساختمان و آپارتمان نسخه پیشرفته ، حق شارژ و دریافت و پرداخت ها ، تقسیم هزینه ها بر اساس نفرات یا متراژ ، گزارش واحد و سرجمع ، تا سقف 50 واحد"]
[]
[]
[]
[]
[null,"توضيحات عمومي برنامه های تحت اکسل"]
[null,"* در ابتدا اعلام می کنیم كه از همراه شدن با شما کاربر عزیز گرامی بسيار خرسنديم و اميدواريم بتوانيم همکار خوبي براي تان بوده و در ساير زمینه ها نیز افتخار ميزباني درخواست های شما عزیزان را داشته باشيم."]
[null,"* بسيار خوشحال خواهيم شد اگر نظرات و انتقادات و یا پيشنهادات خود را درباره اين برنامه و همچنين کلیه خدمات ارائه شده توسط این مرکز را از طريق لینک مقابل به ما اعلام بفرمائید.",null,null,null,null,null,null,null,null,null,null,null,null,null,null,null,"برای اعلام نظرتان کلیک کنید"]
[null,"* قبل از شروع به استفاده از برنامه، لطفا فونت هاي ضميمه فايل دريافتي را در سیستم خود نصب نمائيد و همچنين يك كپي از فايل خام تهيه كنيد تا در صورت بروز هر گونه مشكل نسخه اوليه و صحيح در اختيار شما باشد."]
[null,"* اين فايل با نرم افزار اكسل 2010 طراحي شده و از ماكرو نویسی و کدهای VBA استفاده شده است ! لذا هر بار بعد از بازکردن این فایل باید ماکروها را فعال نماييد ( Enable content را بزنید ). توضيحات لازم در لینک های در بالا در دسترس است. همچنین در هر بار ذخیر فایل یک پیام هشدار به شما نمایش داده می شود که به دلیل کدهای برنامه است و باید تایید کنید."]
[null,"* در صورت وجود هرگونه ابهام يا سوال يا مشاهده نقصي در برنامه هاو یا ارائه پیشنهادی مبنی بر طراحی ایده ای جدید، مي توانيد از طريق ايميل مستقيم  appsrequest@gmail.com و یا لینک \"تماس با مرکز\" در بالای صفحه با ذكر كد فايل و عنوان برنامه با ما در ارتباط باشيد. دقت کنید که راه ارتباطی ما صرفا از طریق ایمیل و فرم تماس و ایدی تلگرام موجود در قسمت تماس با ما می باشد. در اسرع وقت و در حد دانش مان پاسخگوي شما خواهيم بود. "]
[null,"* دقت کنید که این برنامه صرفا یک فایل اکسل هست و برای استفاده نیاز به نصب یا کار خاصی روی سیستم شما وجود ندارد. فقط کافیست نرم افزارهای عمومی آفیس روی سیستم شما نصب باشد. همچنین این فایل قابلیت کپی کردن روی هر سیستمی را داراست و اگر از فایل نامحدود خریداری شده استفاده می کنید ، صرفا برای شما قابل استفاده می باشد و در صورت نیاز به استفاده دیگران، می بایست آنها مجدد برنامه را خریداری نمایند."]
[null,"این نسخه از برنامه که به صورت رایگان منتشر شده، به منظور آشنایی شما و تست قابلیت های آن بوده و فقط تعداد محدودي ركورد در جداول دیتا قابل ثبت است. بعد از مدتی برنامه قفل شده و ارور خواهد داد. همچنین امکان ویرایش عناوین و فرمول ها و نام و تعداد صفحات وجود ندارد. امکان حذف ردیف ها و ستون ها در صفحه وجود نداشته و صفحات و ساختار فایل و کدهای استفاده شده رمز نگاری شده اند. اگر تمايل داريد كه از آن به صورت نامحدود و دائمی برای ثبت اطلاعات و دیتاهای خود استفاده نمائید، می توانید نسخه نامحدود برنامه را از طریق لینک \"خرید برنامه نامحدود\" موجود در بالای همین صفحه و یا طبق توضیحات و راهنمای موجود در سایت مرکزف به صورت انلاین خریداری و دانلود نموده و با پشتیبانی کامل و دائمی از آن استفاده نمائید."]
[null,"* اگر از نسخه رایگان استفاده کرده اید، دقت داشته باشید که بعد از خرید نسخه نامحدود این برنامه، می بایست اطلاعات وارد شده را مجدد در فایل جدید وارد نمائید. لذا توصیه می کنیم اگر از کارکرد برنامه رضایت کافی را دارید، سریع تر نسخه نامحدود آن را تهیه کرده و اطلاعات را وارد کرده و با آن کار کنید تا دوباره کاری نیاز نباشد."]
[null,"* ساختار کد گذاری فایل ها بدین صورت است که چهار رقم اول مختص برنامه و دو رقم اخر مختص ورژن های مختلف آن برنامه است. مثلا 127401 یعنی نسخه 01 از برنامه 1274 و 127402 یعنی نسخه 02 از برنامه 1274. این مدل برای شناسایی ورژن های مختلف یک برنامه تعیین شده است. لذا اگر از کد برنامه خاصی استفاده می کنید، برای اطلاع از انتشار ورژن های جدید تر کافیست مطالب منشتر شده سایت را با همین کد برنامه جستجو نمائید."]
[null,"* در نسخه رایگان برنامه ، صفحات اکسل رمز دارند و نمی توایند عناوین و فرمول ها را ویرایش کنید. همچنین ساختار فایل ها قفل است و امکان افزودن صفحات جدید و یا حذف صفحات موجود وجود ندارد."]
[null,"* در نسخه نامحدود برنامه همه امکانات نسخه های رایگان موجود است با این تفاوت اساسی که قابلیت ثبت دیتا در جداول نامحدود و دائمی خواهد بود صفحات رمز ندارند و می توانید عناوین و فرمول ها را در صورت تسلط ویرایش نمائید. ساختار فایل نیز باز است و می توانید صفحه ای جدید را اضافه و صفحه های موجود را حذف کنید. برخی از صفحات که جنبه گزارش یا صرفا منوی کاربری دارند بدون رمز خاصی قفل شده اند که می توانید در صورت نیاز آنها را نیز باز کرده و عناوین را ویرایش کنید. نسخه های نامحدود دارای پشتیبانی دائمی بوده و هر زمان که در آینده نیاز به اصلاح با تغییری داشته باشید، در صورت امکان برایتان اعمال خواهیم کرد."]
[null,"* دقت کنید که کدهای VBA نوشته شده رمز دارند و استفاده و بهره برداری از آنها صرفا در اختیار طراح برنامه است. اگر نیاز به مشاهده و یا ویرایش آنها به منظور آموزش دارید برای دریافت رمز کدها ، بعد از خرید نسخه نامحدود برنامه، می توانید از طریق ایمیل با ذکر کد فایل و عنوان برنامه مد نظرتان با ما تماس بگیرید تا با پرداخت هزینه ای اندک که توسط خود طراح تعیین شده است، رمز کدها را برایتان ارسال نمائیم."]
[null,"* براي حذف يك رديف از اطلاعات در جداول ( Table ) موجود در همه صفحات كه از طریق فرم و یا دستی تکمیل مي شوند، بايد روي رديف مورد نظر راست كليك كرده و از قسمت Delete گزينه Table Rows را انتخاب كنيد. در غير اينصورت امكان دارد کدها و محاسبات بهم بریزند و برنامه صحیح کار نکند."]
[null,"* دقت کنید که در ثبت اطلاعات در جداول دیتا چه از طریق فرم و چه دستی، ردیف خالی برای ثبت دیتای جدید بر اساس شمارش تعداد رديف پر شده ( در ستون اول جدول ) صورت ميگيرد و نبايد رديفی خالي ما بين اطلاعات تكميل شده در جدول وجود داشته باشد! در غیر این صورت ثبت اطلاعات با مشکل مواجه خوهد شد."]
[null,"* لطفا از تغيير دادن نام صفحات و ترتيب آنها و همچنين افزودن سطر و ستون در آنها پرهيز كنيد ! همچنین برای پر کردن جداول در صورت وجود فرم برای تکمیل، هرگز به صورت دستی و مستقیم در جدول داده وارد نکنید."]
[null,"* در هرجای برنامه که نیاز به وارد کردن تاریخ شمسی هست باید فرمت تاریخ به صورت کامل باشد. 4 رقم برای سال و 2 رقم برای ماه و 2 رقم برای روز وارد شود ( مانند  1393/09/02 برای تاریخ 2 آذر 1393 )"]
[null,"* به دلیل استفاده از فونت های فارسی در محیط کدنویسی اکسل، اگر فونت ها در هنگام باز کردن فرم و یا ثبت اطلاعات بهم ریختند، باید لوکیشن سیستم خود را حتما روی Persian تنظیم کنید. ( عکس راهنما ضمیمه شده )"]
[null,"* در هرجای برنامه که تاریخ شمسی به صورت خودکار وارد می شود ( چه فرمها و چه صفحات ) از روی تاریخ میلادی سیستم شما خوانده شده است. لذا دقت کنید که تاریخ میلادی و ساعت سیستم تان صحیح باشد."]
[null,"* در همه فرم هایی که در برنامه ها طراحی و استفاده شده در هنگام تکمیل آنها با زدن دکمه Enter یا Tab بر روی صفحه کلید ، اشاره گر به طور خودکار به خانه بعدی فرم میرود و این مسئله کار تکمیل فرم را راحت تر می کند."]
[null,"* در نمایش پرینت اطلاعات دکمه هایی طراحی شده که کلیک روی آن ، پیش نمایش پرینت قسمتی از صفحه که به عنوان ناحیه پرینت تعیین شده ، نمایش داده می شود و می توانید راحت آن پرینت بگیرید یا ذخیره کنید."]
[null,"* اگر می خواهید از گزارشات قابل چاپ برنامه ها خروجی PDF بگیرید ، لازم است یک برنامه کمکی مانند Nitro Pdf Creator را روی سیستم خود نصب کرده و به عنوان پرینتر پیش فرض سیستم خود تعیین کنید."]
[null,"* اگر در جایی از صفحه، گزارشی در یک بازه از تاریخ محاسبه می شود، می بایست بازه موجود را ویرایش کنید تا محاسبات بر اساس تاریخ های مد نظرتان انجام شود. به فرمت تاریخ های شمسی دقت کنید که صحیح باشد."]
[null,"* کلیه جداول قابلیت فیلتر کردن بر اساس یک ایتم خاص در همه ستون ها را دارند. راهنمای جستجو در دیتاهای جداول و فیلتر کردن آنها برای مشاهده گزارشات یا آیتم های خاص در عکس های ضمیمه شده موجود است !"]
[]
[null,"راهنمای خاص استفاده از این برنامه"]
[null,"1 - ابتدا در صفحه sett تنظیمات اصلی را وارد کنید. در ستون \"متراژ\" می توانید متراژ واحدها را وارد کنید و در ستون نفرات می توانید نفرات ساکن واحدهای مسکونی را تعیین کنید. وضعیت سکونت واحدها نیز باید حتما تعیین شود."]
[null,"عدد 1 برای واحدهای خالی و عدد 2 برای واحدهای در حال سکونت. متراژها و اعداد جدول برای نمونه وارد شده و لازم است ویرایش شوند. در اینده نیز باید با تغییرات در سکونت واحد و افراد این دو ستون بروز رسانی گردند."]
[null,"توجه : به تعداد واحدهایی که دارید ستون دوم یا همان \"عنوان\" جدول تعریف واحدها را در صفحه sett تکمیل کرده و مابقی آن را خالی بگذارید. محاسبات بر اساس تعداد واحدی خواهد بود که در این ستون وارد می کنید"]
[null,"2 - دسته بندی هزینه های خود را در صورت نیاز ویرایش کنید و  موجودی اولیه حساب ساختمان خود را ( در هنگام شروع به کار با برنامه ) در قسمت مربوطه ثبت کنید. مانده حساب واحدها را نیز می توانید در جدول تعریف آنها وارد"]
[null,"کنید. انواع قبوض و هزینه ها در هنگان ثبت در مانده حساب واحدها لحاظ میشود ولی انواع \"پرداخت از شارژ\" به منظور ثبت پرداختهایی است که از شارژ دریافت شده از واحدها انجام میگیرد و در مانده حساب واحدها لحاظ نمی شود."]
[null,"3 - در صفحه archive می توانید تغییرات سکونت در واحدهای ساختمان را ثبت کنید تا در اینده امکان محاسبه مالی بدهکاری و بستانکاری مستاجرین یا مالکین قبلی وجود داشته باشد."]
[null,"4 -  بعد  از تکمیل کامل تنظیمات و تعریفات اولیه برنامه ، در صفحه data مناسبات و فرایند های مالی ساختمان خود را فقط از طریق فرم های طراحی شده که با کلیک بر روی دکمه های بالای صفحه باز می شوند ، در جدول وارد کنید."]
[null," برای ثبت هزینه ها در فرم باز شده تاریخ خودکار از روی تاریخ سیستم شما به صورت شمسی وارد می شود که قابل ویرایش نیز می باشد. مبلغ کل هزینه را وارد کنید و دسته بندی آن و نوع تقسیم و واحدهای مشمول را نیز انتخاب کنید."]
[null," اگر می خواهید که هزینه ای بین واحدها به نحوه خاصی تقسیم شود باید  این شرط را از لیست موجود انتخاب کنید. ( مثلا قبوض گاز را بر اساس متراژ واحدها و قبوض آب را بر اساس نفرات ساکن در واحدها می توان تقسیم کرد )."]
[null,"در نهایت نیز دکمه ثبت اطاعات را بزنید. برای ثبت دریافت نقدی از واحدها در فرم مربوطه باید مانند قبلی عمل کرده و شماره واحد مربوطه را نیز وارد کنید. برای تعین حق شارژ واحدها در فرم باز شده می توانید مبلغ شارژ"]
[null,"ماهانه را برای واحدهای مسکونی و خالی متفاوت وارد کنید. ( واحدهای خالی با توجه به ستون \"وضعیت\" در جدول تعریف واحدها خودکار شناسایی می شوند ). برای هر ماه نیز باید در همان ماه ( مثلا تاریخ 25 ام ) شارژ آن ماه را وارد"]
[null,"کنید تا در گزارشات نهایی برای بازه تاریخی خاص امکان محاسبه مانده حساب واحدها وجود داشته باشد. فرم \"پرداخت از شارژ\" برای ثبت مواردی است که از شارژ دریافتی موجود در حساب ساختمان پرداخت می شود."]
[null,"در همه فرم ها در قسمت توضیحات می توانید شرح کار انجام شده یا نوع قبض یا نحوه واریز یا نحوه دریافت یا هر اطلاعات مالی و سندی تکمیلی دیگری را وارد کنید که بعدا در گزارشات استفاده شوند."]
[null,"5 - برای مشاهده گزارش کلی ساختمان می توانید از صفحه report  استفاده کنید. در این صفحه می توانید مشخص کنید که بازه محاسبات گزارش چه دوره ای باشد ( ماهانه یا چند ماهه یا سالانه )."]
[null,"6 -  برای ثبت درآمدهای متفرقه شامل دریافت وجه بابت استفاده از اسانسور یا شستن ماشین و فرش روی حیاط یا غیره از فرم تعیین شده در همان صفحه data استفاده کنید. این مبالغ به حساب ساختمان افزوده می گردد و می توانید"]
[null,"از ان برای پرداخت قسمتی از قبوض یا کارهای متفرقه استفاده کنید ( که باید در قسمت برداشت از حق شارژ ثبت شود پرداخت های توسط این وجوه )."]
[null,"7 - برای مشاهده گزارش حساب یک واحد خاص کافیست در صفحه stat بازه تاریخی مد نظرتان را ( یک ماه یا یک سال ) در خانه های C3 و F3 تعیین کرده و شماره واحد را در خانه H2 وارد کرده و \"جستجو کن\" را بزنید."]
[null,"در جدول موجود ریز همه ردیف های ثبت شده برای ان واحد به تفکیک نوع بدهکاری یا بستانکاری مشخص شده است. ستونهایی از هزینه که نخواسته اید در محاسبات وارد شود در این گزارش نیز لحاظ نخواهد شد."]
[null,"توجه : در جدول دیتا می توانید ستون خاصی را بر اساس ایتمی خاص فیلتر کنید تا گزارشات جزئی تری را برای مسائل مختلف داشته باشید. عکس های راهنما ضمیمه شده است ..."]

{"sheet":"Data","index":1,"n_rows":80,"n_cols":24,"rows_kept":80,"cut":false,"hidden":false,"merged":[[5,3,5,4]]}
[null,null,null,null,null,null,null,null,null,null,null,null,null,null,null,null,null,null,null,127401]
[null,null,null,null,null,null,null,null,null,null,null,null,null,null,null,null,null,null,null,"نامحدود"]
[]
[]
[]
[null,{"$f":"COUNTA(data5[[#Data],[تاریخ]])+8","v":8},99,{"$f":"IF(C6=Sett!C2,\"برای همه واحدها لحاظ می شود\",IF(COUNTIF(sett[کد],C6)>0,\"مالک فعلی : \"&VLOOKUP(C6,sett[],6,FALSE),\"\"))","v":"برای همه واحدها لحاظ می شود"},null,{"$f":"IF(C6=Sett!C2,\"همه واحدها\",IF(COUNTIF(sett[کد],C6)>0,VLOOKUP(C6,sett[],2,FALSE),\"وجود ندارد\"))","v":"همه واحدها"},{"$f":"J_TODAY(1)","v":"1404/07/09"},"بصورت مساوی","بر اساس متراژ","بر اساس نفرات","قبوض","دریافت","حق شارژ","هزینه","همه واحدها","فقط مسکونی","پرداخت از شارژ","درآمدها","درآمدهای متفرقه","وجود ندارد","لطفا کد واحد را صحیح وارد کنید","واحد خالی","واحد مسکونی","حق شارژ ماهانه"]
[null,"تاریخ","مبلغ","نوع","دسته","واحد","توضيحات","TY","DS","Total"]
[1,null,null,null,null,null,null,1,1,12485410]
[null,null,null,null,null,null,null,1,1,12485410]
[null,null,null,null,null,null,null,1,1,12485410]
[null,null,null,null,null,null,null,1,1,12485410]
[null,null,null,null,null,null,null,1,1,12485410]
[null,null,null,null,null,null,null,1,1,12485410]
[null,null,null,null,null,null,null,1,1,12485410]
[null,null,null,null,null,null,null,1,1,12485410]
[null,null,null,null,null,null,null,1,1,12485410]
[null,null,null,null,null,null,null,1,1,12485410]
[null,null,null,null,null,null,null,1,1,12485410]
[null,null,null,null,null,null,null,1,1,12485410]
[null,null,null,null,null,null,null,1,1,12485410]
[null,null,null,null,null,null,null,1,1,12485410]
[null,null,null,null,null,null,null,1,1,12485410]
[null,null,null,null,null,null,null,1,1,12485410]
[null,null,null,null,null,null,null,1,1,12485410]
[null,null,null,null,null,null,null,1,1,12485410]
[null,null,null,null,null,null,null,1,1,12485410]
[null,null,null,null,null,null,null,1,1,12485410]
[2,null,null,null,null,null,null,3,2,3000000]
[null,null,null,null,null,null,null,4,0,4000000]
[null,null,null,null,null,null,null,4,0,4000000]
[null,null,null,null,null,null,null,4,0,4000000]
[null,null,null,null,null,null,null,4,0,4000000]
[null,null,null,null,null,null,null,4,0,4000000]
[null,null,null,null,null,null,null,4,0,4000000]
[null,null,null,null,null,null,null,4,0,4000000]
[null,null,null,null,null,null,null,4,0,4000000]
[null,null,null,null,null,null,null,4,0,4000000]
[null,null,null,null,null,null,null,4,0,4000000]
[null,null,null,null,null,null,null,4,0,4000000]
[null,null,null,null,null,null,null,4,0,4000000]
[null,null,null,null,null,null,null,4,0,4000000]
[null,null,null,null,null,null,null,4,0,4000000]
[null,null,null,null,null,null,null,4,0,4000000]
[null,null,null,null,null,null,null,3,1,1300000]
[null,null,null,null,null,null,null,3,2,8000000]
[null,null,null,null,null,null,null,6,1,3000000]
[null,null,null,null,null,null,null,1,1,14000000]
[null,null,null,null,null,null,null,1,1,14000000]
[null,null,null,null,null,null,null,1,1,14000000]
[null,null,null,null,null,null,null,1,1,14000000]
[null,null,null,null,null,null,null,1,1,14000000]
[null,null,null,null,null,null,null,1,1,14000000]
[null,null,null,null,null,null,null,1,1,14000000]
[null,null,null,null,null,null,null,1,1,14000000]
[null,null,null,null,null,null,null,1,1,14000000]
[null,null,null,null,null,null,null,1,1,14000000]
[null,null,null,null,null,null,null,1,1,14000000]
[null,null,null,null,null,null,null,1,1,14000000]
[null,null,null,null,null,null,null,1,1,14000000]
[null,null,null,null,null,null,null,1,1,14000000]
[null,null,null,null,null,null,null,1,1,14000000]
[null,null,null,null,null,null,null,1,1,14000000]
[null,null,null,null,null,null,null,1,1,14000000]
[null,null,null,null,null,null,null,1,3,4000000]
[null,null,null,null,null,null,null,1,3,4000000]
[null,null,null,null,null,null,null,1,3,4000000]
[null,null,null,null,null,null,null,1,3,4000000]
[null,null,null,null,null,null,null,1,3,4000000]
[null,null,null,null,null,null,null,1,3,4000000]
[null,null,null,null,null,null,null,1,3,4000000]
[null,null,null,null,null,null,null,1,3,4000000]
[null,null,null,null,null,null,null,1,3,4000000]
[null,null,null,null,null,null,null,1,3,4000000]
[null,null,null,null,null,null,null,1,3,4000000]
[null,null,null,null,null,null,null,1,3,4000000]
[null,null,null,null,null,null,null,1,3,4000000]
[null,null,null,null,null,null,null,1,3,4000000]
[null,null,null,null,null,null,null,1,3,4000000]
[null,null,null,null,null,null,null,1,3,4000000]
[null,null,null,null,null,null,null,1,3,4000000]

{"sheet":"Report","index":2,"n_rows":57,"n_cols":16,"rows_kept":57,"cut":false,"hidden":false,"merged":[[6,14,6,15],[3,14,3,15],[4,1,4,2],[4,3,4,4],[4,6,4,7],[4,8,4,9],[4,10,4,11],[4,12,4,15],[3,1,3,5],[3,7,3,8],[3,10,3,11],[3,12,3,13],[5,1,5,2],[5,3,5,8],[5,9,5,11],[5,12,5,15]]}
[]
[]
[]
[null,"گزارش کلی وضعیت حساب واحدهای ساختمان نمونه",null,null,null,null," از تاریخ :","1404/05/01",null,"تا تاریخ :","1404/05/31",null,"تاریخ تنظیم گزارش :",null,{"$f":"J_TODAY(1)","v":"1404/07/09"}]
[null,"برداشت از حساب:",null,{"$f":"SUMIFS(data5[مبلغ],data5[TY],1,data5[تاریخ],\">=\"&H4,data5[تاریخ],\"<=\"&K4)+SUMIFS(data5[مبلغ],data5[TY],2,data5[تاریخ],\">=\"&H4,data5[تاریخ],\"<=\"&K4)+SUMIFS(data5[مبلغ],data5[TY],6,data5[تاریخ],\">=\"&H4,data5[تاریخ],\"<=\"&K4)","v":0},null,"واریز شده :",{"$f":"SUMIFS(data5[مبلغ],data5[TY],3,data5[تاریخ],\">=\"&H4,data5[تاریخ],\"<=\"&K4)+SUMIFS(data5[مبلغ],data5[TY],5,data5[تاریخ],\">=\"&H4,data5[تاریخ],\"<=\"&K4)","v":0},null,"موجودی فعلی حساب :",null,{"$f":"Sett!N17+SUMIFS(data5[مبلغ],data5[TY],3)+SUMIFS(data5[مبلغ],data5[TY],5)-SUMIFS(data5[مبلغ],data5[TY],1)-SUMIFS(data5[مبلغ],data5[TY],2)-SUMIFS(data5[مبلغ],data5[TY],6)","v":0},null,"توضیحات : ندارد"]
[null,"اطلاعات واحد",null,"موارد بدهکار شده",null,null,null,null,null,"موارد بستانکار شده",null,null,"وضعیت مانده حساب"]
[null,"كد","عنوان / مالك فعلی","حق شارژ",{"$f":"[2]Sett!O5","v":"آب مشاع"},{"$f":"[2]Sett!O6","v":"گاز مشاع"},{"$f":"[2]Sett!O7","v":"برق مشاع"},{"$f":"[2]Sett!O8","v":"سایر قبوض"},"سایر هزینه ها",{"$f":"[2]Sett!O21","v":"حق شارژ"},{"$f":"[2]Sett!O22","v":"سهم قبوض"},{"$f":"[2]Sett!O23","v":"سایر موارد"},"کل بدهکاری","کل بستانکاری","مانده حساب واحد"]
[null,1,{"$f":"IFERROR(VLOOKUP(B8,sett[#Data],2,FALSE)&\" / \"&VLOOKUP(B8,sett[#Data],6,FALSE),\"\")","v":"واحد 1 / "},{"$f":"IF(C8<>\"\",SUMIFS(data5[مبلغ],data5[TY],4,data5[واحد],B8,data5[تاریخ],\">=\"&H$4,data5[تاریخ],\"<=\"&K$4),\"\")","v":0},{"$f":"IF(C8<>\"\",SUMIFS(data5[مبلغ],data5[TY],1,data5[DS],1,data5[واحد],B8,data5[تاریخ],\">=\"&H$4,data5[تاریخ],\"<=\"&K$4),\"\")","v":0},{"$f":"IF(D8<>\"\",SUMIFS(data5[نوع],data5[DS],1,data5[Total],1,data5[توضيحات],C8,data5[مبلغ],\">=\"&I$4,data5[مبلغ],\"<=\"&L$4),\"\")","v":0},{"$f":"IF(E8<>\"\",SUMIFS(data5[دسته],data5[Total],1,data5[تاریخ],1,data5[TY],D8,data5[نوع],\">=\"&J$4,data5[نوع],\"<=\"&M$4),\"\")","v":0},{"$f":"IF(F8<>\"\",SUMIFS(data5[واحد],data5[تاریخ],1,data5[مبلغ],1,data5[DS],E8,data5[دسته],\">=\"&K$4,data5[دسته],\"<=\"&N$4),\"\")","v":0},{"$f":"IF(G8<>\"\",SUMIFS(data5[توضيحات],data5[مبلغ],1,data5[نوع],1,data5[Total],F8,data5[واحد],\">=\"&L$4,data5[واحد],\"<=\"&O$4),\"\")","v":0},{"$f":"IF(C8<>\"\",SUMIFS(data5[مبلغ],data5[TY],3,data5[DS],1,data5[واحد],B8,data5[تاریخ],\">=\"&H$4,data5[تاریخ],\"<=\"&K$4),\"\")","v":0},{"$f":"IF(C8<>\"\",SUMIFS(data5[مبلغ],data5[TY],3,data5[DS],2,data5[واحد],B8,data5[تاریخ],\">=\"&H$4,data5[تاریخ],\"<=\"&K$4),\"\")","v":0},{"$f":"IF(C8<>\"\",SUMIFS(data5[مبلغ],data5[TY],3,data5[DS],3,data5[واحد],B8,data5[تاریخ],\">=\"&H$4,data5[تاریخ],\"<=\"&K$4),\"\")","v":0},{"$f":"IF(C8<>\"\",SUM(D8:I8),\"\")","v":0},{"$f":"IF(C8<>\"\",SUM(J8:L8),\"\")","v":0},{"$f":"IF(C8<>\"\",M8-N8+Sett!K5,\"\")","v":0},{"$f":"IF(C8<>\"\",IF(O8=0,\"صفر\",IF(O8>0,\"بدهکار\",\"بستانکار\")),\"\")","v":"صفر"}]
[null,2,{"$f":"IFERROR(VLOOKUP(B9,sett[#Data],2,FALSE)&\" / \"&VLOOKUP(B9,sett[#Data],6,FALSE),\"\")","v":"واحد 2 / "},{"$f":"IF(C9<>\"\",SUMIFS(data5[مبلغ],data5[TY],4,data5[واحد],B9,data5[تاریخ],\">=\"&H$4,data5[تاریخ],\"<=\"&K$4),\"\")","v":0},{"$f":"IF(C9<>\"\",SUMIFS(data5[مبلغ],data5[TY],1,data5[DS],1,data5[واحد],B9,data5[تاریخ],\">=\"&H$4,data5[تاریخ],\"<=\"&K$4),\"\")","v":0},{"$f":"IF(D9<>\"\",SUMIFS(data5[نوع],data5[DS],1,data5[Total],1,data5[توضيحات],C9,data5[مبلغ],\">=\"&I$4,data5[مبلغ],\"<=\"&L$4),\"\")","v":0},{"$f":"IF(E9<>\"\",SUMIFS(data5[دسته],data5[Total],1,data5[تاریخ],1,data5[TY],D9,data5[نوع],\">=\"&J$4,data5[نوع],\"<=\"&M$4),\"\")","v":0},{"$f":"IF(F9<>\"\",SUMIFS(data5[واحد],data5[تاریخ],1,data5[مبلغ],1,data5[DS],E9,data5[دسته],\">=\"&K$4,data5[دسته],\"<=\"&N$4),\"\")","v":0},{"$f":"IF(G9<>\"\",SUMIFS(data5[توضيحات],data5[مبلغ],1,data5[نوع],1,data5[Total],F9,data5[واحد],\">=\"&L$4,data5[واحد],\"<=\"&O$4),\"\")","v":0},{"$f":"IF(C9<>\"\",SUMIFS(data5[مبلغ],data5[TY],3,data5[DS],1,data5[واحد],B9,data5[تاریخ],\">=\"&H$4,data5[تاریخ],\"<=\"&K$4),\"\")","v":0},{"$f":"IF(C9<>\"\",SUMIFS(data5[مبلغ],data5[TY],3,data5[DS],2,data5[واحد],B9,data5[تاریخ],\">=\"&H$4,data5[تاریخ],\"<=\"&K$4),\"\")","v":0},{"$f":"IF(C9<>\"\",SUMIFS(data5[مبلغ],data5[TY],3,data5[DS],3,data5[واحد],B9,data5[تاریخ],\">=\"&H$4,data5[تاریخ],\"<=\"&K$4),\"\")","v":0},{"$f":"IF(C9<>\"\",SUM(D9:I9),\"\")","v":0},{"$f":"IF(C9<>\"\",SUM(J9:L9),\"\")","v":0},{"$f":"IF(C9<>\"\",M9-N9+Sett!K6,\"\")","v":0},{"$f":"IF(C9<>\"\",IF(O9=0,\"صفر\",IF(O9>0,\"بدهکار\",\"بستانکار\")),\"\")","v":"صفر"}]
[null,3,{"$f":"IFERROR(VLOOKUP(B10,sett[#Data],2,FALSE)&\" / \"&VLOOKUP(B10,sett[#Data],6,FALSE),\"\")","v":"واحد 3 / "},{"$f":"IF(C10<>\"\",SUMIFS(data5[مبلغ],data5[TY],4,data5[واحد],B10,data5[تاریخ],\">=\"&H$4,data5[تاریخ],\"<=\"&K$4),\"\")","v":0},{"$f":"IF(C10<>\"\",SUMIFS(data5[مبلغ],data5[TY],1,data5[DS],1,data5[واحد],B10,data5[تاریخ],\">=\"&H$4,data5[تاریخ],\"<=\"&K$4),\"\")","v":0},{"$f":"IF(D10<>\"\",SUMIFS(data5[نوع],data5[DS],1,data5[Total],1,data5[توضيحات],C10,data5[مبلغ],\">=\"&I$4,data5[مبلغ],\"<=\"&L$4),\"\")","v":0},{"$f":"IF(E10<>\"\",SUMIFS(data5[دسته],data5[Total],1,data5[تاریخ],1,data5[TY],D10,data5[نوع],\">=\"&J$4,data5[نوع],\"<=\"&M$4),\"\")","v":0},{"$f":"IF(F10<>\"\",SUMIFS(data5[واحد],data5[تاریخ],1,data5[مبلغ],1,data5[DS],E10,data5[دسته],\">=\"&K$4,data5[دسته],\"<=\"&N$4),\"\")","v":0},{"$f":"IF(G10<>\"\",SUMIFS(data5[توضيحات],data5[مبلغ],1,data5[نوع],1,data5[Total],F10,data5[واحد],\">=\"&L$4,data5[واحد],\"<=\"&O$4),\"\")","v":0},{"$f":"IF(C10<>\"\",SUMIFS(data5[مبلغ],data5[TY],3,data5[DS],1,data5[واحد],B10,data5[تاریخ],\">=\"&H$4,data5[تاریخ],\"<=\"&K$4),\"\")","v":0},{"$f":"IF(C10<>\"\",SUMIFS(data5[مبلغ],data5[TY],3,data5[DS],2,data5[واحد],B10,data5[تاریخ],\">=\"&H$4,data5[تاریخ],\"<=\"&K$4),\"\")","v":0},{"$f":"IF(C10<>\"\",SUMIFS(data5[مبلغ],data5[TY],3,data5[DS],3,data5[واحد],B10,data5[تاریخ],\">=\"&H$4,data5[تاریخ],\"<=\"&K$4),\"\")","v":0},0,0,{"$f":"IF(C10<>\"\",M10-N10+Sett!K7,\"\")","v":0},"صفر"]
[null,4,{"$f":"IFERROR(VLOOKUP(B11,sett[#Data],2,FALSE)&\" / \"&VLOOKUP(B11,sett[#Data],6,FALSE),\"\")","v":"واحد 4 / "},{"$f":"IF(C11<>\"\",SUMIFS(data5[مبلغ],data5[TY],4,data5[واحد],B11,data5[تاریخ],\">=\"&H$4,data5[تاریخ],\"<=\"&K$4),\"\")","v":0},{"$f":"IF(C11<>\"\",SUMIFS(data5[مبلغ],data5[TY],1,data5[DS],1,data5[واحد],B11,data5[تاریخ],\">=\"&H$4,data5[تاریخ],\"<=\"&K$4),\"\")","v":0},{"$f":"IF(D11<>\"\",SUMIFS(data5[نوع],data5[DS],1,data5[Total],1,data5[توضيحات],C11,data5[مبلغ],\">=\"&I$4,data5[مبلغ],\"<=\"&L$4),\"\")","v":0},{"$f":"IF(E11<>\"\",SUMIFS(data5[دسته],data5[Total],1,data5[تاریخ],1,data5[TY],D11,data5[نوع],\">=\"&J$4,data5[نوع],\"<=\"&M$4),\"\")","v":0},{"$f":"IF(F11<>\"\",SUMIFS(data5[واحد],data5[تاریخ],1,data5[مبلغ],1,data5[DS],E11,data5[دسته],\">=\"&K$4,data5[دسته],\"<=\"&N$4),\"\")","v":0},{"$f":"IF(G11<>\"\",SUMIFS(data5[توضيحات],data5[مبلغ],1,data5[نوع],1,data5[Total],F11,data5[واحد],\">=\"&L$4,data5[واحد],\"<=\"&O$4),\"\")","v":0},{"$f":"IF(C11<>\"\",SUMIFS(data5[مبلغ],data5[TY],3,data5[DS],1,data5[واحد],B11,data5[تاریخ],\">=\"&H$4,data5[تاریخ],\"<=\"&K$4),\"\")","v":0},{"$f":"IF(C11<>\"\",SUMIFS(data5[مبلغ],data5[TY],3,data5[DS],2,data5[واحد],B11,data5[تاریخ],\">=\"&H$4,data5[تاریخ],\"<=\"&K$4),\"\")","v":0},{"$f":"IF(C11<>\"\",SUMIFS(data5[مبلغ],data5[TY],3,data5[DS],3,data5[واحد],B11,data5[تاریخ],\">=\"&H$4,data5[تاریخ],\"<=\"&K$4),\"\")","v":0},0,0,{"$f":"IF(C11<>\"\",M11-N11+Sett!K8,\"\")","v":0},"صفر"]
[null,5,{"$f":"IFERROR(VLOOKUP(B12,sett[#Data],2,FALSE)&\" / \"&VLOOKUP(B12,sett[#Data],6,FALSE),\"\")","v":"واحد 5 / "},{"$f":"IF(C12<>\"\",SUMIFS(data5[مبلغ],data5[TY],4,data5[واحد],B12,data5[تاریخ],\">=\"&H$4,data5[تاریخ],\"<=\"&K$4),\"\")","v":0},{"$f":"IF(C12<>\"\",SUMIFS(data5[مبلغ],data5[TY],1,data5[DS],1,data5[واحد],B12,data5[تاریخ],\">=\"&H$4,data5[تاریخ],\"<=\"&K$4),\"\")","v":0},{"$f":"IF(D12<>\"\",SUMIFS(data5[نوع],data5[DS],1,data5[Total],1,data5[توضيحات],C12,data5[مبلغ],\">=\"&I$4,data5[مبلغ],\"<=\"&L$4),\"\")","v":0},{"$f":"IF(E12<>\"\",SUMIFS(data5[دسته],data5[Total],1,data5[تاریخ],1,data5[TY],D12,data5[نوع],\">=\"&J$4,data5[نوع],\"<=\"&M$4),\"\")","v":0},{"$f":"IF(F12<>\"\",SUMIFS(data5[واحد],data5[تاریخ],1,data5[مبلغ],1,data5[DS],E12,data5[دسته],\">=\"&K$4,data5[دسته],\"<=\"&N$4),\"\")","v":0},{"$f":"IF(G12<>\"\",SUMIFS(data5[توضيحات],data5[مبلغ],1,data5[نوع],1,data5[Total],F12,data5[واحد],\">=\"&L$4,data5[واحد],\"<=\"&O$4),\"\")","v":0},{"$f":"IF(C12<>\"\",SUMIFS(data5[مبلغ],data5[TY],3,data5[DS],1,data5[واحد],B12,data5[تاریخ],\">=\"&H$4,data5[تاریخ],\"<=\"&K$4),\"\")","v":0},{"$f":"IF(C12<>\"\",SUMIFS(data5[مبلغ],data5[TY],3,data5[DS],2,data5[واحد],B12,data5[تاریخ],\">=\"&H$4,data5[تاریخ],\"<=\"&K$4),\"\")","v":0},{"$f":"IF(C12<>\"\",SUMIFS(data5[مبلغ],data5[TY],3,data5[DS],3,data5[واحد],B12,data5[تاریخ],\">=\"&H$4,data5[تاریخ],\"<=\"&K$4),\"\")","v":0},0,0,{"$f":"IF(C12<>\"\",M12-N12+Sett!K9,\"\")","v":0},"صفر"]
[null,6,{"$f":"IFERROR(VLOOKUP(B13,sett[#Data],2,FALSE)&\" / \"&VLOOKUP(B13,sett[#Data],6,FALSE),\"\")","v":"واحد 6 / "},{"$f":"IF(C13<>\"\",SUMIFS(data5[مبلغ],data5[TY],4,data5[واحد],B13,data5[تاریخ],\">=\"&H$4,data5[تاریخ],\"<=\"&K$4),\"\")","v":0},{"$f":"IF(C13<>\"\",SUMIFS(data5[مبلغ],data5[TY],1,data5[DS],1,data5[واحد],B13,data5[تاریخ],\">=\"&H$4,data5[تاریخ],\"<=\"&K$4),\"\")","v":0},{"$f":"IF(D13<>\"\",SUMIFS(data5[نوع],data5[DS],1,data5[Total],1,data5[توضيحات],C13,data5[مبلغ],\">=\"&I$4,data5[مبلغ],\"<=\"&L$4),\"\")","v":0},{"$f":"IF(E13<>\"\",SUMIFS(data5[دسته],data5[Total],1,data5[تاریخ],1,data5[TY],D13,data5[نوع],\">=\"&J$4,data5[نوع],\"<=\"&M$4),\"\")","v":0},{"$f":"IF(F13<>\"\",SUMIFS(data5[واحد],data5[تاریخ],1,data5[مبلغ],1,data5[DS],E13,data5[دسته],\">=\"&K$4,data5[دسته],\"<=\"&N$4),\"\")","v":0},{"$f":"IF(G13<>\"\",SUMIFS(data5[توضيحات],data5[مبلغ],1,data5[نوع],1,data5[Total],F13,data5[واحد],\">=\"&L$4,data5[واحد],\"<=\"&O$4),\"\")","v":0},{"$f":"IF(C13<>\"\",SUMIFS(data5[مبلغ],data5[TY],3,data5[DS],1,data5[واحد],B13,data5[تاریخ],\">=\"&H$4,data5[تاریخ],\"<=\"&K$4),\"\")","v":0},{"$f":"IF(C13<>\"\",SUMIFS(data5[مبلغ],data5[TY],3,data5[DS],2,data5[واحد],B13,data5[تاریخ],\">=\"&H$4,data5[تاریخ],\"<=\"&K$4),\"\")","v":0},{"$f":"IF(C13<>\"\",SUMIFS(data5[مبلغ],data5[TY],3,data5[DS],3,data5[واحد],B13,data5[تاریخ],\">=\"&H$4,data5[تاریخ],\"<=\"&K$4),\"\")","v":0},0,0,{"$f":"IF(C13<>\"\",M13-N13+Sett!K10,\"\")","v":0},"صفر"]
[null,7,{"$f":"IFERROR(VLOOKUP(B14,sett[#Data],2,FALSE)&\" / \"&VLOOKUP(B14,sett[#Data],6,FALSE),\"\")","v":"واحد 7 / "},{"$f":"IF(C14<>\"\",SUMIFS(data5[مبلغ],data5[TY],4,data5[واحد],B14,data5[تاریخ],\">=\"&H$4,data5[تاریخ],\"<=\"&K$4),\"\")","v":0},{"$f":"IF(C14<>\"\",SUMIFS(data5[مبلغ],data5[TY],1,data5[DS],1,data5[واحد],B14,data5[تاریخ],\">=\"&H$4,data5[تاریخ],\"<=\"&K$4),\"\")","v":0},{"$f":"IF(D14<>\"\",SUMIFS(data5[نوع],data5[DS],1,data5[Total],1,data5[توضيحات],C14,data5[مبلغ],\">=\"&I$4,data5[مبلغ],\"<=\"&L$4),\"\")","v":0},{"$f":"IF(E14<>\"\",SUMIFS(data5[دسته],data5[Total],1,data5[تاریخ],1,data5[TY],D14,data5[نوع],\">=\"&J$4,data5[نوع],\"<=\"&M$4),\"\")","v":0},{"$f":"IF(F14<>\"\",SUMIFS(data5[واحد],data5[تاریخ],1,data5[مبلغ],1,data5[DS],E14,data5[دسته],\">=\"&K$4,data5[دسته],\"<=\"&N$4),\"\")","v":0},{"$f":"IF(G14<>\"\",SUMIFS(data5[توضيحات],data5[مبلغ],1,data5[نوع],1,data5[Total],F14,data5[واحد],\">=\"&L$4,data5[واحد],\"<=\"&O$4),\"\")","v":0},{"$f":"IF(C14<>\"\",SUMIFS(data5[مبلغ],data5[TY],3,data5[DS],1,data5[واحد],B14,data5[تاریخ],\">=\"&H$4,data5[تاریخ],\"<=\"&K$4),\"\")","v":0},{"$f":"IF(C14<>\"\",SUMIFS(data5[مبلغ],data5[TY],3,data5[DS],2,data5[واحد],B14,data5[تاریخ],\">=\"&H$4,data5[تاریخ],\"<=\"&K$4),\"\")","v":0},{"$f":"IF(C14<>\"\",SUMIFS(data5[مبلغ],data5[TY],3,data5[DS],3,data5[واحد],B14,data5[تاریخ],\">=\"&H$4,data5[تاریخ],\"<=\"&K$4),\"\")","v":0},0,0,{"$f":"IF(C14<>\"\",M14-N14+Sett!K11,\"\")","v":0},"صفر"]
[null,8,{"$f":"IFERROR(VLOOKUP(B15,sett[#Data],2,FALSE)&\" / \"&VLOOKUP(B15,sett[#Data],6,FALSE),\"\")","v":"واحد 8 / "},{"$f":"IF(C15<>\"\",SUMIFS(data5[مبلغ],data5[TY],4,data5[واحد],B15,data5[تاریخ],\">=\"&H$4,data5[تاریخ],\"<=\"&K$4),\"\")","v":0},{"$f":"IF(C15<>\"\",SUMIFS(data5[مبلغ],data5[TY],1,data5[DS],1,data5[واحد],B15,data5[تاریخ],\">=\"&H$4,data5[تاریخ],\"<=\"&K$4),\"\")","v":0},{"$f":"IF(D15<>\"\",SUMIFS(data5[نوع],data5[DS],1,data5[Total],1,data5[توضيحات],C15,data5[مبلغ],\">=\"&I$4,data5[مبلغ],\"<=\"&L$4),\"\")","v":0},{"$f":"IF(E15<>\"\",SUMIFS(data5[دسته],data5[Total],1,data5[تاریخ],1,data5[TY],D15,data5[نوع],\">=\"&J$4,data5[نوع],\"<=\"&M$4),\"\")","v":0},{"$f":"IF(F15<>\"\",SUMIFS(data5[واحد],data5[تاریخ],1,data5[مبلغ],1,data5[DS],E15,data5[دسته],\">=\"&K$4,data5[دسته],\"<=\"&N$4),\"\")","v":0},{"$f":"IF(G15<>\"\",SUMIFS(data5[توضيحات],data5[مبلغ],1,data5[نوع],1,data5[Total],F15,data5[واحد],\">=\"&L$4,data5[واحد],\"<=\"&O$4),\"\")","v":0},{"$f":"IF(C15<>\"\",SUMIFS(data5[مبلغ],data5[TY],3,data5[DS],1,data5[واحد],B15,data5[تاریخ],\">=\"&H$4,data5[تاریخ],\"<=\"&K$4),\"\")","v":0},{"$f":"IF(C15<>\"\",SUMIFS(data5[مبلغ],data5[TY],3,data5[DS],2,data5[واحد],B15,data5[تاریخ],\">=\"&H$4,data5[تاریخ],\"<=\"&K$4),\"\")","v":0},{"$f":"IF(C15<>\"\",SUMIFS(data5[مبلغ],data5[TY],3,data5[DS],3,data5[واحد],B15,data5[تاریخ],\">=\"&H$4,data5[تاریخ],\"<=\"&K$4),\"\")","v":0},0,0,{"$f":"IF(C15<>\"\",M15-N15+Sett!K12,\"\")","v":0},"صفر"]
[null,9,{"$f":"IFERROR(VLOOKUP(B16,sett[#Data],2,FALSE)&\" / \"&VLOOKUP(B16,sett[#Data],6,FALSE),\"\")","v":"واحد 9 / "},{"$f":"IF(C16<>\"\",SUMIFS(data5[مبلغ],data5[TY],4,data5[واحد],B16,data5[تاریخ],\">=\"&H$4,data5[تاریخ],\"<=\"&K$4),\"\")","v":0},{"$f":"IF(C16<>\"\",SUMIFS(data5[مبلغ],data5[TY],1,data5[DS],1,data5[واحد],B16,data5[تاریخ],\">=\"&H$4,data5[تاریخ],\"<=\"&K$4),\"\")","v":0},{"$f":"IF(D16<>\"\",SUMIFS(data5[نوع],data5[DS],1,data5[Total],1,data5[توضيحات],C16,data5[مبلغ],\">=\"&I$4,data5[مبلغ],\"<=\"&L$4),\"\")","v":0},{"$f":"IF(E16<>\"\",SUMIFS(data5[دسته],data5[Total],1,data5[تاریخ],1,data5[TY],D16,data5[نوع],\">=\"&J$4,data5[نوع],\"<=\"&M$4),\"\")","v":0},{"$f":"IF(F16<>\"\",SUMIFS(data5[واحد],data5[تاریخ],1,data5[مبلغ],1,data5[DS],E16,data5[دسته],\">=\"&K$4,data5[دسته],\"<=\"&N$4),\"\")","v":0},{"$f":"IF(G16<>\"\",SUMIFS(data5[توضيحات],data5[مبلغ],1,data5[نوع],1,data5[Total],F16,data5[واحد],\">=\"&L$4,data5[واحد],\"<=\"&O$4),\"\")","v":0},{"$f":"IF(C16<>\"\",SUMIFS(data5[مبلغ],data5[TY],3,data5[DS],1,data5[واحد],B16,data5[تاریخ],\">=\"&H$4,data5[تاریخ],\"<=\"&K$4),\"\")","v":0},{"$f":"IF(C16<>\"\",SUMIFS(data5[مبلغ],data5[TY],3,data5[DS],2,data5[واحد],B16,data5[تاریخ],\">=\"&H$4,data5[تاریخ],\"<=\"&K$4),\"\")","v":0},{"$f":"IF(C16<>\"\",SUMIFS(data5[مبلغ],data5[TY],3,data5[DS],3,data5[واحد],B16,data5[تاریخ],\">=\"&H$4,data5[تاریخ],\"<=\"&K$4),\"\")","v":0},0,0,{"$f":"IF(C16<>\"\",M16-N16+Sett!K13,\"\")","v":0},"صفر"]
[null,10,{"$f":"IFERROR(VLOOKUP(B17,sett[#Data],2,FALSE)&\" / \"&VLOOKUP(B17,sett[#Data],6,FALSE),\"\")","v":"واحد 10 / "},{"$f":"IF(C17<>\"\",SUMIFS(data5[مبلغ],data5[TY],4,data5[واحد],B17,data5[تاریخ],\">=\"&H$4,data5[تاریخ],\"<=\"&K$4),\"\")","v":0},{"$f":"IF(C17<>\"\",SUMIFS(data5[مبلغ],data5[TY],1,data5[DS],1,data5[واحد],B17,data5[تاریخ],\">=\"&H$4,data5[تاریخ],\"<=\"&K$4),\"\")","v":0},{"$f":"IF(D17<>\"\",SUMIFS(data5[نوع],data5[DS],1,data5[Total],1,data5[توضيحات],C17,data5[مبلغ],\">=\"&I$4,data5[مبلغ],\"<=\"&L$4),\"\")","v":0},{"$f":"IF(E17<>\"\",SUMIFS(data5[دسته],data5[Total],1,data5[تاریخ],1,data5[TY],D17,data5[نوع],\">=\"&J$4,data5[نوع],\"<=\"&M$4),\"\")","v":0},{"$f":"IF(F17<>\"\",SUMIFS(data5[واحد],data5[تاریخ],1,data5[مبلغ],1,data5[DS],E17,data5[دسته],\">=\"&K$4,data5[دسته],\"<=\"&N$4),\"\")","v":0},{"$f":"IF(G17<>\"\",SUMIFS(data5[توضيحات],data5[مبلغ],1,data5[نوع],1,data5[Total],F17,data5[واحد],\">=\"&L$4,data5[واحد],\"<=\"&O$4),\"\")","v":0},{"$f":"IF(C17<>\"\",SUMIFS(data5[مبلغ],data5[TY],3,data5[DS],1,data5[واحد],B17,data5[تاریخ],\">=\"&H$4,data5[تاریخ],\"<=\"&K$4),\"\")","v":0},{"$f":"IF(C17<>\"\",SUMIFS(data5[مبلغ],data5[TY],3,data5[DS],2,data5[واحد],B17,data5[تاریخ],\">=\"&H$4,data5[تاریخ],\"<=\"&K$4),\"\")","v":0},{"$f":"IF(C17<>\"\",SUMIFS(data5[مبلغ],data5[TY],3,data5[DS],3,data5[واحد],B17,data5[تاریخ],\">=\"&H$4,data5[تاریخ],\"<=\"&K$4),\"\")","v":0},0,0,{"$f":"IF(C17<>\"\",M17-N17+Sett!K14,\"\")","v":0},"صفر"]
[null,11,{"$f":"IFERROR(VLOOKUP(B18,sett[#Data],2,FALSE)&\" / \"&VLOOKUP(B18,sett[#Data],6,FALSE),\"\")","v":"واحد 11 / "},{"$f":"IF(C18<>\"\",SUMIFS(data5[مبلغ],data5[TY],4,data5[واحد],B18,data5[تاریخ],\">=\"&H$4,data5[تاریخ],\"<=\"&K$4),\"\")","v":0},{"$f":"IF(C18<>\"\",SUMIFS(data5[مبلغ],data5[TY],1,data5[DS],1,data5[واحد],B18,data5[تاریخ],\">=\"&H$4,data5[تاریخ],\"<=\"&K$4),\"\")","v":0},{"$f":"IF(D18<>\"\",SUMIFS(data5[نوع],data5[DS],1,data5[Total],1,data5[توضيحات],C18,data5[مبلغ],\">=\"&I$4,data5[مبلغ],\"<=\"&L$4),\"\")","v":0},{"$f":"IF(E18<>\"\",SUMIFS(data5[دسته],data5[Total],1,data5[تاریخ],1,data5[TY],D18,data5[نوع],\">=\"&J$4,data5[نوع],\"<=\"&M$4),\"\")","v":0},{"$f":"IF(F18<>\"\",SUMIFS(data5[واحد],data5[تاریخ],1,data5[مبلغ],1,data5[DS],E18,data5[دسته],\">=\"&K$4,data5[دسته],\"<=\"&N$4),\"\")","v":0},{"$f":"IF(G18<>\"\",SUMIFS(data5[توضيحات],data5[مبلغ],1,data5[نوع],1,data5[Total],F18,data5[واحد],\">=\"&L$4,data5[واحد],\"<=\"&O$4),\"\")","v":0},{"$f":"IF(C18<>\"\",SUMIFS(data5[مبلغ],data5[TY],3,data5[DS],1,data5[واحد],B18,data5[تاریخ],\">=\"&H$4,data5[تاریخ],\"<=\"&K$4),\"\")","v":0},{"$f":"IF(C18<>\"\",SUMIFS(data5[مبلغ],data5[TY],3,data5[DS],2,data5[واحد],B18,data5[تاریخ],\">=\"&H$4,data5[تاریخ],\"<=\"&K$4),\"\")","v":0},{"$f":"IF(C18<>\"\",SUMIFS(data5[مبلغ],data5[TY],3,data5[DS],3,data5[واحد],B18,data5[تاریخ],\">=\"&H$4,data5[تاریخ],\"<=\"&K$4),\"\")","v":0},0,0,{"$f":"IF(C18<>\"\",M18-N18+Sett!K15,\"\")","v":0},"صفر"]
[null,12,{"$f":"IFERROR(VLOOKUP(B19,sett[#Data],2,FALSE)&\" / \"&VLOOKUP(B19,sett[#Data],6,FALSE),\"\")","v":"واحد 12 / "},{"$f":"IF(C19<>\"\",SUMIFS(data5[مبلغ],data5[TY],4,data5[واحد],B19,data5[تاریخ],\">=\"&H$4,data5[تاریخ],\"<=\"&K$4),\"\")","v":0},{"$f":"IF(C19<>\"\",SUMIFS(data5[مبلغ],data5[TY],1,data5[DS],1,data5[واحد],B19,data5[تاریخ],\">=\"&H$4,data5[تاریخ],\"<=\"&K$4),\"\")","v":0},{"$f":"IF(D19<>\"\",SUMIFS(data5[نوع],data5[DS],1,data5[Total],1,data5[توضيحات],C19,data5[مبلغ],\">=\"&I$4,data5[مبلغ],\"<=\"&L$4),\"\")","v":0},{"$f":"IF(E19<>\"\",SUMIFS(data5[دسته],data5[Total],1,data5[تاریخ],1,data5[TY],D19,data5[نوع],\">=\"&J$4,data5[نوع],\"<=\"&M$4),\"\")","v":0},{"$f":"IF(F19<>\"\",SUMIFS(data5[واحد],data5[تاریخ],1,data5[مبلغ],1,data5[DS],E19,data5[دسته],\">=\"&K$4,data5[دسته],\"<=\"&N$4),\"\")","v":0},{"$f":"IF(G19<>\"\",SUMIFS(data5[توضيحات],data5[مبلغ],1,data5[نوع],1,data5[Total],F19,data5[واحد],\">=\"&L$4,data5[واحد],\"<=\"&O$4),\"\")","v":0},{"$f":"IF(C19<>\"\",SUMIFS(data5[مبلغ],data5[TY],3,data5[DS],1,data5[واحد],B19,data5[تاریخ],\">=\"&H$4,data5[تاریخ],\"<=\"&K$4),\"\")","v":0},{"$f":"IF(C19<>\"\",SUMIFS(data5[مبلغ],data5[TY],3,data5[DS],2,data5[واحد],B19,data5[تاریخ],\">=\"&H$4,data5[تاریخ],\"<=\"&K$4),\"\")","v":0},{"$f":"IF(C19<>\"\",SUMIFS(data5[مبلغ],data5[TY],3,data5[DS],3,data5[واحد],B19,data5[تاریخ],\">=\"&H$4,data5[تاریخ],\"<=\"&K$4),\"\")","v":0},0,0,{"$f":"IF(C19<>\"\",M19-N19+Sett!K16,\"\")","v":0},"صفر"]
[null,13,{"$f":"IFERROR(VLOOKUP(B20,sett[#Data],2,FALSE)&\" / \"&VLOOKUP(B20,sett[#Data],6,FALSE),\"\")","v":"واحد 13 / "},{"$f":"IF(C20<>\"\",SUMIFS(data5[مبلغ],data5[TY],4,data5[واحد],B20,data5[تاریخ],\">=\"&H$4,data5[تاریخ],\"<=\"&K$4),\"\")","v":0},{"$f":"IF(C20<>\"\",SUMIFS(data5[مبلغ],data5[TY],1,data5[DS],1,data5[واحد],B20,data5[تاریخ],\">=\"&H$4,data5[تاریخ],\"<=\"&K$4),\"\")","v":0},{"$f":"IF(D20<>\"\",SUMIFS(data5[نوع],data5[DS],1,data5[Total],1,data5[توضيحات],C20,data5[مبلغ],\">=\"&I$4,data5[مبلغ],\"<=\"&L$4),\"\")","v":0},{"$f":"IF(E20<>\"\",SUMIFS(data5[دسته],data5[Total],1,data5[تاریخ],1,data5[TY],D20,data5[نوع],\">=\"&J$4,data5[نوع],\"<=\"&M$4),\"\")","v":0},{"$f":"IF(F20<>\"\",SUMIFS(data5[واحد],data5[تاریخ],1,data5[مبلغ],1,data5[DS],E20,data5[دسته],\">=\"&K$4,data5[دسته],\"<=\"&N$4),\"\")","v":0},{"$f":"IF(G20<>\"\",SUMIFS(data5[توضيحات],data5[مبلغ],1,data5[نوع],1,data5[Total],F20,data5[واحد],\">=\"&L$4,data5[واحد],\"<=\"&O$4),\"\")","v":0},{"$f":"IF(C20<>\"\",SUMIFS(data5[مبلغ],data5[TY],3,data5[DS],1,data5[واحد],B20,data5[تاریخ],\">=\"&H$4,data5[تاریخ],\"<=\"&K$4),\"\")","v":0},{"$f":"IF(C20<>\"\",SUMIFS(data5[مبلغ],data5[TY],3,data5[DS],2,data5[واحد],B20,data5[تاریخ],\">=\"&H$4,data5[تاریخ],\"<=\"&K$4),\"\")","v":0},{"$f":"IF(C20<>\"\",SUMIFS(data5[مبلغ],data5[TY],3,data5[DS],3,data5[واحد],B20,data5[تاریخ],\">=\"&H$4,data5[تاریخ],\"<=\"&K$4),\"\")","v":0},0,0,{"$f":"IF(C20<>\"\",M20-N20+Sett!K17,\"\")","v":0},"صفر"]
[null,14,{"$f":"IFERROR(VLOOKUP(B21,sett[#Data],2,FALSE)&\" / \"&VLOOKUP(B21,sett[#Data],6,FALSE),\"\")","v":"واحد 14 / "},{"$f":"IF(C21<>\"\",SUMIFS(data5[مبلغ],data5[TY],4,data5[واحد],B21,data5[تاریخ],\">=\"&H$4,data5[تاریخ],\"<=\"&K$4),\"\")","v":0},{"$f":"IF(C21<>\"\",SUMIFS(data5[مبلغ],data5[TY],1,data5[DS],1,data5[واحد],B21,data5[تاریخ],\">=\"&H$4,data5[تاریخ],\"<=\"&K$4),\"\")","v":0},{"$f":"IF(D21<>\"\",SUMIFS(data5[نوع],data5[DS],1,data5[Total],1,data5[توضيحات],C21,data5[مبلغ],\">=\"&I$4,data5[مبلغ],\"<=\"&L$4),\"\")","v":0},{"$f":"IF(E21<>\"\",SUMIFS(data5[دسته],data5[Total],1,data5[تاریخ],1,data5[TY],D21,data5[نوع],\">=\"&J$4,data5[نوع],\"<=\"&M$4),\"\")","v":0},{"$f":"IF(F21<>\"\",SUMIFS(data5[واحد],data5[تاریخ],1,data5[مبلغ],1,data5[DS],E21,data5[دسته],\">=\"&K$4,data5[دسته],\"<=\"&N$4),\"\")","v":0},{"$f":"IF(G21<>\"\",SUMIFS(data5[توضيحات],data5[مبلغ],1,data5[نوع],1,data5[Total],F21,data5[واحد],\">=\"&L$4,data5[واحد],\"<=\"&O$4),\"\")","v":0},{"$f":"IF(C21<>\"\",SUMIFS(data5[مبلغ],data5[TY],3,data5[DS],1,data5[واحد],B21,data5[تاریخ],\">=\"&H$4,data5[تاریخ],\"<=\"&K$4),\"\")","v":0},{"$f":"IF(C21<>\"\",SUMIFS(data5[مبلغ],data5[TY],3,data5[DS],2,data5[واحد],B21,data5[تاریخ],\">=\"&H$4,data5[تاریخ],\"<=\"&K$4),\"\")","v":0},{"$f":"IF(C21<>\"\",SUMIFS(data5[مبلغ],data5[TY],3,data5[DS],3,data5[واحد],B21,data5[تاریخ],\">=\"&H$4,data5[تاریخ],\"<=\"&K$4),\"\")","v":0},0,0,{"$f":"IF(C21<>\"\",M21-N21+Sett!K18,\"\")","v":0},"صفر"]
[null,15,{"$f":"IFERROR(VLOOKUP(B22,sett[#Data],2,FALSE)&\" / \"&VLOOKUP(B22,sett[#Data],6,FALSE),\"\")","v":"واحد 15 / "},{"$f":"IF(C22<>\"\",SUMIFS(data5[مبلغ],data5[TY],4,data5[واحد],B22,data5[تاریخ],\">=\"&H$4,data5[تاریخ],\"<=\"&K$4),\"\")","v":0},{"$f":"IF(C22<>\"\",SUMIFS(data5[مبلغ],data5[TY],1,data5[DS],1,data5[واحد],B22,data5[تاریخ],\">=\"&H$4,data5[تاریخ],\"<=\"&K$4),\"\")","v":0},{"$f":"IF(D22<>\"\",SUMIFS(data5[نوع],data5[DS],1,data5[Total],1,data5[توضيحات],C22,data5[مبلغ],\">=\"&I$4,data5[مبلغ],\"<=\"&L$4),\"\")","v":0},{"$f":"IF(E22<>\"\",SUMIFS(data5[دسته],data5[Total],1,data5[تاریخ],1,data5[TY],D22,data5[نوع],\">=\"&J$4,data5[نوع],\"<=\"&M$4),\"\")","v":0},{"$f":"IF(F22<>\"\",SUMIFS(data5[واحد],data5[تاریخ],1,data5[مبلغ],1,data5[DS],E22,data5[دسته],\">=\"&K$4,data5[دسته],\"<=\"&N$4),\"\")","v":0},{"$f":"IF(G22<>\"\",SUMIFS(data5[توضيحات],data5[مبلغ],1,data5[نوع],1,data5[Total],F22,data5[واحد],\">=\"&L$4,data5[واحد],\"<=\"&O$4),\"\")","v":0},{"$f":"IF(C22<>\"\",SUMIFS(data5[مبلغ],data5[TY],3,data5[DS],1,data5[واحد],B22,data5[تاریخ],\">=\"&H$4,data5[تاریخ],\"<=\"&K$4),\"\")","v":0},{"$f":"IF(C22<>\"\",SUMIFS(data5[مبلغ],data5[TY],3,data5[DS],2,data5[واحد],B22,data5[تاریخ],\">=\"&H$4,data5[تاریخ],\"<=\"&K$4),\"\")","v":0},{"$f":"IF(C22<>\"\",SUMIFS(data5[مبلغ],data5[TY],3,data5[DS],3,data5[واحد],B22,data5[تاریخ],\">=\"&H$4,data5[تاریخ],\"<=\"&K$4),\"\")","v":0},0,0,{"$f":"IF(C22<>\"\",M22-N22+Sett!K19,\"\")","v":0},"صفر"]
[null,16,{"$f":"IFERROR(VLOOKUP(B23,sett[#Data],2,FALSE)&\" / \"&VLOOKUP(B23,sett[#Data],6,FALSE),\"\")","v":"واحد 16 / "},{"$f":"IF(C23<>\"\",SUMIFS(data5[مبلغ],data5[TY],4,data5[واحد],B23,data5[تاریخ],\">=\"&H$4,data5[تاریخ],\"<=\"&K$4),\"\")","v":0},{"$f":"IF(C23<>\"\",SUMIFS(data5[مبلغ],data5[TY],1,data5[DS],1,data5[واحد],B23,data5[تاریخ],\">=\"&H$4,data5[تاریخ],\"<=\"&K$4),\"\")","v":0},{"$f":"IF(D23<>\"\",SUMIFS(data5[نوع],data5[DS],1,data5[Total],1,data5[توضيحات],C23,data5[مبلغ],\">=\"&I$4,data5[مبلغ],\"<=\"&L$4),\"\")","v":0},{"$f":"IF(E23<>\"\",SUMIFS(data5[دسته],data5[Total],1,data5[تاریخ],1,data5[TY],D23,data5[نوع],\">=\"&J$4,data5[نوع],\"<=\"&M$4),\"\")","v":0},{"$f":"IF(F23<>\"\",SUMIFS(data5[واحد],data5[تاریخ],1,data5[مبلغ],1,data5[DS],E23,data5[دسته],\">=\"&K$4,data5[دسته],\"<=\"&N$4),\"\")","v":0},{"$f":"IF(G23<>\"\",SUMIFS(data5[توضيحات],data5[مبلغ],1,data5[نوع],1,data5[Total],F23,data5[واحد],\">=\"&L$4,data5[واحد],\"<=\"&O$4),\"\")","v":0},{"$f":"IF(C23<>\"\",SUMIFS(data5[مبلغ],data5[TY],3,data5[DS],1,data5[واحد],B23,data5[تاریخ],\">=\"&H$4,data5[تاریخ],\"<=\"&K$4),\"\")","v":0},{"$f":"IF(C23<>\"\",SUMIFS(data5[مبلغ],data5[TY],3,data5[DS],2,data5[واحد],B23,data5[تاریخ],\">=\"&H$4,data5[تاریخ],\"<=\"&K$4),\"\")","v":0},{"$f":"IF(C23<>\"\",SUMIFS(data5[مبلغ],data5[TY],3,data5[DS],3,data5[واحد],B23,data5[تاریخ],\">=\"&H$4,data5[تاریخ],\"<=\"&K$4),\"\")","v":0},0,0,{"$f":"IF(C23<>\"\",M23-N23+Sett!K20,\"\")","v":0},"صفر"]
[null,17,{"$f":"IFERROR(VLOOKUP(B24,sett[#Data],2,FALSE)&\" / \"&VLOOKUP(B24,sett[#Data],6,FALSE),\"\")","v":"واحد 17 / "},{"$f":"IF(C24<>\"\",SUMIFS(data5[مبلغ],data5[TY],4,data5[واحد],B24,data5[تاریخ],\">=\"&H$4,data5[تاریخ],\"<=\"&K$4),\"\")","v":0},{"$f":"IF(C24<>\"\",SUMIFS(data5[مبلغ],data5[TY],1,data5[DS],1,data5[واحد],B24,data5[تاریخ],\">=\"&H$4,data5[تاریخ],\"<=\"&K$4),\"\")","v":0},{"$f":"IF(D24<>\"\",SUMIFS(data5[نوع],data5[DS],1,data5[Total],1,data5[توضيحات],C24,data5[مبلغ],\">=\"&I$4,data5[مبلغ],\"<=\"&L$4),\"\")","v":0},{"$f":"IF(E24<>\"\",SUMIFS(data5[دسته],data5[Total],1,data5[تاریخ],1,data5[TY],D24,data5[نوع],\">=\"&J$4,data5[نوع],\"<=\"&M$4),\"\")","v":0},{"$f":"IF(F24<>\"\",SUMIFS(data5[واحد],data5[تاریخ],1,data5[مبلغ],1,data5[DS],E24,data5[دسته],\">=\"&K$4,data5[دسته],\"<=\"&N$4),\"\")","v":0},{"$f":"IF(G24<>\"\",SUMIFS(data5[توضيحات],data5[مبلغ],1,data5[نوع],1,data5[Total],F24,data5[واحد],\">=\"&L$4,data5[واحد],\"<=\"&O$4),\"\")","v":0},{"$f":"IF(C24<>\"\",SUMIFS(data5[مبلغ],data5[TY],3,data5[DS],1,data5[واحد],B24,data5[تاریخ],\">=\"&H$4,data5[تاریخ],\"<=\"&K$4),\"\")","v":0},{"$f":"IF(C24<>\"\",SUMIFS(data5[مبلغ],data5[TY],3,data5[DS],2,data5[واحد],B24,data5[تاریخ],\">=\"&H$4,data5[تاریخ],\"<=\"&K$4),\"\")","v":0},{"$f":"IF(C24<>\"\",SUMIFS(data5[مبلغ],data5[TY],3,data5[DS],3,data5[واحد],B24,data5[تاریخ],\">=\"&H$4,data5[تاریخ],\"<=\"&K$4),\"\")","v":0},0,0,{"$f":"IF(C24<>\"\",M24-N24+Sett!K21,\"\")","v":0},"صفر"]
[null,18,{"$f":"IFERROR(VLOOKUP(B25,sett[#Data],2,FALSE)&\" / \"&VLOOKUP(B25,sett[#Data],6,FALSE),\"\")","v":"واحد 18 / "},{"$f":"IF(C25<>\"\",SUMIFS(data5[مبلغ],data5[TY],4,data5[واحد],B25,data5[تاریخ],\">=\"&H$4,data5[تاریخ],\"<=\"&K$4),\"\")","v":0},{"$f":"IF(C25<>\"\",SUMIFS(data5[مبلغ],data5[TY],1,data5[DS],1,data5[واحد],B25,data5[تاریخ],\">=\"&H$4,data5[تاریخ],\"<=\"&K$4),\"\")","v":0},{"$f":"IF(D25<>\"\",SUMIFS(data5[نوع],data5[DS],1,data5[Total],1,data5[توضيحات],C25,data5[مبلغ],\">=\"&I$4,data5[مبلغ],\"<=\"&L$4),\"\")","v":0},{"$f":"IF(E25<>\"\",SUMIFS(data5[دسته],data5[Total],1,data5[تاریخ],1,data5[TY],D25,data5[نوع],\">=\"&J$4,data5[نوع],\"<=\"&M$4),\"\")","v":0},{"$f":"IF(F25<>\"\",SUMIFS(data5[واحد],data5[تاریخ],1,data5[مبلغ],1,data5[DS],E25,data5[دسته],\">=\"&K$4,data5[دسته],\"<=\"&N$4),\"\")","v":0},{"$f":"IF(G25<>\"\",SUMIFS(data5[توضيحات],data5[مبلغ],1,data5[نوع],1,data5[Total],F25,data5[واحد],\">=\"&L$4,data5[واحد],\"<=\"&O$4),\"\")","v":0},{"$f":"IF(C25<>\"\",SUMIFS(data5[مبلغ],data5[TY],3,data5[DS],1,data5[واحد],B25,data5[تاریخ],\">=\"&H$4,data5[تاریخ],\"<=\"&K$4),\"\")","v":0},{"$f":"IF(C25<>\"\",SUMIFS(data5[مبلغ],data5[TY],3,data5[DS],2,data5[واحد],B25,data5[تاریخ],\">=\"&H$4,data5[تاریخ],\"<=\"&K$4),\"\")","v":0},{"$f":"IF(C25<>\"\",SUMIFS(data5[مبلغ],data5[TY],3,data5[DS],3,data5[واحد],B25,data5[تاریخ],\">=\"&H$4,data5[تاریخ],\"<=\"&K$4),\"\")","v":0},0,0,{"$f":"IF(C25<>\"\",M25-N25+Sett!K22,\"\")","v":0},"صفر"]
[null,19,{"$f":"IFERROR(VLOOKUP(B26,sett[#Data],2,FALSE)&\" / \"&VLOOKUP(B26,sett[#Data],6,FALSE),\"\")","v":"واحد 19 / "},{"$f":"IF(C26<>\"\",SUMIFS(data5[مبلغ],data5[TY],4,data5[واحد],B26,data5[تاریخ],\">=\"&H$4,data5[تاریخ],\"<=\"&K$4),\"\")","v":0},{"$f":"IF(C26<>\"\",SUMIFS(data5[مبلغ],data5[TY],1,data5[DS],1,data5[واحد],B26,data5[تاریخ],\">=\"&H$4,data5[تاریخ],\"<=\"&K$4),\"\")","v":0},{"$f":"IF(D26<>\"\",SUMIFS(data5[نوع],data5[DS],1,data5[Total],1,data5[توضيحات],C26,data5[مبلغ],\">=\"&I$4,data5[مبلغ],\"<=\"&L$4),\"\")","v":0},{"$f":"IF(E26<>\"\",SUMIFS(data5[دسته],data5[Total],1,data5[تاریخ],1,data5[TY],D26,data5[نوع],\">=\"&J$4,data5[نوع],\"<=\"&M$4),\"\")","v":0},{"$f":"IF(F26<>\"\",SUMIFS(data5[واحد],data5[تاریخ],1,data5[مبلغ],1,data5[DS],E26,data5[دسته],\">=\"&K$4,data5[دسته],\"<=\"&N$4),\"\")","v":0},{"$f":"IF(G26<>\"\",SUMIFS(data5[توضيحات],data5[مبلغ],1,data5[نوع],1,data5[Total],F26,data5[واحد],\">=\"&L$4,data5[واحد],\"<=\"&O$4),\"\")","v":0},{"$f":"IF(C26<>\"\",SUMIFS(data5[مبلغ],data5[TY],3,data5[DS],1,data5[واحد],B26,data5[تاریخ],\">=\"&H$4,data5[تاریخ],\"<=\"&K$4),\"\")","v":0},{"$f":"IF(C26<>\"\",SUMIFS(data5[مبلغ],data5[TY],3,data5[DS],2,data5[واحد],B26,data5[تاریخ],\">=\"&H$4,data5[تاریخ],\"<=\"&K$4),\"\")","v":0},{"$f":"IF(C26<>\"\",SUMIFS(data5[مبلغ],data5[TY],3,data5[DS],3,data5[واحد],B26,data5[تاریخ],\">=\"&H$4,data5[تاریخ],\"<=\"&K$4),\"\")","v":0},0,0,{"$f":"IF(C26<>\"\",M26-N26+Sett!K23,\"\")","v":0},"صفر"]
[null,20,{"$f":"IFERROR(VLOOKUP(B27,sett[#Data],2,FALSE)&\" / \"&VLOOKUP(B27,sett[#Data],6,FALSE),\"\")","v":"واحد 20 / "},{"$f":"IF(C27<>\"\",SUMIFS(data5[مبلغ],data5[TY],4,data5[واحد],B27,data5[تاریخ],\">=\"&H$4,data5[تاریخ],\"<=\"&K$4),\"\")","v":0},{"$f":"IF(C27<>\"\",SUMIFS(data5[مبلغ],data5[TY],1,data5[DS],1,data5[واحد],B27,data5[تاریخ],\">=\"&H$4,data5[تاریخ],\"<=\"&K$4),\"\")","v":0},{"$f":"IF(D27<>\"\",SUMIFS(data5[نوع],data5[DS],1,data5[Total],1,data5[توضيحات],C27,data5[مبلغ],\">=\"&I$4,data5[مبلغ],\"<=\"&L$4),\"\")","v":0},{"$f":"IF(E27<>\"\",SUMIFS(data5[دسته],data5[Total],1,data5[تاریخ],1,data5[TY],D27,data5[نوع],\">=\"&J$4,data5[نوع],\"<=\"&M$4),\"\")","v":0},{"$f":"IF(F27<>\"\",SUMIFS(data5[واحد],data5[تاریخ],1,data5[مبلغ],1,data5[DS],E27,data5[دسته],\">=\"&K$4,data5[دسته],\"<=\"&N$4),\"\")","v":0},{"$f":"IF(G27<>\"\",SUMIFS(data5[توضيحات],data5[مبلغ],1,data5[نوع],1,data5[Total],F27,data5[واحد],\">=\"&L$4,data5[واحد],\"<=\"&O$4),\"\")","v":0},{"$f":"IF(C27<>\"\",SUMIFS(data5[مبلغ],data5[TY],3,data5[DS],1,data5[واحد],B27,data5[تاریخ],\">=\"&H$4,data5[تاریخ],\"<=\"&K$4),\"\")","v":0},{"$f":"IF(C27<>\"\",SUMIFS(data5[مبلغ],data5[TY],3,data5[DS],2,data5[واحد],B27,data5[تاریخ],\">=\"&H$4,data5[تاریخ],\"<=\"&K$4),\"\")","v":0},{"$f":"IF(C27<>\"\",SUMIFS(data5[مبلغ],data5[TY],3,data5[DS],3,data5[واحد],B27,data5[تاریخ],\">=\"&H$4,data5[تاریخ],\"<=\"&K$4),\"\")","v":0},0,0,{"$f":"IF(C27<>\"\",M27-N27+Sett!K24,\"\")","v":0},"صفر"]
[null,21,{"$f":"IFERROR(VLOOKUP(B28,sett[#Data],2,FALSE)&\" / \"&VLOOKUP(B28,sett[#Data],6,FALSE),\"\")","v":" / "},{"$f":"IF(C28<>\"\",SUMIFS(data5[مبلغ],data5[TY],4,data5[واحد],B28,data5[تاریخ],\">=\"&H$4,data5[تاریخ],\"<=\"&K$4),\"\")","v":0},{"$f":"IF(C28<>\"\",SUMIFS(data5[مبلغ],data5[TY],1,data5[DS],1,data5[واحد],B28,data5[تاریخ],\">=\"&H$4,data5[تاریخ],\"<=\"&K$4),\"\")","v":0},{"$f":"IF(D28<>\"\",SUMIFS(data5[نوع],data5[DS],1,data5[Total],1,data5[توضيحات],C28,data5[مبلغ],\">=\"&I$4,data5[مبلغ],\"<=\"&L$4),\"\")","v":0},{"$f":"IF(E28<>\"\",SUMIFS(data5[دسته],data5[Total],1,data5[تاریخ],1,data5[TY],D28,data5[نوع],\">=\"&J$4,data5[نوع],\"<=\"&M$4),\"\")","v":0},{"$f":"IF(F28<>\"\",SUMIFS(data5[واحد],data5[تاریخ],1,data5[مبلغ],1,data5[DS],E28,data5[دسته],\">=\"&K$4,data5[دسته],\"<=\"&N$4),\"\")","v":0},{"$f":"IF(G28<>\"\",SUMIFS(data5[توضيحات],data5[مبلغ],1,data5[نوع],1,data5[Total],F28,data5[واحد],\">=\"&L$4,data5[واحد],\"<=\"&O$4),\"\")","v":0},{"$f":"IF(C28<>\"\",SUMIFS(data5[مبلغ],data5[TY],3,data5[DS],1,data5[واحد],B28,data5[تاریخ],\">=\"&H$4,data5[تاریخ],\"<=\"&K$4),\"\")","v":0},{"$f":"IF(C28<>\"\",SUMIFS(data5[مبلغ],data5[TY],3,data5[DS],2,data5[واحد],B28,data5[تاریخ],\">=\"&H$4,data5[تاریخ],\"<=\"&K$4),\"\")","v":0},{"$f":"IF(C28<>\"\",SUMIFS(data5[مبلغ],data5[TY],3,data5[DS],3,data5[واحد],B28,data5[تاریخ],\">=\"&H$4,data5[تاریخ],\"<=\"&K$4),\"\")","v":0},0,0,{"$f":"IF(C28<>\"\",M28-N28+Sett!K25,\"\")","v":0},"صفر"]
[null,22,{"$f":"IFERROR(VLOOKUP(B29,sett[#Data],2,FALSE)&\" / \"&VLOOKUP(B29,sett[#Data],6,FALSE),\"\")","v":" / "},{"$f":"IF(C29<>\"\",SUMIFS(data5[مبلغ],data5[TY],4,data5[واحد],B29,data5[تاریخ],\">=\"&H$4,data5[تاریخ],\"<=\"&K$4),\"\")","v":0},{"$f":"IF(C29<>\"\",SUMIFS(data5[مبلغ],data5[TY],1,data5[DS],1,data5[واحد],B29,data5[تاریخ],\">=\"&H$4,data5[تاریخ],\"<=\"&K$4),\"\")","v":0},{"$f":"IF(D29<>\"\",SUMIFS(data5[نوع],data5[DS],1,data5[Total],1,data5[توضيحات],C29,data5[مبلغ],\">=\"&I$4,data5[مبلغ],\"<=\"&L$4),\"\")","v":0},{"$f":"IF(E29<>\"\",SUMIFS(data5[دسته],data5[Total],1,data5[تاریخ],1,data5[TY],D29,data5[نوع],\">=\"&J$4,data5[نوع],\"<=\"&M$4),\"\")","v":0},{"$f":"IF(F29<>\"\",SUMIFS(data5[واحد],data5[تاریخ],1,data5[مبلغ],1,data5[DS],E29,data5[دسته],\">=\"&K$4,data5[دسته],\"<=\"&N$4),\"\")","v":0},{"$f":"IF(G29<>\"\",SUMIFS(data5[توضيحات],data5[مبلغ],1,data5[نوع],1,data5[Total],F29,data5[واحد],\">=\"&L$4,data5[واحد],\"<=\"&O$4),\"\")","v":0},{"$f":"IF(C29<>\"\",SUMIFS(data5[مبلغ],data5[TY],3,data5[DS],1,data5[واحد],B29,data5[تاریخ],\">=\"&H$4,data5[تاریخ],\"<=\"&K$4),\"\")","v":0},{"$f":"IF(C29<>\"\",SUMIFS(data5[مبلغ],data5[TY],3,data5[DS],2,data5[واحد],B29,data5[تاریخ],\">=\"&H$4,data5[تاریخ],\"<=\"&K$4),\"\")","v":0},{"$f":"IF(C29<>\"\",SUMIFS(data5[مبلغ],data5[TY],3,data5[DS],3,data5[واحد],B29,data5[تاریخ],\">=\"&H$4,data5[تاریخ],\"<=\"&K$4),\"\")","v":0},0,0,{"$f":"IF(C29<>\"\",M29-N29+Sett!K26,\"\")","v":0},"صفر"]
[null,23,{"$f":"IFERROR(VLOOKUP(B30,sett[#Data],2,FALSE)&\" / \"&VLOOKUP(B30,sett[#Data],6,FALSE),\"\")","v":" / "},{"$f":"IF(C30<>\"\",SUMIFS(data5[مبلغ],data5[TY],4,data5[واحد],B30,data5[تاریخ],\">=\"&H$4,data5[تاریخ],\"<=\"&K$4),\"\")","v":0},{"$f":"IF(C30<>\"\",SUMIFS(data5[مبلغ],data5[TY],1,data5[DS],1,data5[واحد],B30,data5[تاریخ],\">=\"&H$4,data5[تاریخ],\"<=\"&K$4),\"\")","v":0},{"$f":"IF(D30<>\"\",SUMIFS(data5[نوع],data5[DS],1,data5[Total],1,data5[توضيحات],C30,data5[مبلغ],\">=\"&I$4,data5[مبلغ],\"<=\"&L$4),\"\")","v":0},{"$f":"IF(E30<>\"\",SUMIFS(data5[دسته],data5[Total],1,data5[تاریخ],1,data5[TY],D30,data5[نوع],\">=\"&J$4,data5[نوع],\"<=\"&M$4),\"\")","v":0},{"$f":"IF(F30<>\"\",SUMIFS(data5[واحد],data5[تاریخ],1,data5[مبلغ],1,data5[DS],E30,data5[دسته],\">=\"&K$4,data5[دسته],\"<=\"&N$4),\"\")","v":0},{"$f":"IF(G30<>\"\",SUMIFS(data5[توضيحات],data5[مبلغ],1,data5[نوع],1,data5[Total],F30,data5[واحد],\">=\"&L$4,data5[واحد],\"<=\"&O$4),\"\")","v":0},{"$f":"IF(C30<>\"\",SUMIFS(data5[مبلغ],data5[TY],3,data5[DS],1,data5[واحد],B30,data5[تاریخ],\">=\"&H$4,data5[تاریخ],\"<=\"&K$4),\"\")","v":0},{"$f":"IF(C30<>\"\",SUMIFS(data5[مبلغ],data5[TY],3,data5[DS],2,data5[واحد],B30,data5[تاریخ],\">=\"&H$4,data5[تاریخ],\"<=\"&K$4),\"\")","v":0},{"$f":"IF(C30<>\"\",SUMIFS(data5[مبلغ],data5[TY],3,data5[DS],3,data5[واحد],B30,data5[تاریخ],\">=\"&H$4,data5[تاریخ],\"<=\"&K$4),\"\")","v":0},0,0,{"$f":"IF(C30<>\"\",M30-N30+Sett!K27,\"\")","v":0},"صفر"]
[null,24,{"$f":"IFERROR(VLOOKUP(B31,sett[#Data],2,FALSE)&\" / \"&VLOOKUP(B31,sett[#Data],6,FALSE),\"\")","v":" / "},{"$f":"IF(C31<>\"\",SUMIFS(data5[مبلغ],data5[TY],4,data5[واحد],B31,data5[تاریخ],\">=\"&H$4,data5[تاریخ],\"<=\"&K$4),\"\")","v":0},{"$f":"IF(C31<>\"\",SUMIFS(data5[مبلغ],data5[TY],1,data5[DS],1,data5[واحد],B31,data5[تاریخ],\">=\"&H$4,data5[تاریخ],\"<=\"&K$4),\"\")","v":0},{"$f":"IF(D31<>\"\",SUMIFS(data5[نوع],data5[DS],1,data5[Total],1,data5[توضيحات],C31,data5[مبلغ],\">=\"&I$4,data5[مبلغ],\"<=\"&L$4),\"\")","v":0},{"$f":"IF(E31<>\"\",SUMIFS(data5[دسته],data5[Total],1,data5[تاریخ],1,data5[TY],D31,data5[نوع],\">=\"&J$4,data5[نوع],\"<=\"&M$4),\"\")","v":0},{"$f":"IF(F31<>\"\",SUMIFS(data5[واحد],data5[تاریخ],1,data5[مبلغ],1,data5[DS],E31,data5[دسته],\">=\"&K$4,data5[دسته],\"<=\"&N$4),\"\")","v":0},{"$f":"IF(G31<>\"\",SUMIFS(data5[توضيحات],data5[مبلغ],1,data5[نوع],1,data5[Total],F31,data5[واحد],\">=\"&L$4,data5[واحد],\"<=\"&O$4),\"\")","v":0},{"$f":"IF(C31<>\"\",SUMIFS(data5[مبلغ],data5[TY],3,data5[DS],1,data5[واحد],B31,data5[تاریخ],\">=\"&H$4,data5[تاریخ],\"<=\"&K$4),\"\")","v":0},{"$f":"IF(C31<>\"\",SUMIFS(data5[مبلغ],data5[TY],3,data5[DS],2,data5[واحد],B31,data5[تاریخ],\">=\"&H$4,data5[تاریخ],\"<=\"&K$4),\"\")","v":0},{"$f":"IF(C31<>\"\",SUMIFS(data5[مبلغ],data5[TY],3,data5[DS],3,data5[واحد],B31,data5[تاریخ],\">=\"&H$4,data5[تاریخ],\"<=\"&K$4),\"\")","v":0},0,0,{"$f":"IF(C31<>\"\",M31-N31+Sett!K28,\"\")","v":0},"صفر"]
[null,25,{"$f":"IFERROR(VLOOKUP(B32,sett[#Data],2,FALSE)&\" / \"&VLOOKUP(B32,sett[#Data],6,FALSE),\"\")","v":" / "},{"$f":"IF(C32<>\"\",SUMIFS(data5[مبلغ],data5[TY],4,data5[واحد],B32,data5[تاریخ],\">=\"&H$4,data5[تاریخ],\"<=\"&K$4),\"\")","v":0},{"$f":"IF(C32<>\"\",SUMIFS(data5[مبلغ],data5[TY],1,data5[DS],1,data5[واحد],B32,data5[تاریخ],\">=\"&H$4,data5[تاریخ],\"<=\"&K$4),\"\")","v":0},{"$f":"IF(D32<>\"\",SUMIFS(data5[نوع],data5[DS],1,data5[Total],1,data5[توضيحات],C32,data5[مبلغ],\">=\"&I$4,data5[مبلغ],\"<=\"&L$4),\"\")","v":0},{"$f":"IF(E32<>\"\",SUMIFS(data5[دسته],data5[Total],1,data5[تاریخ],1,data5[TY],D32,data5[نوع],\">=\"&J$4,data5[نوع],\"<=\"&M$4),\"\")","v":0},{"$f":"IF(F32<>\"\",SUMIFS(data5[واحد],data5[تاریخ],1,data5[مبلغ],1,data5[DS],E32,data5[دسته],\">=\"&K$4,data5[دسته],\"<=\"&N$4),\"\")","v":0},{"$f":"IF(G32<>\"\",SUMIFS(data5[توضيحات],data5[مبلغ],1,data5[نوع],1,data5[Total],F32,data5[واحد],\">=\"&L$4,data5[واحد],\"<=\"&O$4),\"\")","v":0},{"$f":"IF(C32<>\"\",SUMIFS(data5[مبلغ],data5[TY],3,data5[DS],1,data5[واحد],B32,data5[تاریخ],\">=\"&H$4,data5[تاریخ],\"<=\"&K$4),\"\")","v":0},{"$f":"IF(C32<>\"\",SUMIFS(data5[مبلغ],data5[TY],3,data5[DS],2,data5[واحد],B32,data5[تاریخ],\">=\"&H$4,data5[تاریخ],\"<=\"&K$4),\"\")","v":0},{"$f":"IF(C32<>\"\",SUMIFS(data5[مبلغ],data5[TY],3,data5[DS],3,data5[واحد],B32,data5[تاریخ],\">=\"&H$4,data5[تاریخ],\"<=\"&K$4),\"\")","v":0},0,0,{"$f":"IF(C32<>\"\",M32-N32+Sett!K29,\"\")","v":0},"صفر"]
[null,26,{"$f":"IFERROR(VLOOKUP(B33,sett[#Data],2,FALSE)&\" / \"&VLOOKUP(B33,sett[#Data],6,FALSE),\"\")","v":" / "},{"$f":"IF(C33<>\"\",SUMIFS(data5[مبلغ],data5[TY],4,data5[واحد],B33,data5[تاریخ],\">=\"&H$4,data5[تاریخ],\"<=\"&K$4),\"\")","v":0},{"$f":"IF(C33<>\"\",SUMIFS(data5[مبلغ],data5[TY],1,data5[DS],1,data5[واحد],B33,data5[تاریخ],\">=\"&H$4,data5[تاریخ],\"<=\"&K$4),\"\")","v":0},{"$f":"IF(D33<>\"\",SUMIFS(data5[نوع],data5[DS],1,data5[Total],1,data5[توضيحات],C33,data5[مبلغ],\">=\"&I$4,data5[مبلغ],\"<=\"&L$4),\"\")","v":0},{"$f":"IF(E33<>\"\",SUMIFS(data5[دسته],data5[Total],1,data5[تاریخ],1,data5[TY],D33,data5[نوع],\">=\"&J$4,data5[نوع],\"<=\"&M$4),\"\")","v":0},{"$f":"IF(F33<>\"\",SUMIFS(data5[واحد],data5[تاریخ],1,data5[مبلغ],1,data5[DS],E33,data5[دسته],\">=\"&K$4,data5[دسته],\"<=\"&N$4),\"\")","v":0},{"$f":"IF(G33<>\"\",SUMIFS(data5[توضيحات],data5[مبلغ],1,data5[نوع],1,data5[Total],F33,data5[واحد],\">=\"&L$4,data5[واحد],\"<=\"&O$4),\"\")","v":0},{"$f":"IF(C33<>\"\",SUMIFS(data5[مبلغ],data5[TY],3,data5[DS],1,data5[واحد],B33,data5[تاریخ],\">=\"&H$4,data5[تاریخ],\"<=\"&K$4),\"\")","v":0},{"$f":"IF(C33<>\"\",SUMIFS(data5[مبلغ],data5[TY],3,data5[DS],2,data5[واحد],B33,data5[تاریخ],\">=\"&H$4,data5[تاریخ],\"<=\"&K$4),\"\")","v":0},{"$f":"IF(C33<>\"\",SUMIFS(data5[مبلغ],data5[TY],3,data5[DS],3,data5[واحد],B33,data5[تاریخ],\">=\"&H$4,data5[تاریخ],\"<=\"&K$4),\"\")","v":0},0,0,{"$f":"IF(C33<>\"\",M33-N33+Sett!K30,\"\")","v":0},"صفر"]
[null,27,{"$f":"IFERROR(VLOOKUP(B34,sett[#Data],2,FALSE)&\" / \"&VLOOKUP(B34,sett[#Data],6,FALSE),\"\")","v":" / "},{"$f":"IF(C34<>\"\",SUMIFS(data5[مبلغ],data5[TY],4,data5[واحد],B34,data5[تاریخ],\">=\"&H$4,data5[تاریخ],\"<=\"&K$4),\"\")","v":0},{"$f":"IF(C34<>\"\",SUMIFS(data5[مبلغ],data5[TY],1,data5[DS],1,data5[واحد],B34,data5[تاریخ],\">=\"&H$4,data5[تاریخ],\"<=\"&K$4),\"\")","v":0},{"$f":"IF(D34<>\"\",SUMIFS(data5[نوع],data5[DS],1,data5[Total],1,data5[توضيحات],C34,data5[مبلغ],\">=\"&I$4,data5[مبلغ],\"<=\"&L$4),\"\")","v":0},{"$f":"IF(E34<>\"\",SUMIFS(data5[دسته],data5[Total],1,data5[تاریخ],1,data5[TY],D34,data5[نوع],\">=\"&J$4,data5[نوع],\"<=\"&M$4),\"\")","v":0},{"$f":"IF(F34<>\"\",SUMIFS(data5[واحد],data5[تاریخ],1,data5[مبلغ],1,data5[DS],E34,data5[دسته],\">=\"&K$4,data5[دسته],\"<=\"&N$4),\"\")","v":0},{"$f":"IF(G34<>\"\",SUMIFS(data5[توضيحات],data5[مبلغ],1,data5[نوع],1,data5[Total],F34,data5[واحد],\">=\"&L$4,data5[واحد],\"<=\"&O$4),\"\")","v":0},{"$f":"IF(C34<>\"\",SUMIFS(data5[مبلغ],data5[TY],3,data5[DS],1,data5[واحد],B34,data5[تاریخ],\">=\"&H$4,data5[تاریخ],\"<=\"&K$4),\"\")","v":0},{"$f":"IF(C34<>\"\",SUMIFS(data5[مبلغ],data5[TY],3,data5[DS],2,data5[واحد],B34,data5[تاریخ],\">=\"&H$4,data5[تاریخ],\"<=\"&K$4),\"\")","v":0},{"$f":"IF(C34<>\"\",SUMIFS(data5[مبلغ],data5[TY],3,data5[DS],3,data5[واحد],B34,data5[تاریخ],\">=\"&H$4,data5[تاریخ],\"<=\"&K$4),\"\")","v":0},0,0,{"$f":"IF(C34<>\"\",M34-N34+Sett!K31,\"\")","v":0},"صفر"]
[null,28,{"$f":"IFERROR(VLOOKUP(B35,sett[#Data],2,FALSE)&\" / \"&VLOOKUP(B35,sett[#Data],6,FALSE),\"\")","v":" / "},{"$f":"IF(C35<>\"\",SUMIFS(data5[مبلغ],data5[TY],4,data5[واحد],B35,data5[تاریخ],\">=\"&H$4,data5[تاریخ],\"<=\"&K$4),\"\")","v":0},{"$f":"IF(C35<>\"\",SUMIFS(data5[مبلغ],data5[TY],1,data5[DS],1,data5[واحد],B35,data5[تاریخ],\">=\"&H$4,data5[تاریخ],\"<=\"&K$4),\"\")","v":0},{"$f":"IF(D35<>\"\",SUMIFS(data5[نوع],data5[DS],1,data5[Total],1,data5[توضيحات],C35,data5[مبلغ],\">=\"&I$4,data5[مبلغ],\"<=\"&L$4),\"\")","v":0},{"$f":"IF(E35<>\"\",SUMIFS(data5[دسته],data5[Total],1,data5[تاریخ],1,data5[TY],D35,data5[نوع],\">=\"&J$4,data5[نوع],\"<=\"&M$4),\"\")","v":0},{"$f":"IF(F35<>\"\",SUMIFS(data5[واحد],data5[تاریخ],1,data5[مبلغ],1,data5[DS],E35,data5[دسته],\">=\"&K$4,data5[دسته],\"<=\"&N$4),\"\")","v":0},{"$f":"IF(G35<>\"\",SUMIFS(data5[توضيحات],data5[مبلغ],1,data5[نوع],1,data5[Total],F35,data5[واحد],\">=\"&L$4,data5[واحد],\"<=\"&O$4),\"\")","v":0},{"$f":"IF(C35<>\"\",SUMIFS(data5[مبلغ],data5[TY],3,data5[DS],1,data5[واحد],B35,data5[تاریخ],\">=\"&H$4,data5[تاریخ],\"<=\"&K$4),\"\")","v":0},{"$f":"IF(C35<>\"\",SUMIFS(data5[مبلغ],data5[TY],3,data5[DS],2,data5[واحد],B35,data5[تاریخ],\">=\"&H$4,data5[تاریخ],\"<=\"&K$4),\"\")","v":0},{"$f":"IF(C35<>\"\",SUMIFS(data5[مبلغ],data5[TY],3,data5[DS],3,data5[واحد],B35,data5[تاریخ],\">=\"&H$4,data5[تاریخ],\"<=\"&K$4),\"\")","v":0},0,0,{"$f":"IF(C35<>\"\",M35-N35+Sett!K32,\"\")","v":0},"صفر"]
[null,29,{"$f":"IFERROR(VLOOKUP(B36,sett[#Data],2,FALSE)&\" / \"&VLOOKUP(B36,sett[#Data],6,FALSE),\"\")","v":" / "},{"$f":"IF(C36<>\"\",SUMIFS(data5[مبلغ],data5[TY],4,data5[واحد],B36,data5[تاریخ],\">=\"&H$4,data5[تاریخ],\"<=\"&K$4),\"\")","v":0},{"$f":"IF(C36<>\"\",SUMIFS(data5[مبلغ],data5[TY],1,data5[DS],1,data5[واحد],B36,data5[تاریخ],\">=\"&H$4,data5[تاریخ],\"<=\"&K$4),\"\")","v":0},{"$f":"IF(D36<>\"\",SUMIFS(data5[نوع],data5[DS],1,data5[Total],1,data5[توضيحات],C36,data5[مبلغ],\">=\"&I$4,data5[مبلغ],\"<=\"&L$4),\"\")","v":0},{"$f":"IF(E36<>\"\",SUMIFS(data5[دسته],data5[Total],1,data5[تاریخ],1,data5[TY],D36,data5[نوع],\">=\"&J$4,data5[نوع],\"<=\"&M$4),\"\")","v":0},{"$f":"IF(F36<>\"\",SUMIFS(data5[واحد],data5[تاریخ],1,data5[مبلغ],1,data5[DS],E36,data5[دسته],\">=\"&K$4,data5[دسته],\"<=\"&N$4),\"\")","v":0},{"$f":"IF(G36<>\"\",SUMIFS(data5[توضيحات],data5[مبلغ],1,data5[نوع],1,data5[Total],F36,data5[واحد],\">=\"&L$4,data5[واحد],\"<=\"&O$4),\"\")","v":0},{"$f":"IF(C36<>\"\",SUMIFS(data5[مبلغ],data5[TY],3,data5[DS],1,data5[واحد],B36,data5[تاریخ],\">=\"&H$4,data5[تاریخ],\"<=\"&K$4),\"\")","v":0},{"$f":"IF(C36<>\"\",SUMIFS(data5[مبلغ],data5[TY],3,data5[DS],2,data5[واحد],B36,data5[تاریخ],\">=\"&H$4,data5[تاریخ],\"<=\"&K$4),\"\")","v":0},{"$f":"IF(C36<>\"\",SUMIFS(data5[مبلغ],data5[TY],3,data5[DS],3,data5[واحد],B36,data5[تاریخ],\">=\"&H$4,data5[تاریخ],\"<=\"&K$4),\"\")","v":0},0,0,{"$f":"IF(C36<>\"\",M36-N36+Sett!K33,\"\")","v":0},"صفر"]
[null,30,{"$f":"IFERROR(VLOOKUP(B37,sett[#Data],2,FALSE)&\" / \"&VLOOKUP(B37,sett[#Data],6,FALSE),\"\")","v":" / "},{"$f":"IF(C37<>\"\",SUMIFS(data5[مبلغ],data5[TY],4,data5[واحد],B37,data5[تاریخ],\">=\"&H$4,data5[تاریخ],\"<=\"&K$4),\"\")","v":0},{"$f":"IF(C37<>\"\",SUMIFS(data5[مبلغ],data5[TY],1,data5[DS],1,data5[واحد],B37,data5[تاریخ],\">=\"&H$4,data5[تاریخ],\"<=\"&K$4),\"\")","v":0},{"$f":"IF(D37<>\"\",SUMIFS(data5[نوع],data5[DS],1,data5[Total],1,data5[توضيحات],C37,data5[مبلغ],\">=\"&I$4,data5[مبلغ],\"<=\"&L$4),\"\")","v":0},{"$f":"IF(E37<>\"\",SUMIFS(data5[دسته],data5[Total],1,data5[تاریخ],1,data5[TY],D37,data5[نوع],\">=\"&J$4,data5[نوع],\"<=\"&M$4),\"\")","v":0},{"$f":"IF(F37<>\"\",SUMIFS(data5[واحد],data5[تاریخ],1,data5[مبلغ],1,data5[DS],E37,data5[دسته],\">=\"&K$4,data5[دسته],\"<=\"&N$4),\"\")","v":0},{"$f":"IF(G37<>\"\",SUMIFS(data5[توضيحات],data5[مبلغ],1,data5[نوع],1,data5[Total],F37,data5[واحد],\">=\"&L$4,data5[واحد],\"<=\"&O$4),\"\")","v":0},{"$f":"IF(C37<>\"\",SUMIFS(data5[مبلغ],data5[TY],3,data5[DS],1,data5[واحد],B37,data5[تاریخ],\">=\"&H$4,data5[تاریخ],\"<=\"&K$4),\"\")","v":0},{"$f":"IF(C37<>\"\",SUMIFS(data5[مبلغ],data5[TY],3,data5[DS],2,data5[واحد],B37,data5[تاریخ],\">=\"&H$4,data5[تاریخ],\"<=\"&K$4),\"\")","v":0},{"$f":"IF(C37<>\"\",SUMIFS(data5[مبلغ],data5[TY],3,data5[DS],3,data5[واحد],B37,data5[تاریخ],\">=\"&H$4,data5[تاریخ],\"<=\"&K$4),\"\")","v":0},0,0,{"$f":"IF(C37<>\"\",M37-N37+Sett!K34,\"\")","v":0},"صفر"]
[null,31,{"$f":"IFERROR(VLOOKUP(B38,sett[#Data],2,FALSE)&\" / \"&VLOOKUP(B38,sett[#Data],6,FALSE),\"\")","v":" / "},{"$f":"IF(C38<>\"\",SUMIFS(data5[مبلغ],data5[TY],4,data5[واحد],B38,data5[تاریخ],\">=\"&H$4,data5[تاریخ],\"<=\"&K$4),\"\")","v":0},{"$f":"IF(C38<>\"\",SUMIFS(data5[مبلغ],data5[TY],1,data5[DS],1,data5[واحد],B38,data5[تاریخ],\">=\"&H$4,data5[تاریخ],\"<=\"&K$4),\"\")","v":0},{"$f":"IF(D38<>\"\",SUMIFS(data5[نوع],data5[DS],1,data5[Total],1,data5[توضيحات],C38,data5[مبلغ],\">=\"&I$4,data5[مبلغ],\"<=\"&L$4),\"\")","v":0},{"$f":"IF(E38<>\"\",SUMIFS(data5[دسته],data5[Total],1,data5[تاریخ],1,data5[TY],D38,data5[نوع],\">=\"&J$4,data5[نوع],\"<=\"&M$4),\"\")","v":0},{"$f":"IF(F38<>\"\",SUMIFS(data5[واحد],data5[تاریخ],1,data5[مبلغ],1,data5[DS],E38,data5[دسته],\">=\"&K$4,data5[دسته],\"<=\"&N$4),\"\")","v":0},{"$f":"IF(G38<>\"\",SUMIFS(data5[توضيحات],data5[مبلغ],1,data5[نوع],1,data5[Total],F38,data5[واحد],\">=\"&L$4,data5[واحد],\"<=\"&O$4),\"\")","v":0},{"$f":"IF(C38<>\"\",SUMIFS(data5[مبلغ],data5[TY],3,data5[DS],1,data5[واحد],B38,data5[تاریخ],\">=\"&H$4,data5[تاریخ],\"<=\"&K$4),\"\")","v":0},{"$f":"IF(C38<>\"\",SUMIFS(data5[مبلغ],data5[TY],3,data5[DS],2,data5[واحد],B38,data5[تاریخ],\">=\"&H$4,data5[تاریخ],\"<=\"&K$4),\"\")","v":0},{"$f":"IF(C38<>\"\",SUMIFS(data5[مبلغ],data5[TY],3,data5[DS],3,data5[واحد],B38,data5[تاریخ],\">=\"&H$4,data5[تاریخ],\"<=\"&K$4),\"\")","v":0},0,0,{"$f":"IF(C38<>\"\",M38-N38+Sett!K35,\"\")","v":0},"صفر"]
[null,32,{"$f":"IFERROR(VLOOKUP(B39,sett[#Data],2,FALSE)&\" / \"&VLOOKUP(B39,sett[#Data],6,FALSE),\"\")","v":" / "},{"$f":"IF(C39<>\"\",SUMIFS(data5[مبلغ],data5[TY],4,data5[واحد],B39,data5[تاریخ],\">=\"&H$4,data5[تاریخ],\"<=\"&K$4),\"\")","v":0},{"$f":"IF(C39<>\"\",SUMIFS(data5[مبلغ],data5[TY],1,data5[DS],1,data5[واحد],B39,data5[تاریخ],\">=\"&H$4,data5[تاریخ],\"<=\"&K$4),\"\")","v":0},{"$f":"IF(D39<>\"\",SUMIFS(data5[نوع],data5[DS],1,data5[Total],1,data5[توضيحات],C39,data5[مبلغ],\">=\"&I$4,data5[مبلغ],\"<=\"&L$4),\"\")","v":0},{"$f":"IF(E39<>\"\",SUMIFS(data5[دسته],data5[Total],1,data5[تاریخ],1,data5[TY],D39,data5[نوع],\">=\"&J$4,data5[نوع],\"<=\"&M$4),\"\")","v":0},{"$f":"IF(F39<>\"\",SUMIFS(data5[واحد],data5[تاریخ],1,data5[مبلغ],1,data5[DS],E39,data5[دسته],\">=\"&K$4,data5[دسته],\"<=\"&N$4),\"\")","v":0},{"$f":"IF(G39<>\"\",SUMIFS(data5[توضيحات],data5[مبلغ],1,data5[نوع],1,data5[Total],F39,data5[واحد],\">=\"&L$4,data5[واحد],\"<=\"&O$4),\"\")","v":0},{"$f":"IF(C39<>\"\",SUMIFS(data5[مبلغ],data5[TY],3,data5[DS],1,data5[واحد],B39,data5[تاریخ],\">=\"&H$4,data5[تاریخ],\"<=\"&K$4),\"\")","v":0},{"$f":"IF(C39<>\"\",SUMIFS(data5[مبلغ],data5[TY],3,data5[DS],2,data5[واحد],B39,data5[تاریخ],\">=\"&H$4,data5[تاریخ],\"<=\"&K$4),\"\")","v":0},{"$f":"IF(C39<>\"\",SUMIFS(data5[مبلغ],data5[TY],3,data5[DS],3,data5[واحد],B39,data5[تاریخ],\">=\"&H$4,data5[تاریخ],\"<=\"&K$4),\"\")","v":0},0,0,{"$f":"IF(C39<>\"\",M39-N39+Sett!K36,\"\")","v":0},"صفر"]
[null,33,{"$f":"IFERROR(VLOOKUP(B40,sett[#Data],2,FALSE)&\" / \"&VLOOKUP(B40,sett[#Data],6,FALSE),\"\")","v":" / "},{"$f":"IF(C40<>\"\",SUMIFS(data5[مبلغ],data5[TY],4,data5[واحد],B40,data5[تاریخ],\">=\"&H$4,data5[تاریخ],\"<=\"&K$4),\"\")","v":0},{"$f":"IF(C40<>\"\",SUMIFS(data5[مبلغ],data5[TY],1,data5[DS],1,data5[واحد],B40,data5[تاریخ],\">=\"&H$4,data5[تاریخ],\"<=\"&K$4),\"\")","v":0},{"$f":"IF(D40<>\"\",SUMIFS(data5[نوع],data5[DS],1,data5[Total],1,data5[توضيحات],C40,data5[مبلغ],\">=\"&I$4,data5[مبلغ],\"<=\"&L$4),\"\")","v":0},{"$f":"IF(E40<>\"\",SUMIFS(data5[دسته],data5[Total],1,data5[تاریخ],1,data5[TY],D40,data5[نوع],\">=\"&J$4,data5[نوع],\"<=\"&M$4),\"\")","v":0},{"$f":"IF(F40<>\"\",SUMIFS(data5[واحد],data5[تاریخ],1,data5[مبلغ],1,data5[DS],E40,data5[دسته],\">=\"&K$4,data5[دسته],\"<=\"&N$4),\"\")","v":0},{"$f":"IF(G40<>\"\",SUMIFS(data5[توضيحات],data5[مبلغ],1,data5[نوع],1,data5[Total],F40,data5[واحد],\">=\"&L$4,data5[واحد],\"<=\"&O$4),\"\")","v":0},{"$f":"IF(C40<>\"\",SUMIFS(data5[مبلغ],data5[TY],3,data5[DS],1,data5[واحد],B40,data5[تاریخ],\">=\"&H$4,data5[تاریخ],\"<=\"&K$4),\"\")","v":0},{"$f":"IF(C40<>\"\",SUMIFS(data5[مبلغ],data5[TY],3,data5[DS],2,data5[واحد],B40,data5[تاریخ],\">=\"&H$4,data5[تاریخ],\"<=\"&K$4),\"\")","v":0},{"$f":"IF(C40<>\"\",SUMIFS(data5[مبلغ],data5[TY],3,data5[DS],3,data5[واحد],B40,data5[تاریخ],\">=\"&H$4,data5[تاریخ],\"<=\"&K$4),\"\")","v":0},0,0,{"$f":"IF(C40<>\"\",M40-N40+Sett!K37,\"\")","v":0},"صفر"]
[null,34,{"$f":"IFERROR(VLOOKUP(B41,sett[#Data],2,FALSE)&\" / \"&VLOOKUP(B41,sett[#Data],6,FALSE),\"\")","v":" / "},{"$f":"IF(C41<>\"\",SUMIFS(data5[مبلغ],data5[TY],4,data5[واحد],B41,data5[تاریخ],\">=\"&H$4,data5[تاریخ],\"<=\"&K$4),\"\")","v":0},{"$f":"IF(C41<>\"\",SUMIFS(data5[مبلغ],data5[TY],1,data5[DS],1,data5[واحد],B41,data5[تاریخ],\">=\"&H$4,data5[تاریخ],\"<=\"&K$4),\"\")","v":0},{"$f":"IF(D41<>\"\",SUMIFS(data5[نوع],data5[DS],1,data5[Total],1,data5[توضيحات],C41,data5[مبلغ],\">=\"&I$4,data5[مبلغ],\"<=\"&L$4),\"\")","v":0},{"$f":"IF(E41<>\"\",SUMIFS(data5[دسته],data5[Total],1,data5[تاریخ],1,data5[TY],D41,data5[نوع],\">=\"&J$4,data5[نوع],\"<=\"&M$4),\"\")","v":0},{"$f":"IF(F41<>\"\",SUMIFS(data5[واحد],data5[تاریخ],1,data5[مبلغ],1,data5[DS],E41,data5[دسته],\">=\"&K$4,data5[دسته],\"<=\"&N$4),\"\")","v":0},{"$f":"IF(G41<>\"\",SUMIFS(data5[توضيحات],data5[مبلغ],1,data5[نوع],1,data5[Total],F41,data5[واحد],\">=\"&L$4,data5[واحد],\"<=\"&O$4),\"\")","v":0},{"$f":"IF(C41<>\"\",SUMIFS(data5[مبلغ],data5[TY],3,data5[DS],1,data5[واحد],B41,data5[تاریخ],\">=\"&H$4,data5[تاریخ],\"<=\"&K$4),\"\")","v":0},{"$f":"IF(C41<>\"\",SUMIFS(data5[مبلغ],data5[TY],3,data5[DS],2,data5[واحد],B41,data5[تاریخ],\">=\"&H$4,data5[تاریخ],\"<=\"&K$4),\"\")","v":0},{"$f":"IF(C41<>\"\",SUMIFS(data5[مبلغ],data5[TY],3,data5[DS],3,data5[واحد],B41,data5[تاریخ],\">=\"&H$4,data5[تاریخ],\"<=\"&K$4),\"\")","v":0},0,0,{"$f":"IF(C41<>\"\",M41-N41+Sett!K38,\"\")","v":0},"صفر"]
[null,35,{"$f":"IFERROR(VLOOKUP(B42,sett[#Data],2,FALSE)&\" / \"&VLOOKUP(B42,sett[#Data],6,FALSE),\"\")","v":" / "},{"$f":"IF(C42<>\"\",SUMIFS(data5[مبلغ],data5[TY],4,data5[واحد],B42,data5[تاریخ],\">=\"&H$4,data5[تاریخ],\"<=\"&K$4),\"\")","v":0},{"$f":"IF(C42<>\"\",SUMIFS(data5[مبلغ],data5[TY],1,data5[DS],1,data5[واحد],B42,data5[تاریخ],\">=\"&H$4,data5[تاریخ],\"<=\"&K$4),\"\")","v":0},{"$f":"IF(D42<>\"\",SUMIFS(data5[نوع],data5[DS],1,data5[Total],1,data5[توضيحات],C42,data5[مبلغ],\">=\"&I$4,data5[مبلغ],\"<=\"&L$4),\"\")","v":0},{"$f":"IF(E42<>\"\",SUMIFS(data5[دسته],data5[Total],1,data5[تاریخ],1,data5[TY],D42,data5[نوع],\">=\"&J$4,data5[نوع],\"<=\"&M$4),\"\")","v":0},{"$f":"IF(F42<>\"\",SUMIFS(data5[واحد],data5[تاریخ],1,data5[مبلغ],1,data5[DS],E42,data5[دسته],\">=\"&K$4,data5[دسته],\"<=\"&N$4),\"\")","v":0},{"$f":"IF(G42<>\"\",SUMIFS(data5[توضيحات],data5[مبلغ],1,data5[نوع],1,data5[Total],F42,data5[واحد],\">=\"&L$4,data5[واحد],\"<=\"&O$4),\"\")","v":0},{"$f":"IF(C42<>\"\",SUMIFS(data5[مبلغ],data5[TY],3,data5[DS],1,data5[واحد],B42,data5[تاریخ],\">=\"&H$4,data5[تاریخ],\"<=\"&K$4),\"\")","v":0},{"$f":"IF(C42<>\"\",SUMIFS(data5[مبلغ],data5[TY],3,data5[DS],2,data5[واحد],B42,data5[تاریخ],\">=\"&H$4,data5[تاریخ],\"<=\"&K$4),\"\")","v":0},{"$f":"IF(C42<>\"\",SUMIFS(data5[مبلغ],data5[TY],3,data5[DS],3,data5[واحد],B42,data5[تاریخ],\">=\"&H$4,data5[تاریخ],\"<=\"&K$4),\"\")","v":0},0,0,{"$f":"IF(C42<>\"\",M42-N42+Sett!K39,\"\")","v":0},"صفر"]
[null,36,{"$f":"IFERROR(VLOOKUP(B43,sett[#Data],2,FALSE)&\" / \"&VLOOKUP(B43,sett[#Data],6,FALSE),\"\")","v":" / "},{"$f":"IF(C43<>\"\",SUMIFS(data5[مبلغ],data5[TY],4,data5[واحد],B43,data5[تاریخ],\">=\"&H$4,data5[تاریخ],\"<=\"&K$4),\"\")","v":0},{"$f":"IF(C43<>\"\",SUMIFS(data5[مبلغ],data5[TY],1,data5[DS],1,data5[واحد],B43,data5[تاریخ],\">=\"&H$4,data5[تاریخ],\"<=\"&K$4),\"\")","v":0},{"$f":"IF(D43<>\"\",SUMIFS(data5[نوع],data5[DS],1,data5[Total],1,data5[توضيحات],C43,data5[مبلغ],\">=\"&I$4,data5[مبلغ],\"<=\"&L$4),\"\")","v":0},{"$f":"IF(E43<>\"\",SUMIFS(data5[دسته],data5[Total],1,data5[تاریخ],1,data5[TY],D43,data5[نوع],\">=\"&J$4,data5[نوع],\"<=\"&M$4),\"\")","v":0},{"$f":"IF(F43<>\"\",SUMIFS(data5[واحد],data5[تاریخ],1,data5[مبلغ],1,data5[DS],E43,data5[دسته],\">=\"&K$4,data5[دسته],\"<=\"&N$4),\"\")","v":0},{"$f":"IF(G43<>\"\",SUMIFS(data5[توضيحات],data5[مبلغ],1,data5[نوع],1,data5[Total],F43,data5[واحد],\">=\"&L$4,data5[واحد],\"<=\"&O$4),\"\")","v":0},{"$f":"IF(C43<>\"\",SUMIFS(data5[مبلغ],data5[TY],3,data5[DS],1,data5[واحد],B43,data5[تاریخ],\">=\"&H$4,data5[تاریخ],\"<=\"&K$4),\"\")","v":0},{"$f":"IF(C43<>\"\",SUMIFS(data5[مبلغ],data5[TY],3,data5[DS],2,data5[واحد],B43,data5[تاریخ],\">=\"&H$4,data5[تاریخ],\"<=\"&K$4),\"\")","v":0},{"$f":"IF(C43<>\"\",SUMIFS(data5[مبلغ],data5[TY],3,data5[DS],3,data5[واحد],B43,data5[تاریخ],\">=\"&H$4,data5[تاریخ],\"<=\"&K$4),\"\")","v":0},0,0,{"$f":"IF(C43<>\"\",M43-N43+Sett!K40,\"\")","v":0},"صفر"]
[null,37,{"$f":"IFERROR(VLOOKUP(B44,sett[#Data],2,FALSE)&\" / \"&VLOOKUP(B44,sett[#Data],6,FALSE),\"\")","v":" / "},{"$f":"IF(C44<>\"\",SUMIFS(data5[مبلغ],data5[TY],4,data5[واحد],B44,data5[تاریخ],\">=\"&H$4,data5[تاریخ],\"<=\"&K$4),\"\")","v":0},{"$f":"IF(C44<>\"\",SUMIFS(data5[مبلغ],data5[TY],1,data5[DS],1,data5[واحد],B44,data5[تاریخ],\">=\"&H$4,data5[تاریخ],\"<=\"&K$4),\"\")","v":0},{"$f":"IF(D44<>\"\",SUMIFS(data5[نوع],data5[DS],1,data5[Total],1,data5[توضيحات],C44,data5[مبلغ],\">=\"&I$4,data5[مبلغ],\"<=\"&L$4),\"\")","v":0},{"$f":"IF(E44<>\"\",SUMIFS(data5[دسته],data5[Total],1,data5[تاریخ],1,data5[TY],D44,data5[نوع],\">=\"&J$4,data5[نوع],\"<=\"&M$4),\"\")","v":0},{"$f":"IF(F44<>\"\",SUMIFS(data5[واحد],data5[تاریخ],1,data5[مبلغ],1,data5[DS],E44,data5[دسته],\">=\"&K$4,data5[دسته],\"<=\"&N$4),\"\")","v":0},{"$f":"IF(G44<>\"\",SUMIFS(data5[توضيحات],data5[مبلغ],1,data5[نوع],1,data5[Total],F44,data5[واحد],\">=\"&L$4,data5[واحد],\"<=\"&O$4),\"\")","v":0},{"$f":"IF(C44<>\"\",SUMIFS(data5[مبلغ],data5[TY],3,data5[DS],1,data5[واحد],B44,data5[تاریخ],\">=\"&H$4,data5[تاریخ],\"<=\"&K$4),\"\")","v":0},{"$f":"IF(C44<>\"\",SUMIFS(data5[مبلغ],data5[TY],3,data5[DS],2,data5[واحد],B44,data5[تاریخ],\">=\"&H$4,data5[تاریخ],\"<=\"&K$4),\"\")","v":0},{"$f":"IF(C44<>\"\",SUMIFS(data5[مبلغ],data5[TY],3,data5[DS],3,data5[واحد],B44,data5[تاریخ],\">=\"&H$4,data5[تاریخ],\"<=\"&K$4),\"\")","v":0},0,0,{"$f":"IF(C44<>\"\",M44-N44+Sett!K41,\"\")","v":0},"صفر"]
[null,38,{"$f":"IFERROR(VLOOKUP(B45,sett[#Data],2,FALSE)&\" / \"&VLOOKUP(B45,sett[#Data],6,FALSE),\"\")","v":" / "},{"$f":"IF(C45<>\"\",SUMIFS(data5[مبلغ],data5[TY],4,data5[واحد],B45,data5[تاریخ],\">=\"&H$4,data5[تاریخ],\"<=\"&K$4),\"\")","v":0},{"$f":"IF(C45<>\"\",SUMIFS(data5[مبلغ],data5[TY],1,data5[DS],1,data5[واحد],B45,data5[تاریخ],\">=\"&H$4,data5[تاریخ],\"<=\"&K$4),\"\")","v":0},{"$f":"IF(D45<>\"\",SUMIFS(data5[نوع],data5[DS],1,data5[Total],1,data5[توضيحات],C45,data5[مبلغ],\">=\"&I$4,data5[مبلغ],\"<=\"&L$4),\"\")","v":0},{"$f":"IF(E45<>\"\",SUMIFS(data5[دسته],data5[Total],1,data5[تاریخ],1,data5[TY],D45,data5[نوع],\">=\"&J$4,data5[نوع],\"<=\"&M$4),\"\")","v":0},{"$f":"IF(F45<>\"\",SUMIFS(data5[واحد],data5[تاریخ],1,data5[مبلغ],1,data5[DS],E45,data5[دسته],\">=\"&K$4,data5[دسته],\"<=\"&N$4),\"\")","v":0},{"$f":"IF(G45<>\"\",SUMIFS(data5[توضيحات],data5[مبلغ],1,data5[نوع],1,data5[Total],F45,data5[واحد],\">=\"&L$4,data5[واحد],\"<=\"&O$4),\"\")","v":0},{"$f":"IF(C45<>\"\",SUMIFS(data5[مبلغ],data5[TY],3,data5[DS],1,data5[واحد],B45,data5[تاریخ],\">=\"&H$4,data5[تاریخ],\"<=\"&K$4),\"\")","v":0},{"$f":"IF(C45<>\"\",SUMIFS(data5[مبلغ],data5[TY],3,data5[DS],2,data5[واحد],B45,data5[تاریخ],\">=\"&H$4,data5[تاریخ],\"<=\"&K$4),\"\")","v":0},{"$f":"IF(C45<>\"\",SUMIFS(data5[مبلغ],data5[TY],3,data5[DS],3,data5[واحد],B45,data5[تاریخ],\">=\"&H$4,data5[تاریخ],\"<=\"&K$4),\"\")","v":0},0,0,{"$f":"IF(C45<>\"\",M45-N45+Sett!K42,\"\")","v":0},"صفر"]
[null,39,{"$f":"IFERROR(VLOOKUP(B46,sett[#Data],2,FALSE)&\" / \"&VLOOKUP(B46,sett[#Data],6,FALSE),\"\")","v":" / "},{"$f":"IF(C46<>\"\",SUMIFS(data5[مبلغ],data5[TY],4,data5[واحد],B46,data5[تاریخ],\">=\"&H$4,data5[تاریخ],\"<=\"&K$4),\"\")","v":0},{"$f":"IF(C46<>\"\",SUMIFS(data5[مبلغ],data5[TY],1,data5[DS],1,data5[واحد],B46,data5[تاریخ],\">=\"&H$4,data5[تاریخ],\"<=\"&K$4),\"\")","v":0},{"$f":"IF(D46<>\"\",SUMIFS(data5[نوع],data5[DS],1,data5[Total],1,data5[توضيحات],C46,data5[مبلغ],\">=\"&I$4,data5[مبلغ],\"<=\"&L$4),\"\")","v":0},{"$f":"IF(E46<>\"\",SUMIFS(data5[دسته],data5[Total],1,data5[تاریخ],1,data5[TY],D46,data5[نوع],\">=\"&J$4,data5[نوع],\"<=\"&M$4),\"\")","v":0},{"$f":"IF(F46<>\"\",SUMIFS(data5[واحد],data5[تاریخ],1,data5[مبلغ],1,data5[DS],E46,data5[دسته],\">=\"&K$4,data5[دسته],\"<=\"&N$4),\"\")","v":0},{"$f":"IF(G46<>\"\",SUMIFS(data5[توضيحات],data5[مبلغ],1,data5[نوع],1,data5[Total],F46,data5[واحد],\">=\"&L$4,data5[واحد],\"<=\"&O$4),\"\")","v":0},{"$f":"IF(C46<>\"\",SUMIFS(data5[مبلغ],data5[TY],3,data5[DS],1,data5[واحد],B46,data5[تاریخ],\">=\"&H$4,data5[تاریخ],\"<=\"&K$4),\"\")","v":0},{"$f":"IF(C46<>\"\",SUMIFS(data5[مبلغ],data5[TY],3,data5[DS],2,data5[واحد],B46,data5[تاریخ],\">=\"&H$4,data5[تاریخ],\"<=\"&K$4),\"\")","v":0},{"$f":"IF(C46<>\"\",SUMIFS(data5[مبلغ],data5[TY],3,data5[DS],3,data5[واحد],B46,data5[تاریخ],\">=\"&H$4,data5[تاریخ],\"<=\"&K$4),\"\")","v":0},0,0,{"$f":"IF(C46<>\"\",M46-N46+Sett!K43,\"\")","v":0},"صفر"]
[null,40,{"$f":"IFERROR(VLOOKUP(B47,sett[#Data],2,FALSE)&\" / \"&VLOOKUP(B47,sett[#Data],6,FALSE),\"\")","v":" / "},{"$f":"IF(C47<>\"\",SUMIFS(data5[مبلغ],data5[TY],4,data5[واحد],B47,data5[تاریخ],\">=\"&H$4,data5[تاریخ],\"<=\"&K$4),\"\")","v":0},{"$f":"IF(C47<>\"\",SUMIFS(data5[مبلغ],data5[TY],1,data5[DS],1,data5[واحد],B47,data5[تاریخ],\">=\"&H$4,data5[تاریخ],\"<=\"&K$4),\"\")","v":0},{"$f":"IF(D47<>\"\",SUMIFS(data5[نوع],data5[DS],1,data5[Total],1,data5[توضيحات],C47,data5[مبلغ],\">=\"&I$4,data5[مبلغ],\"<=\"&L$4),\"\")","v":0},{"$f":"IF(E47<>\"\",SUMIFS(data5[دسته],data5[Total],1,data5[تاریخ],1,data5[TY],D47,data5[نوع],\">=\"&J$4,data5[نوع],\"<=\"&M$4),\"\")","v":0},{"$f":"IF(F47<>\"\",SUMIFS(data5[واحد],data5[تاریخ],1,data5[مبلغ],1,data5[DS],E47,data5[دسته],\">=\"&K$4,data5[دسته],\"<=\"&N$4),\"\")","v":0},{"$f":"IF(G47<>\"\",SUMIFS(data5[توضيحات],data5[مبلغ],1,data5[نوع],1,data5[Total],F47,data5[واحد],\">=\"&L$4,data5[واحد],\"<=\"&O$4),\"\")","v":0},{"$f":"IF(C47<>\"\",SUMIFS(data5[مبلغ],data5[TY],3,data5[DS],1,data5[واحد],B47,data5[تاریخ],\">=\"&H$4,data5[تاریخ],\"<=\"&K$4),\"\")","v":0},{"$f":"IF(C47<>\"\",SUMIFS(data5[مبلغ],data5[TY],3,data5[DS],2,data5[واحد],B47,data5[تاریخ],\">=\"&H$4,data5[تاریخ],\"<=\"&K$4),\"\")","v":0},{"$f":"IF(C47<>\"\",SUMIFS(data5[مبلغ],data5[TY],3,data5[DS],3,data5[واحد],B47,data5[تاریخ],\">=\"&H$4,data5[تاریخ],\"<=\"&K$4),\"\")","v":0},0,0,{"$f":"IF(C47<>\"\",M47-N47+Sett!K44,\"\")","v":0},"صفر"]
[null,41,{"$f":"IFERROR(VLOOKUP(B48,sett[#Data],2,FALSE)&\" / \"&VLOOKUP(B48,sett[#Data],6,FALSE),\"\")","v":" / "},{"$f":"IF(C48<>\"\",SUMIFS(data5[مبلغ],data5[TY],4,data5[واحد],B48,data5[تاریخ],\">=\"&H$4,data5[تاریخ],\"<=\"&K$4),\"\")","v":0},{"$f":"IF(C48<>\"\",SUMIFS(data5[مبلغ],data5[TY],1,data5[DS],1,data5[واحد],B48,data5[تاریخ],\">=\"&H$4,data5[تاریخ],\"<=\"&K$4),\"\")","v":0},{"$f":"IF(D48<>\"\",SUMIFS(data5[نوع],data5[DS],1,data5[Total],1,data5[توضيحات],C48,data5[مبلغ],\">=\"&I$4,data5[مبلغ],\"<=\"&L$4),\"\")","v":0},{"$f":"IF(E48<>\"\",SUMIFS(data5[دسته],data5[Total],1,data5[تاریخ],1,data5[TY],D48,data5[نوع],\">=\"&J$4,data5[نوع],\"<=\"&M$4),\"\")","v":0},{"$f":"IF(F48<>\"\",SUMIFS(data5[واحد],data5[تاریخ],1,data5[مبلغ],1,data5[DS],E48,data5[دسته],\">=\"&K$4,data5[دسته],\"<=\"&N$4),\"\")","v":0},{"$f":"IF(G48<>\"\",SUMIFS(data5[توضيحات],data5[مبلغ],1,data5[نوع],1,data5[Total],F48,data5[واحد],\">=\"&L$4,data5[واحد],\"<=\"&O$4),\"\")","v":0},{"$f":"IF(C48<>\"\",SUMIFS(data5[مبلغ],data5[TY],3,data5[DS],1,data5[واحد],B48,data5[تاریخ],\">=\"&H$4,data5[تاریخ],\"<=\"&K$4),\"\")","v":0},{"$f":"IF(C48<>\"\",SUMIFS(data5[مبلغ],data5[TY],3,data5[DS],2,data5[واحد],B48,data5[تاریخ],\">=\"&H$4,data5[تاریخ],\"<=\"&K$4),\"\")","v":0},{"$f":"IF(C48<>\"\",SUMIFS(data5[مبلغ],data5[TY],3,data5[DS],3,data5[واحد],B48,data5[تاریخ],\">=\"&H$4,data5[تاریخ],\"<=\"&K$4),\"\")","v":0},0,0,{"$f":"IF(C48<>\"\",M48-N48+Sett!K45,\"\")","v":0},"صفر"]
[null,42,{"$f":"IFERROR(VLOOKUP(B49,sett[#Data],2,FALSE)&\" / \"&VLOOKUP(B49,sett[#Data],6,FALSE),\"\")","v":" / "},{"$f":"IF(C49<>\"\",SUMIFS(data5[مبلغ],data5[TY],4,data5[واحد],B49,data5[تاریخ],\">=\"&H$4,data5[تاریخ],\"<=\"&K$4),\"\")","v":0},{"$f":"IF(C49<>\"\",SUMIFS(data5[مبلغ],data5[TY],1,data5[DS],1,data5[واحد],B49,data5[تاریخ],\">=\"&H$4,data5[تاریخ],\"<=\"&K$4),\"\")","v":0},{"$f":"IF(D49<>\"\",SUMIFS(data5[نوع],data5[DS],1,data5[Total],1,data5[توضيحات],C49,data5[مبلغ],\">=\"&I$4,data5[مبلغ],\"<=\"&L$4),\"\")","v":0},{"$f":"IF(E49<>\"\",SUMIFS(data5[دسته],data5[Total],1,data5[تاریخ],1,data5[TY],D49,data5[نوع],\">=\"&J$4,data5[نوع],\"<=\"&M$4),\"\")","v":0},{"$f":"IF(F49<>\"\",SUMIFS(data5[واحد],data5[تاریخ],1,data5[مبلغ],1,data5[DS],E49,data5[دسته],\">=\"&K$4,data5[دسته],\"<=\"&N$4),\"\")","v":0},{"$f":"IF(G49<>\"\",SUMIFS(data5[توضيحات],data5[مبلغ],1,data5[نوع],1,data5[Total],F49,data5[واحد],\">=\"&L$4,data5[واحد],\"<=\"&O$4),\"\")","v":0},{"$f":"IF(C49<>\"\",SUMIFS(data5[مبلغ],data5[TY],3,data5[DS],1,data5[واحد],B49,data5[تاریخ],\">=\"&H$4,data5[تاریخ],\"<=\"&K$4),\"\")","v":0},{"$f":"IF(C49<>\"\",SUMIFS(data5[مبلغ],data5[TY],3,data5[DS],2,data5[واحد],B49,data5[تاریخ],\">=\"&H$4,data5[تاریخ],\"<=\"&K$4),\"\")","v":0},{"$f":"IF(C49<>\"\",SUMIFS(data5[مبلغ],data5[TY],3,data5[DS],3,data5[واحد],B49,data5[تاریخ],\">=\"&H$4,data5[تاریخ],\"<=\"&K$4),\"\")","v":0},0,0,{"$f":"IF(C49<>\"\",M49-N49+Sett!K46,\"\")","v":0},"صفر"]
[null,43,{"$f":"IFERROR(VLOOKUP(B50,sett[#Data],2,FALSE)&\" / \"&VLOOKUP(B50,sett[#Data],6,FALSE),\"\")","v":" / "},{"$f":"IF(C50<>\"\",SUMIFS(data5[مبلغ],data5[TY],4,data5[واحد],B50,data5[تاریخ],\">=\"&H$4,data5[تاریخ],\"<=\"&K$4),\"\")","v":0},{"$f":"IF(C50<>\"\",SUMIFS(data5[مبلغ],data5[TY],1,data5[DS],1,data5[واحد],B50,data5[تاریخ],\">=\"&H$4,data5[تاریخ],\"<=\"&K$4),\"\")","v":0},{"$f":"IF(D50<>\"\",SUMIFS(data5[نوع],data5[DS],1,data5[Total],1,data5[توضيحات],C50,data5[مبلغ],\">=\"&I$4,data5[مبلغ],\"<=\"&L$4),\"\")","v":0},{"$f":"IF(E50<>\"\",SUMIFS(data5[دسته],data5[Total],1,data5[تاریخ],1,data5[TY],D50,data5[نوع],\">=\"&J$4,data5[نوع],\"<=\"&M$4),\"\")","v":0},{"$f":"IF(F50<>\"\",SUMIFS(data5[واحد],data5[تاریخ],1,data5[مبلغ],1,data5[DS],E50,data5[دسته],\">=\"&K$4,data5[دسته],\"<=\"&N$4),\"\")","v":0},{"$f":"IF(G50<>\"\",SUMIFS(data5[توضيحات],data5[مبلغ],1,data5[نوع],1,data5[Total],F50,data5[واحد],\">=\"&L$4,data5[واحد],\"<=\"&O$4),\"\")","v":0},{"$f":"IF(C50<>\"\",SUMIFS(data5[مبلغ],data5[TY],3,data5[DS],1,data5[واحد],B50,data5[تاریخ],\">=\"&H$4,data5[تاریخ],\"<=\"&K$4),\"\")","v":0},{"$f":"IF(C50<>\"\",SUMIFS(data5[مبلغ],data5[TY],3,data5[DS],2,data5[واحد],B50,data5[تاریخ],\">=\"&H$4,data5[تاریخ],\"<=\"&K$4),\"\")","v":0},{"$f":"IF(C50<>\"\",SUMIFS(data5[مبلغ],data5[TY],3,data5[DS],3,data5[واحد],B50,data5[تاریخ],\">=\"&H$4,data5[تاریخ],\"<=\"&K$4),\"\")","v":0},0,0,{"$f":"IF(C50<>\"\",M50-N50+Sett!K47,\"\")","v":0},"صفر"]
[null,44,{"$f":"IFERROR(VLOOKUP(B51,sett[#Data],2,FALSE)&\" / \"&VLOOKUP(B51,sett[#Data],6,FALSE),\"\")","v":" / "},{"$f":"IF(C51<>\"\",SUMIFS(data5[مبلغ],data5[TY],4,data5[واحد],B51,data5[تاریخ],\">=\"&H$4,data5[تاریخ],\"<=\"&K$4),\"\")","v":0},{"$f":"IF(C51<>\"\",SUMIFS(data5[مبلغ],data5[TY],1,data5[DS],1,data5[واحد],B51,data5[تاریخ],\">=\"&H$4,data5[تاریخ],\"<=\"&K$4),\"\")","v":0},{"$f":"IF(D51<>\"\",SUMIFS(data5[نوع],data5[DS],1,data5[Total],1,data5[توضيحات],C51,data5[مبلغ],\">=\"&I$4,data5[مبلغ],\"<=\"&L$4),\"\")","v":0},{"$f":"IF(E51<>\"\",SUMIFS(data5[دسته],data5[Total],1,data5[تاریخ],1,data5[TY],D51,data5[نوع],\">=\"&J$4,data5[نوع],\"<=\"&M$4),\"\")","v":0},{"$f":"IF(F51<>\"\",SUMIFS(data5[واحد],data5[تاریخ],1,data5[مبلغ],1,data5[DS],E51,data5[دسته],\">=\"&K$4,data5[دسته],\"<=\"&N$4),\"\")","v":0},{"$f":"IF(G51<>\"\",SUMIFS(data5[توضيحات],data5[مبلغ],1,data5[نوع],1,data5[Total],F51,data5[واحد],\">=\"&L$4,data5[واحد],\"<=\"&O$4),\"\")","v":0},{"$f":"IF(C51<>\"\",SUMIFS(data5[مبلغ],data5[TY],3,data5[DS],1,data5[واحد],B51,data5[تاریخ],\">=\"&H$4,data5[تاریخ],\"<=\"&K$4),\"\")","v":0},{"$f":"IF(C51<>\"\",SUMIFS(data5[مبلغ],data5[TY],3,data5[DS],2,data5[واحد],B51,data5[تاریخ],\">=\"&H$4,data5[تاریخ],\"<=\"&K$4),\"\")","v":0},{"$f":"IF(C51<>\"\",SUMIFS(data5[مبلغ],data5[TY],3,data5[DS],3,data5[واحد],B51,data5[تاریخ],\">=\"&H$4,data5[تاریخ],\"<=\"&K$4),\"\")","v":0},0,0,{"$f":"IF(C51<>\"\",M51-N51+Sett!K48,\"\")","v":0},"صفر"]
[null,45,{"$f":"IFERROR(VLOOKUP(B52,sett[#Data],2,FALSE)&\" / \"&VLOOKUP(B52,sett[#Data],6,FALSE),\"\")","v":" / "},{"$f":"IF(C52<>\"\",SUMIFS(data5[مبلغ],data5[TY],4,data5[واحد],B52,data5[تاریخ],\">=\"&H$4,data5[تاریخ],\"<=\"&K$4),\"\")","v":0},{"$f":"IF(C52<>\"\",SUMIFS(data5[مبلغ],data5[TY],1,data5[DS],1,data5[واحد],B52,data5[تاریخ],\">=\"&H$4,data5[تاریخ],\"<=\"&K$4),\"\")","v":0},{"$f":"IF(D52<>\"\",SUMIFS(data5[نوع],data5[DS],1,data5[Total],1,data5[توضيحات],C52,data5[مبلغ],\">=\"&I$4,data5[مبلغ],\"<=\"&L$4),\"\")","v":0},{"$f":"IF(E52<>\"\",SUMIFS(data5[دسته],data5[Total],1,data5[تاریخ],1,data5[TY],D52,data5[نوع],\">=\"&J$4,data5[نوع],\"<=\"&M$4),\"\")","v":0},{"$f":"IF(F52<>\"\",SUMIFS(data5[واحد],data5[تاریخ],1,data5[مبلغ],1,data5[DS],E52,data5[دسته],\">=\"&K$4,data5[دسته],\"<=\"&N$4),\"\")","v":0},{"$f":"IF(G52<>\"\",SUMIFS(data5[توضيحات],data5[مبلغ],1,data5[نوع],1,data5[Total],F52,data5[واحد],\">=\"&L$4,data5[واحد],\"<=\"&O$4),\"\")","v":0},{"$f":"IF(C52<>\"\",SUMIFS(data5[مبلغ],data5[TY],3,data5[DS],1,data5[واحد],B52,data5[تاریخ],\">=\"&H$4,data5[تاریخ],\"<=\"&K$4),\"\")","v":0},{"$f":"IF(C52<>\"\",SUMIFS(data5[مبلغ],data5[TY],3,data5[DS],2,data5[واحد],B52,data5[تاریخ],\">=\"&H$4,data5[تاریخ],\"<=\"&K$4),\"\")","v":0},{"$f":"IF(C52<>\"\",SUMIFS(data5[مبلغ],data5[TY],3,data5[DS],3,data5[واحد],B52,data5[تاریخ],\">=\"&H$4,data5[تاریخ],\"<=\"&K$4),\"\")","v":0},0,0,{"$f":"IF(C52<>\"\",M52-N52+Sett!K49,\"\")","v":0},"صفر"]
[null,46,{"$f":"IFERROR(VLOOKUP(B53,sett[#Data],2,FALSE)&\" / \"&VLOOKUP(B53,sett[#Data],6,FALSE),\"\")","v":" / "},{"$f":"IF(C53<>\"\",SUMIFS(data5[مبلغ],data5[TY],4,data5[واحد],B53,data5[تاریخ],\">=\"&H$4,data5[تاریخ],\"<=\"&K$4),\"\")","v":0},{"$f":"IF(C53<>\"\",SUMIFS(data5[مبلغ],data5[TY],1,data5[DS],1,data5[واحد],B53,data5[تاریخ],\">=\"&H$4,data5[تاریخ],\"<=\"&K$4),\"\")","v":0},{"$f":"IF(D53<>\"\",SUMIFS(data5[نوع],data5[DS],1,data5[Total],1,data5[توضيحات],C53,data5[مبلغ],\">=\"&I$4,data5[مبلغ],\"<=\"&L$4),\"\")","v":0},{"$f":"IF(E53<>\"\",SUMIFS(data5[دسته],data5[Total],1,data5[تاریخ],1,data5[TY],D53,data5[نوع],\">=\"&J$4,data5[نوع],\"<=\"&M$4),\"\")","v":0},{"$f":"IF(F53<>\"\",SUMIFS(data5[واحد],data5[تاریخ],1,data5[مبلغ],1,data5[DS],E53,data5[دسته],\">=\"&K$4,data5[دسته],\"<=\"&N$4),\"\")","v":0},{"$f":"IF(G53<>\"\",SUMIFS(data5[توضيحات],data5[مبلغ],1,data5[نوع],1,data5[Total],F53,data5[واحد],\">=\"&L$4,data5[واحد],\"<=\"&O$4),\"\")","v":0},{"$f":"IF(C53<>\"\",SUMIFS(data5[مبلغ],data5[TY],3,data5[DS],1,data5[واحد],B53,data5[تاریخ],\">=\"&H$4,data5[تاریخ],\"<=\"&K$4),\"\")","v":0},{"$f":"IF(C53<>\"\",SUMIFS(data5[مبلغ],data5[TY],3,data5[DS],2,data5[واحد],B53,data5[تاریخ],\">=\"&H$4,data5[تاریخ],\"<=\"&K$4),\"\")","v":0},{"$f":"IF(C53<>\"\",SUMIFS(data5[مبلغ],data5[TY],3,data5[DS],3,data5[واحد],B53,data5[تاریخ],\">=\"&H$4,data5[تاریخ],\"<=\"&K$4),\"\")","v":0},0,0,{"$f":"IF(C53<>\"\",M53-N53+Sett!K50,\"\")","v":0},"صفر"]
[null,47,{"$f":"IFERROR(VLOOKUP(B54,sett[#Data],2,FALSE)&\" / \"&VLOOKUP(B54,sett[#Data],6,FALSE),\"\")","v":" / "},{"$f":"IF(C54<>\"\",SUMIFS(data5[مبلغ],data5[TY],4,data5[واحد],B54,data5[تاریخ],\">=\"&H$4,data5[تاریخ],\"<=\"&K$4),\"\")","v":0},{"$f":"IF(C54<>\"\",SUMIFS(data5[مبلغ],data5[TY],1,data5[DS],1,data5[واحد],B54,data5[تاریخ],\">=\"&H$4,data5[تاریخ],\"<=\"&K$4),\"\")","v":0},{"$f":"IF(D54<>\"\",SUMIFS(data5[نوع],data5[DS],1,data5[Total],1,data5[توضيحات],C54,data5[مبلغ],\">=\"&I$4,data5[مبلغ],\"<=\"&L$4),\"\")","v":0},{"$f":"IF(E54<>\"\",SUMIFS(data5[دسته],data5[Total],1,data5[تاریخ],1,data5[TY],D54,data5[نوع],\">=\"&J$4,data5[نوع],\"<=\"&M$4),\"\")","v":0},{"$f":"IF(F54<>\"\",SUMIFS(data5[واحد],data5[تاریخ],1,data5[مبلغ],1,data5[DS],E54,data5[دسته],\">=\"&K$4,data5[دسته],\"<=\"&N$4),\"\")","v":0},{"$f":"IF(G54<>\"\",SUMIFS(data5[توضيحات],data5[مبلغ],1,data5[نوع],1,data5[Total],F54,data5[واحد],\">=\"&L$4,data5[واحد],\"<=\"&O$4),\"\")","v":0},{"$f":"IF(C54<>\"\",SUMIFS(data5[مبلغ],data5[TY],3,data5[DS],1,data5[واحد],B54,data5[تاریخ],\">=\"&H$4,data5[تاریخ],\"<=\"&K$4),\"\")","v":0},{"$f":"IF(C54<>\"\",SUMIFS(data5[مبلغ],data5[TY],3,data5[DS],2,data5[واحد],B54,data5[تاریخ],\">=\"&H$4,data5[تاریخ],\"<=\"&K$4),\"\")","v":0},{"$f":"IF(C54<>\"\",SUMIFS(data5[مبلغ],data5[TY],3,data5[DS],3,data5[واحد],B54,data5[تاریخ],\">=\"&H$4,data5[تاریخ],\"<=\"&K$4),\"\")","v":0},0,0,{"$f":"IF(C54<>\"\",M54-N54+Sett!K51,\"\")","v":0},"صفر"]
[null,48,{"$f":"IFERROR(VLOOKUP(B55,sett[#Data],2,FALSE)&\" / \"&VLOOKUP(B55,sett[#Data],6,FALSE),\"\")","v":" / "},{"$f":"IF(C55<>\"\",SUMIFS(data5[مبلغ],data5[TY],4,data5[واحد],B55,data5[تاریخ],\">=\"&H$4,data5[تاریخ],\"<=\"&K$4),\"\")","v":0},{"$f":"IF(C55<>\"\",SUMIFS(data5[مبلغ],data5[TY],1,data5[DS],1,data5[واحد],B55,data5[تاریخ],\">=\"&H$4,data5[تاریخ],\"<=\"&K$4),\"\")","v":0},{"$f":"IF(D55<>\"\",SUMIFS(data5[نوع],data5[DS],1,data5[Total],1,data5[توضيحات],C55,data5[مبلغ],\">=\"&I$4,data5[مبلغ],\"<=\"&L$4),\"\")","v":0},{"$f":"IF(E55<>\"\",SUMIFS(data5[دسته],data5[Total],1,data5[تاریخ],1,data5[TY],D55,data5[نوع],\">=\"&J$4,data5[نوع],\"<=\"&M$4),\"\")","v":0},{"$f":"IF(F55<>\"\",SUMIFS(data5[واحد],data5[تاریخ],1,data5[مبلغ],1,data5[DS],E55,data5[دسته],\">=\"&K$4,data5[دسته],\"<=\"&N$4),\"\")","v":0},{"$f":"IF(G55<>\"\",SUMIFS(data5[توضيحات],data5[مبلغ],1,data5[نوع],1,data5[Total],F55,data5[واحد],\">=\"&L$4,data5[واحد],\"<=\"&O$4),\"\")","v":0},{"$f":"IF(C55<>\"\",SUMIFS(data5[مبلغ],data5[TY],3,data5[DS],1,data5[واحد],B55,data5[تاریخ],\">=\"&H$4,data5[تاریخ],\"<=\"&K$4),\"\")","v":0},{"$f":"IF(C55<>\"\",SUMIFS(data5[مبلغ],data5[TY],3,data5[DS],2,data5[واحد],B55,data5[تاریخ],\">=\"&H$4,data5[تاریخ],\"<=\"&K$4),\"\")","v":0},{"$f":"IF(C55<>\"\",SUMIFS(data5[مبلغ],data5[TY],3,data5[DS],3,data5[واحد],B55,data5[تاریخ],\">=\"&H$4,data5[تاریخ],\"<=\"&K$4),\"\")","v":0},0,0,{"$f":"IF(C55<>\"\",M55-N55+Sett!K52,\"\")","v":0},"صفر"]
[null,49,{"$f":"IFERROR(VLOOKUP(B56,sett[#Data],2,FALSE)&\" / \"&VLOOKUP(B56,sett[#Data],6,FALSE),\"\")","v":" / "},{"$f":"IF(C56<>\"\",SUMIFS(data5[مبلغ],data5[TY],4,data5[واحد],B56,data5[تاریخ],\">=\"&H$4,data5[تاریخ],\"<=\"&K$4),\"\")","v":0},{"$f":"IF(C56<>\"\",SUMIFS(data5[مبلغ],data5[TY],1,data5[DS],1,data5[واحد],B56,data5[تاریخ],\">=\"&H$4,data5[تاریخ],\"<=\"&K$4),\"\")","v":0},{"$f":"IF(D56<>\"\",SUMIFS(data5[نوع],data5[DS],1,data5[Total],1,data5[توضيحات],C56,data5[مبلغ],\">=\"&I$4,data5[مبلغ],\"<=\"&L$4),\"\")","v":0},{"$f":"IF(E56<>\"\",SUMIFS(data5[دسته],data5[Total],1,data5[تاریخ],1,data5[TY],D56,data5[نوع],\">=\"&J$4,data5[نوع],\"<=\"&M$4),\"\")","v":0},{"$f":"IF(F56<>\"\",SUMIFS(data5[واحد],data5[تاریخ],1,data5[مبلغ],1,data5[DS],E56,data5[دسته],\">=\"&K$4,data5[دسته],\"<=\"&N$4),\"\")","v":0},{"$f":"IF(G56<>\"\",SUMIFS(data5[توضيحات],data5[مبلغ],1,data5[نوع],1,data5[Total],F56,data5[واحد],\">=\"&L$4,data5[واحد],\"<=\"&O$4),\"\")","v":0},{"$f":"IF(C56<>\"\",SUMIFS(data5[مبلغ],data5[TY],3,data5[DS],1,data5[واحد],B56,data5[تاریخ],\">=\"&H$4,data5[تاریخ],\"<=\"&K$4),\"\")","v":0},{"$f":"IF(C56<>\"\",SUMIFS(data5[مبلغ],data5[TY],3,data5[DS],2,data5[واحد],B56,data5[تاریخ],\">=\"&H$4,data5[تاریخ],\"<=\"&K$4),\"\")","v":0},{"$f":"IF(C56<>\"\",SUMIFS(data5[مبلغ],data5[TY],3,data5[DS],3,data5[واحد],B56,data5[تاریخ],\">=\"&H$4,data5[تاریخ],\"<=\"&K$4),\"\")","v":0},0,0,{"$f":"IF(C56<>\"\",M56-N56+Sett!K53,\"\")","v":0},"صفر"]
[null,50,{"$f":"IFERROR(VLOOKUP(B57,sett[#Data],2,FALSE)&\" / \"&VLOOKUP(B57,sett[#Data],6,FALSE),\"\")","v":" / "},{"$f":"IF(C57<>\"\",SUMIFS(data5[مبلغ],data5[TY],4,data5[واحد],B57,data5[تاریخ],\">=\"&H$4,data5[تاریخ],\"<=\"&K$4),\"\")","v":0},{"$f":"IF(C57<>\"\",SUMIFS(data5[مبلغ],data5[TY],1,data5[DS],1,data5[واحد],B57,data5[تاریخ],\">=\"&H$4,data5[تاریخ],\"<=\"&K$4),\"\")","v":0},{"$f":"IF(D57<>\"\",SUMIFS(data5[نوع],data5[DS],1,data5[Total],1,data5[توضيحات],C57,data5[مبلغ],\">=\"&I$4,data5[مبلغ],\"<=\"&L$4),\"\")","v":0},{"$f":"IF(E57<>\"\",SUMIFS(data5[دسته],data5[Total],1,data5[تاریخ],1,data5[TY],D57,data5[نوع],\">=\"&J$4,data5[نوع],\"<=\"&M$4),\"\")","v":0},{"$f":"IF(F57<>\"\",SUMIFS(data5[واحد],data5[تاریخ],1,data5[مبلغ],1,data5[DS],E57,data5[دسته],\">=\"&K$4,data5[دسته],\"<=\"&N$4),\"\")","v":0},{"$f":"IF(G57<>\"\",SUMIFS(data5[توضيحات],data5[مبلغ],1,data5[نوع],1,data5[Total],F57,data5[واحد],\">=\"&L$4,data5[واحد],\"<=\"&O$4),\"\")","v":0},{"$f":"IF(C57<>\"\",SUMIFS(data5[مبلغ],data5[TY],3,data5[DS],1,data5[واحد],B57,data5[تاریخ],\">=\"&H$4,data5[تاریخ],\"<=\"&K$4),\"\")","v":0},{"$f":"IF(C57<>\"\",SUMIFS(data5[مبلغ],data5[TY],3,data5[DS],2,data5[واحد],B57,data5[تاریخ],\">=\"&H$4,data5[تاریخ],\"<=\"&K$4),\"\")","v":0},{"$f":"IF(C57<>\"\",SUMIFS(data5[مبلغ],data5[TY],3,data5[DS],3,data5[واحد],B57,data5[تاریخ],\">=\"&H$4,data5[تاریخ],\"<=\"&K$4),\"\")","v":0},0,0,{"$f":"IF(C57<>\"\",M57-N57+Sett!K54,\"\")","v":0},"صفر"]

{"sheet":"Stat","index":3,"n_rows":256,"n_cols":12,"rows_kept":256,"cut":false,"hidden":false,"merged":[[1,1,1,6],[2,2,2,3],[2,5,2,6],[2,7,2,8],[3,1,4,1],[3,2,4,3],[3,4,4,4],[3,5,4,6],[3,7,4,7],[3,8,4,8]]}
[]
[null,"گزارش صورت حساب واحدها - ساختمان نمونه",null,null,null,null,null,1,{"$f":"IF(H2>0,VLOOKUP(H2,sett[],2,FALSE)&\" - مالک : \"&VLOOKUP(H2,sett[],6,FALSE),0)","v":"واحد 1 - مالک : "}]
[null,"از تاریخ :","1404/01/01",null,"تا تاریخ :","1404/12/29",null,"توضیح : "]
[null,"بدهکار شده :",{"$f":"SUMIFS(D7:D256,E7:E256,L$5)","v":0},null,"بستانکار شده :",{"$f":"SUMIFS(D7:D256,E7:E256,L$6)","v":0},null,"مانده :",{"$f":"C4-F4","v":0}]
[null,null,null,null,null,null,null,null,null,null,null,"بدهکار"]
[{"$f":"256-COUNTIF(B7:B256,\"\")","v":8},"تاریخ","مبلغ کل","سهم واحد","ماهیت","نوع","دسته","واحد","توضیحات",null,null,"بستانکار"]
[1,{"$f":"IFERROR(VLOOKUP(A7,Data!A$8:J$30,2,FALSE),\"\")","v":0},{"$f":"IFERROR(VLOOKUP(A7,Data!A$8:J$30,10,FALSE),\"\")","v":12485410},{"$f":"IFERROR(VLOOKUP(A7,Data!A$8:J$30,3,FALSE),\"\")","v":0},{"$f":"IF(L7>0,IF(L7=3,L$6,L$5),\"\")","v":"بدهکار"},{"$f":"IFERROR(VLOOKUP(A7,Data!A$8:J$30,4,FALSE),\"\")","v":0},{"$f":"IFERROR(VLOOKUP(A7,Data!A$8:J$30,5,FALSE),\"\")","v":0},{"$f":"IFERROR(VLOOKUP(A7,Data!A$8:J$30,6,FALSE),\"\")","v":0},{"$f":"IFERROR(VLOOKUP(A7,Data!A$8:J$30,7,FALSE),\"\")","v":0},null,null,{"$f":"IFERROR(VLOOKUP(A7,Data!A$8:J$30,8,FALSE),0)","v":1}]
[2,{"$f":"IFERROR(VLOOKUP(A8,Data!A$8:J$30,2,FALSE),\"\")","v":0},{"$f":"IFERROR(VLOOKUP(A8,Data!A$8:J$30,10,FALSE),\"\")","v":3000000},{"$f":"IFERROR(VLOOKUP(A8,Data!A$8:J$30,3,FALSE),\"\")","v":0},{"$f":"IF(L8>0,IF(L8=3,L$6,L$5),\"\")","v":"بستانکار"},{"$f":"IFERROR(VLOOKUP(A8,Data!A$8:J$30,4,FALSE),\"\")","v":0},{"$f":"IFERROR(VLOOKUP(A8,Data!A$8:J$30,5,FALSE),\"\")","v":0},{"$f":"IFERROR(VLOOKUP(A8,Data!A$8:J$30,6,FALSE),\"\")","v":0},{"$f":"IFERROR(VLOOKUP(A8,Data!A$8:J$30,7,FALSE),\"\")","v":0},null,null,{"$f":"IFERROR(VLOOKUP(A8,Data!A$8:J$30,8,FALSE),0)","v":3}]
[3,{"$f":"IFERROR(VLOOKUP(A9,Data!A$8:J$30,2,FALSE),\"\")","v":""},{"$f":"IFERROR(VLOOKUP(A9,Data!A$8:J$30,10,FALSE),\"\")","v":""},{"$f":"IFERROR(VLOOKUP(A9,Data!A$8:J$30,3,FALSE),\"\")","v":""},"",{"$f":"IFERROR(VLOOKUP(A9,Data!A$8:J$30,4,FALSE),\"\")","v":""},{"$f":"IFERROR(VLOOKUP(A9,Data!A$8:J$30,5,FALSE),\"\")","v":""},{"$f":"IFERROR(VLOOKUP(A9,Data!A$8:J$30,6,FALSE),\"\")","v":""},{"$f":"IFERROR(VLOOKUP(A9,Data!A$8:J$30,7,FALSE),\"\")","v":""},null,null,{"$f":"IFERROR(VLOOKUP(A9,Data!A$8:J$30,8,FALSE),0)","v":0}]
[4,{"$f":"IFERROR(VLOOKUP(A10,Data!A$8:J$30,2,FALSE),\"\")","v":""},{"$f":"IFERROR(VLOOKUP(A10,Data!A$8:J$30,10,FALSE),\"\")","v":""},{"$f":"IFERROR(VLOOKUP(A10,Data!A$8:J$30,3,FALSE),\"\")","v":""},"",{"$f":"IFERROR(VLOOKUP(A10,Data!A$8:J$30,4,FALSE),\"\")","v":""},{"$f":"IFERROR(VLOOKUP(A10,Data!A$8:J$30,5,FALSE),\"\")","v":""},{"$f":"IFERROR(VLOOKUP(A10,Data!A$8:J$30,6,FALSE),\"\")","v":""},{"$f":"IFERROR(VLOOKUP(A10,Data!A$8:J$30,7,FALSE),\"\")","v":""},null,null,{"$f":"IFERROR(VLOOKUP(A10,Data!A$8:J$30,8,FALSE),0)","v":0}]
[5,{"$f":"IFERROR(VLOOKUP(A11,Data!A$8:J$30,2,FALSE),\"\")","v":""},{"$f":"IFERROR(VLOOKUP(A11,Data!A$8:J$30,10,FALSE),\"\")","v":""},{"$f":"IFERROR(VLOOKUP(A11,Data!A$8:J$30,3,FALSE),\"\")","v":""},"",{"$f":"IFERROR(VLOOKUP(A11,Data!A$8:J$30,4,FALSE),\"\")","v":""},{"$f":"IFERROR(VLOOKUP(A11,Data!A$8:J$30,5,FALSE),\"\")","v":""},{"$f":"IFERROR(VLOOKUP(A11,Data!A$8:J$30,6,FALSE),\"\")","v":""},{"$f":"IFERROR(VLOOKUP(A11,Data!A$8:J$30,7,FALSE),\"\")","v":""},null,null,{"$f":"IFERROR(VLOOKUP(A11,Data!A$8:J$30,8,FALSE),0)","v":0}]
[6,{"$f":"IFERROR(VLOOKUP(A12,Data!A$8:J$30,2,FALSE),\"\")","v":""},{"$f":"IFERROR(VLOOKUP(A12,Data!A$8:J$30,10,FALSE),\"\")","v":""},{"$f":"IFERROR(VLOOKUP(A12,Data!A$8:J$30,3,FALSE),\"\")","v":""},"",{"$f":"IFERROR(VLOOKUP(A12,Data!A$8:J$30,4,FALSE),\"\")","v":""},{"$f":"IFERROR(VLOOKUP(A12,Data!A$8:J$30,5,FALSE),\"\")","v":""},{"$f":"IFERROR(VLOOKUP(A12,Data!A$8:J$30,6,FALSE),\"\")","v":""},{"$f":"IFERROR(VLOOKUP(A12,Data!A$8:J$30,7,FALSE),\"\")","v":""},null,null,{"$f":"IFERROR(VLOOKUP(A12,Data!A$8:J$30,8,FALSE),0)","v":0}]
[7,{"$f":"IFERROR(VLOOKUP(A13,Data!A$8:J$30,2,FALSE),\"\")","v":""},{"$f":"IFERROR(VLOOKUP(A13,Data!A$8:J$30,10,FALSE),\"\")","v":""},{"$f":"IFERROR(VLOOKUP(A13,Data!A$8:J$30,3,FALSE),\"\")","v":""},"",{"$f":"IFERROR(VLOOKUP(A13,Data!A$8:J$30,4,FALSE),\"\")","v":""},{"$f":"IFERROR(VLOOKUP(A13,Data!A$8:J$30,5,FALSE),\"\")","v":""},{"$f":"IFERROR(VLOOKUP(A13,Data!A$8:J$30,6,FALSE),\"\")","v":""},{"$f":"IFERROR(VLOOKUP(A13,Data!A$8:J$30,7,FALSE),\"\")","v":""},null,null,{"$f":"IFERROR(VLOOKUP(A13,Data!A$8:J$30,8,FALSE),0)","v":0}]
[8,{"$f":"IFERROR(VLOOKUP(A14,Data!A$8:J$30,2,FALSE),\"\")","v":""},{"$f":"IFERROR(VLOOKUP(A14,Data!A$8:J$30,10,FALSE),\"\")","v":""},{"$f":"IFERROR(VLOOKUP(A14,Data!A$8:J$30,3,FALSE),\"\")","v":""},"",{"$f":"IFERROR(VLOOKUP(A14,Data!A$8:J$30,4,FALSE),\"\")","v":""},{"$f":"IFERROR(VLOOKUP(A14,Data!A$8:J$30,5,FALSE),\"\")","v":""},{"$f":"IFERROR(VLOOKUP(A14,Data!A$8:J$30,6,FALSE),\"\")","v":""},{"$f":"IFERROR(VLOOKUP(A14,Data!A$8:J$30,7,FALSE),\"\")","v":""},null,null,{"$f":"IFERROR(VLOOKUP(A14,Data!A$8:J$30,8,FALSE),0)","v":0}]
[9,{"$f":"IFERROR(VLOOKUP(A15,Data!A$8:J$30,2,FALSE),\"\")","v":""},{"$f":"IFERROR(VLOOKUP(A15,Data!A$8:J$30,10,FALSE),\"\")","v":""},{"$f":"IFERROR(VLOOKUP(A15,Data!A$8:J$30,3,FALSE),\"\")","v":""},"",{"$f":"IFERROR(VLOOKUP(A15,Data!A$8:J$30,4,FALSE),\"\")","v":""},{"$f":"IFERROR(VLOOKUP(A15,Data!A$8:J$30,5,FALSE),\"\")","v":""},{"$f":"IFERROR(VLOOKUP(A15,Data!A$8:J$30,6,FALSE),\"\")","v":""},{"$f":"IFERROR(VLOOKUP(A15,Data!A$8:J$30,7,FALSE),\"\")","v":""},null,null,{"$f":"IFERROR(VLOOKUP(A15,Data!A$8:J$30,8,FALSE),0)","v":0}]
[10,{"$f":"IFERROR(VLOOKUP(A16,Data!A$8:J$30,2,FALSE),\"\")","v":""},{"$f":"IFERROR(VLOOKUP(A16,Data!A$8:J$30,10,FALSE),\"\")","v":""},{"$f":"IFERROR(VLOOKUP(A16,Data!A$8:J$30,3,FALSE),\"\")","v":""},"",{"$f":"IFERROR(VLOOKUP(A16,Data!A$8:J$30,4,FALSE),\"\")","v":""},{"$f":"IFERROR(VLOOKUP(A16,Data!A$8:J$30,5,FALSE),\"\")","v":""},{"$f":"IFERROR(VLOOKUP(A16,Data!A$8:J$30,6,FALSE),\"\")","v":""},{"$f":"IFERROR(VLOOKUP(A16,Data!A$8:J$30,7,FALSE),\"\")","v":""},null,null,{"$f":"IFERROR(VLOOKUP(A16,Data!A$8:J$30,8,FALSE),0)","v":0}]
[11,{"$f":"IFERROR(VLOOKUP(A17,Data!A$8:J$30,2,FALSE),\"\")","v":""},{"$f":"IFERROR(VLOOKUP(A17,Data!A$8:J$30,10,FALSE),\"\")","v":""},{"$f":"IFERROR(VLOOKUP(A17,Data!A$8:J$30,3,FALSE),\"\")","v":""},"",{"$f":"IFERROR(VLOOKUP(A17,Data!A$8:J$30,4,FALSE),\"\")","v":""},{"$f":"IFERROR(VLOOKUP(A17,Data!A$8:J$30,5,FALSE),\"\")","v":""},{"$f":"IFERROR(VLOOKUP(A17,Data!A$8:J$30,6,FALSE),\"\")","v":""},{"$f":"IFERROR(VLOOKUP(A17,Data!A$8:J$30,7,FALSE),\"\")","v":""},null,null,{"$f":"IFERROR(VLOOKUP(A17,Data!A$8:J$30,8,FALSE),0)","v":0}]
[12,{"$f":"IFERROR(VLOOKUP(A18,Data!A$8:J$30,2,FALSE),\"\")","v":""},{"$f":"IFERROR(VLOOKUP(A18,Data!A$8:J$30,10,FALSE),\"\")","v":""},{"$f":"IFERROR(VLOOKUP(A18,Data!A$8:J$30,3,FALSE),\"\")","v":""},"",{"$f":"IFERROR(VLOOKUP(A18,Data!A$8:J$30,4,FALSE),\"\")","v":""},{"$f":"IFERROR(VLOOKUP(A18,Data!A$8:J$30,5,FALSE),\"\")","v":""},{"$f":"IFERROR(VLOOKUP(A18,Data!A$8:J$30,6,FALSE),\"\")","v":""},{"$f":"IFERROR(VLOOKUP(A18,Data!A$8:J$30,7,FALSE),\"\")","v":""},null,null,{"$f":"IFERROR(VLOOKUP(A18,Data!A$8:J$30,8,FALSE),0)","v":0}]
[13,{"$f":"IFERROR(VLOOKUP(A19,Data!A$8:J$30,2,FALSE),\"\")","v":""},{"$f":"IFERROR(VLOOKUP(A19,Data!A$8:J$30,10,FALSE),\"\")","v":""},{"$f":"IFERROR(VLOOKUP(A19,Data!A$8:J$30,3,FALSE),\"\")","v":""},"",{"$f":"IFERROR(VLOOKUP(A19,Data!A$8:J$30,4,FALSE),\"\")","v":""},{"$f":"IFERROR(VLOOKUP(A19,Data!A$8:J$30,5,FALSE),\"\")","v":""},{"$f":"IFERROR(VLOOKUP(A19,Data!A$8:J$30,6,FALSE),\"\")","v":""},{"$f":"IFERROR(VLOOKUP(A19,Data!A$8:J$30,7,FALSE),\"\")","v":""},null,null,{"$f":"IFERROR(VLOOKUP(A19,Data!A$8:J$30,8,FALSE),0)","v":0}]
[14,{"$f":"IFERROR(VLOOKUP(A20,Data!A$8:J$30,2,FALSE),\"\")","v":""},{"$f":"IFERROR(VLOOKUP(A20,Data!A$8:J$30,10,FALSE),\"\")","v":""},{"$f":"IFERROR(VLOOKUP(A20,Data!A$8:J$30,3,FALSE),\"\")","v":""},"",{"$f":"IFERROR(VLOOKUP(A20,Data!A$8:J$30,4,FALSE),\"\")","v":""},{"$f":"IFERROR(VLOOKUP(A20,Data!A$8:J$30,5,FALSE),\"\")","v":""},{"$f":"IFERROR(VLOOKUP(A20,Data!A$8:J$30,6,FALSE),\"\")","v":""},{"$f":"IFERROR(VLOOKUP(A20,Data!A$8:J$30,7,FALSE),\"\")","v":""},null,null,{"$f":"IFERROR(VLOOKUP(A20,Data!A$8:J$30,8,FALSE),0)","v":0}]
[15,{"$f":"IFERROR(VLOOKUP(A21,Data!A$8:J$30,2,FALSE),\"\")","v":""},{"$f":"IFERROR(VLOOKUP(A21,Data!A$8:J$30,10,FALSE),\"\")","v":""},{"$f":"IFERROR(VLOOKUP(A21,Data!A$8:J$30,3,FALSE),\"\")","v":""},"",{"$f":"IFERROR(VLOOKUP(A21,Data!A$8:J$30,4,FALSE),\"\")","v":""},{"$f":"IFERROR(VLOOKUP(A21,Data!A$8:J$30,5,FALSE),\"\")","v":""},{"$f":"IFERROR(VLOOKUP(A21,Data!A$8:J$30,6,FALSE),\"\")","v":""},{"$f":"IFERROR(VLOOKUP(A21,Data!A$8:J$30,7,FALSE),\"\")","v":""},null,null,{"$f":"IFERROR(VLOOKUP(A21,Data!A$8:J$30,8,FALSE),0)","v":0}]
[16,{"$f":"IFERROR(VLOOKUP(A22,Data!A$8:J$30,2,FALSE),\"\")","v":""},{"$f":"IFERROR(VLOOKUP(A22,Data!A$8:J$30,10,FALSE),\"\")","v":""},{"$f":"IFERROR(VLOOKUP(A22,Data!A$8:J$30,3,FALSE),\"\")","v":""},"",{"$f":"IFERROR(VLOOKUP(A22,Data!A$8:J$30,4,FALSE),\"\")","v":""},{"$f":"IFERROR(VLOOKUP(A22,Data!A$8:J$30,5,FALSE),\"\")","v":""},{"$f":"IFERROR(VLOOKUP(A22,Data!A$8:J$30,6,FALSE),\"\")","v":""},{"$f":"IFERROR(VLOOKUP(A22,Data!A$8:J$30,7,FALSE),\"\")","v":""},null,null,{"$f":"IFERROR(VLOOKUP(A22,Data!A$8:J$30,8,FALSE),0)","v":0}]
[17,{"$f":"IFERROR(VLOOKUP(A23,Data!A$8:J$30,2,FALSE),\"\")","v":""},{"$f":"IFERROR(VLOOKUP(A23,Data!A$8:J$30,10,FALSE),\"\")","v":""},{"$f":"IFERROR(VLOOKUP(A23,Data!A$8:J$30,3,FALSE),\"\")","v":""},"",{"$f":"IFERROR(VLOOKUP(A23,Data!A$8:J$30,4,FALSE),\"\")","v":""},{"$f":"IFERROR(VLOOKUP(A23,Data!A$8:J$30,5,FALSE),\"\")","v":""},{"$f":"IFERROR(VLOOKUP(A23,Data!A$8:J$30,6,FALSE),\"\")","v":""},{"$f":"IFERROR(VLOOKUP(A23,Data!A$8:J$30,7,FALSE),\"\")","v":""},null,null,{"$f":"IFERROR(VLOOKUP(A23,Data!A$8:J$30,8,FALSE),0)","v":0}]
[18,{"$f":"IFERROR(VLOOKUP(A24,Data!A$8:J$30,2,FALSE),\"\")","v":""},{"$f":"IFERROR(VLOOKUP(A24,Data!A$8:J$30,10,FALSE),\"\")","v":""},{"$f":"IFERROR(VLOOKUP(A24,Data!A$8:J$30,3,FALSE),\"\")","v":""},"",{"$f":"IFERROR(VLOOKUP(A24,Data!A$8:J$30,4,FALSE),\"\")","v":""},{"$f":"IFERROR(VLOOKUP(A24,Data!A$8:J$30,5,FALSE),\"\")","v":""},{"$f":"IFERROR(VLOOKUP(A24,Data!A$8:J$30,6,FALSE),\"\")","v":""},{"$f":"IFERROR(VLOOKUP(A24,Data!A$8:J$30,7,FALSE),\"\")","v":""},null,null,{"$f":"IFERROR(VLOOKUP(A24,Data!A$8:J$30,8,FALSE),0)","v":0}]
[19,{"$f":"IFERROR(VLOOKUP(A25,Data!A$8:J$30,2,FALSE),\"\")","v":""},{"$f":"IFERROR(VLOOKUP(A25,Data!A$8:J$30,10,FALSE),\"\")","v":""},{"$f":"IFERROR(VLOOKUP(A25,Data!A$8:J$30,3,FALSE),\"\")","v":""},"",{"$f":"IFERROR(VLOOKUP(A25,Data!A$8:J$30,4,FALSE),\"\")","v":""},{"$f":"IFERROR(VLOOKUP(A25,Data!A$8:J$30,5,FALSE),\"\")","v":""},{"$f":"IFERROR(VLOOKUP(A25,Data!A$8:J$30,6,FALSE),\"\")","v":""},{"$f":"IFERROR(VLOOKUP(A25,Data!A$8:J$30,7,FALSE),\"\")","v":""},null,null,{"$f":"IFERROR(VLOOKUP(A25,Data!A$8:J$30,8,FALSE),0)","v":0}]
[20,{"$f":"IFERROR(VLOOKUP(A26,Data!A$8:J$30,2,FALSE),\"\")","v":""},{"$f":"IFERROR(VLOOKUP(A26,Data!A$8:J$30,10,FALSE),\"\")","v":""},{"$f":"IFERROR(VLOOKUP(A26,Data!A$8:J$30,3,FALSE),\"\")","v":""},"",{"$f":"IFERROR(VLOOKUP(A26,Data!A$8:J$30,4,FALSE),\"\")","v":""},{"$f":"IFERROR(VLOOKUP(A26,Data!A$8:J$30,5,FALSE),\"\")","v":""},{"$f":"IFERROR(VLOOKUP(A26,Data!A$8:J$30,6,FALSE),\"\")","v":""},{"$f":"IFERROR(VLOOKUP(A26,Data!A$8:J$30,7,FALSE),\"\")","v":""},null,null,{"$f":"IFERROR(VLOOKUP(A26,Data!A$8:J$30,8,FALSE),0)","v":0}]
[21,{"$f":"IFERROR(VLOOKUP(A27,Data!A$8:J$30,2,FALSE),\"\")","v":""},{"$f":"IFERROR(VLOOKUP(A27,Data!A$8:J$30,10,FALSE),\"\")","v":""},{"$f":"IFERROR(VLOOKUP(A27,Data!A$8:J$30,3,FALSE),\"\")","v":""},"",{"$f":"IFERROR(VLOOKUP(A27,Data!A$8:J$30,4,FALSE),\"\")","v":""},{"$f":"IFERROR(VLOOKUP(A27,Data!A$8:J$30,5,FALSE),\"\")","v":""},{"$f":"IFERROR(VLOOKUP(A27,Data!A$8:J$30,6,FALSE),\"\")","v":""},{"$f":"IFERROR(VLOOKUP(A27,Data!A$8:J$30,7,FALSE),\"\")","v":""},null,null,{"$f":"IFERROR(VLOOKUP(A27,Data!A$8:J$30,8,FALSE),0)","v":0}]
[22,{"$f":"IFERROR(VLOOKUP(A28,Data!A$8:J$30,2,FALSE),\"\")","v":""},{"$f":"IFERROR(VLOOKUP(A28,Data!A$8:J$30,10,FALSE),\"\")","v":""},{"$f":"IFERROR(VLOOKUP(A28,Data!A$8:J$30,3,FALSE),\"\")","v":""},"",{"$f":"IFERROR(VLOOKUP(A28,Data!A$8:J$30,4,FALSE),\"\")","v":""},{"$f":"IFERROR(VLOOKUP(A28,Data!A$8:J$30,5,FALSE),\"\")","v":""},{"$f":"IFERROR(VLOOKUP(A28,Data!A$8:J$30,6,FALSE),\"\")","v":""},{"$f":"IFERROR(VLOOKUP(A28,Data!A$8:J$30,7,FALSE),\"\")","v":""},null,null,{"$f":"IFERROR(VLOOKUP(A28,Data!A$8:J$30,8,FALSE),0)","v":0}]
[23,{"$f":"IFERROR(VLOOKUP(A29,Data!A$8:J$30,2,FALSE),\"\")","v":""},{"$f":"IFERROR(VLOOKUP(A29,Data!A$8:J$30,10,FALSE),\"\")","v":""},{"$f":"IFERROR(VLOOKUP(A29,Data!A$8:J$30,3,FALSE),\"\")","v":""},"",{"$f":"IFERROR(VLOOKUP(A29,Data!A$8:J$30,4,FALSE),\"\")","v":""},{"$f":"IFERROR(VLOOKUP(A29,Data!A$8:J$30,5,FALSE),\"\")","v":""},{"$f":"IFERROR(VLOOKUP(A29,Data!A$8:J$30,6,FALSE),\"\")","v":""},{"$f":"IFERROR(VLOOKUP(A29,Data!A$8:J$30,7,FALSE),\"\")","v":""},null,null,{"$f":"IFERROR(VLOOKUP(A29,Data!A$8:J$30,8,FALSE),0)","v":0}]
[24,{"$f":"IFERROR(VLOOKUP(A30,Data!A$8:J$30,2,FALSE),\"\")","v":""},{"$f":"IFERROR(VLOOKUP(A30,Data!A$8:J$30,10,FALSE),\"\")","v":""},{"$f":"IFERROR(VLOOKUP(A30,Data!A$8:J$30,3,FALSE),\"\")","v":""},"",{"$f":"IFERROR(VLOOKUP(A30,Data!A$8:J$30,4,FALSE),\"\")","v":""},{"$f":"IFERROR(VLOOKUP(A30,Data!A$8:J$30,5,FALSE),\"\")","v":""},{"$f":"IFERROR(VLOOKUP(A30,Data!A$8:J$30,6,FALSE),\"\")","v":""},{"$f":"IFERROR(VLOOKUP(A30,Data!A$8:J$30,7,FALSE),\"\")","v":""},null,null,{"$f":"IFERROR(VLOOKUP(A30,Data!A$8:J$30,8,FALSE),0)","v":0}]
[25,{"$f":"IFERROR(VLOOKUP(A31,Data!A$8:J$30,2,FALSE),\"\")","v":""},{"$f":"IFERROR(VLOOKUP(A31,Data!A$8:J$30,10,FALSE),\"\")","v":""},{"$f":"IFERROR(VLOOKUP(A31,Data!A$8:J$30,3,FALSE),\"\")","v":""},"",{"$f":"IFERROR(VLOOKUP(A31,Data!A$8:J$30,4,FALSE),\"\")","v":""},{"$f":"IFERROR(VLOOKUP(A31,Data!A$8:J$30,5,FALSE),\"\")","v":""},{"$f":"IFERROR(VLOOKUP(A31,Data!A$8:J$30,6,FALSE),\"\")","v":""},{"$f":"IFERROR(VLOOKUP(A31,Data!A$8:J$30,7,FALSE),\"\")","v":""},null,null,{"$f":"IFERROR(VLOOKUP(A31,Data!A$8:J$30,8,FALSE),0)","v":0}]
[26,{"$f":"IFERROR(VLOOKUP(A32,Data!A$8:J$30,2,FALSE),\"\")","v":""},{"$f":"IFERROR(VLOOKUP(A32,Data!A$8:J$30,10,FALSE),\"\")","v":""},{"$f":"IFERROR(VLOOKUP(A32,Data!A$8:J$30,3,FALSE),\"\")","v":""},"",{"$f":"IFERROR(VLOOKUP(A32,Data!A$8:J$30,4,FALSE),\"\")","v":""},{"$f":"IFERROR(VLOOKUP(A32,Data!A$8:J$30,5,FALSE),\"\")","v":""},{"$f":"IFERROR(VLOOKUP(A32,Data!A$8:J$30,6,FALSE),\"\")","v":""},{"$f":"IFERROR(VLOOKUP(A32,Data!A$8:J$30,7,FALSE),\"\")","v":""},null,null,{"$f":"IFERROR(VLOOKUP(A32,Data!A$8:J$30,8,FALSE),0)","v":0}]
[27,{"$f":"IFERROR(VLOOKUP(A33,Data!A$8:J$30,2,FALSE),\"\")","v":""},{"$f":"IFERROR(VLOOKUP(A33,Data!A$8:J$30,10,FALSE),\"\")","v":""},{"$f":"IFERROR(VLOOKUP(A33,Data!A$8:J$30,3,FALSE),\"\")","v":""},"",{"$f":"IFERROR(VLOOKUP(A33,Data!A$8:J$30,4,FALSE),\"\")","v":""},{"$f":"IFERROR(VLOOKUP(A33,Data!A$8:J$30,5,FALSE),\"\")","v":""},{"$f":"IFERROR(VLOOKUP(A33,Data!A$8:J$30,6,FALSE),\"\")","v":""},{"$f":"IFERROR(VLOOKUP(A33,Data!A$8:J$30,7,FALSE),\"\")","v":""},null,null,{"$f":"IFERROR(VLOOKUP(A33,Data!A$8:J$30,8,FALSE),0)","v":0}]
[28,{"$f":"IFERROR(VLOOKUP(A34,Data!A$8:J$30,2,FALSE),\"\")","v":""},{"$f":"IFERROR(VLOOKUP(A34,Data!A$8:J$30,10,FALSE),\"\")","v":""},{"$f":"IFERROR(VLOOKUP(A34,Data!A$8:J$30,3,FALSE),\"\")","v":""},"",{"$f":"IFERROR(VLOOKUP(A34,Data!A$8:J$30,4,FALSE),\"\")","v":""},{"$f":"IFERROR(VLOOKUP(A34,Data!A$8:J$30,5,FALSE),\"\")","v":""},{"$f":"IFERROR(VLOOKUP(A34,Data!A$8:J$30,6,FALSE),\"\")","v":""},{"$f":"IFERROR(VLOOKUP(A34,Data!A$8:J$30,7,FALSE),\"\")","v":""},null,null,{"$f":"IFERROR(VLOOKUP(A34,Data!A$8:J$30,8,FALSE),0)","v":0}]
[29,{"$f":"IFERROR(VLOOKUP(A35,Data!A$8:J$30,2,FALSE),\"\")","v":""},{"$f":"IFERROR(VLOOKUP(A35,Data!A$8:J$30,10,FALSE),\"\")","v":""},{"$f":"IFERROR(VLOOKUP(A35,Data!A$8:J$30,3,FALSE),\"\")","v":""},"",{"$f":"IFERROR(VLOOKUP(A35,Data!A$8:J$30,4,FALSE),\"\")","v":""},{"$f":"IFERROR(VLOOKUP(A35,Data!A$8:J$30,5,FALSE),\"\")","v":""},{"$f":"IFERROR(VLOOKUP(A35,Data!A$8:J$30,6,FALSE),\"\")","v":""},{"$f":"IFERROR(VLOOKUP(A35,Data!A$8:J$30,7,FALSE),\"\")","v":""},null,null,{"$f":"IFERROR(VLOOKUP(A35,Data!A$8:J$30,8,FALSE),0)","v":0}]
[30,{"$f":"IFERROR(VLOOKUP(A36,Data!A$8:J$30,2,FALSE),\"\")","v":""},{"$f":"IFERROR(VLOOKUP(A36,Data!A$8:J$30,10,FALSE),\"\")","v":""},{"$f":"IFERROR(VLOOKUP(A36,Data!A$8:J$30,3,FALSE),\"\")","v":""},"",{"$f":"IFERROR(VLOOKUP(A36,Data!A$8:J$30,4,FALSE),\"\")","v":""},{"$f":"IFERROR(VLOOKUP(A36,Data!A$8:J$30,5,FALSE),\"\")","v":""},{"$f":"IFERROR(VLOOKUP(A36,Data!A$8:J$30,6,FALSE),\"\")","v":""},{"$f":"IFERROR(VLOOKUP(A36,Data!A$8:J$30,7,FALSE),\"\")","v":""},null,null,{"$f":"IFERROR(VLOOKUP(A36,Data!A$8:J$30,8,FALSE),0)","v":0}]
[31,{"$f":"IFERROR(VLOOKUP(A37,Data!A$8:J$30,2,FALSE),\"\")","v":""},{"$f":"IFERROR(VLOOKUP(A37,Data!A$8:J$30,10,FALSE),\"\")","v":""},{"$f":"IFERROR(VLOOKUP(A37,Data!A$8:J$30,3,FALSE),\"\")","v":""},"",{"$f":"IFERROR(VLOOKUP(A37,Data!A$8:J$30,4,FALSE),\"\")","v":""},{"$f":"IFERROR(VLOOKUP(A37,Data!A$8:J$30,5,FALSE),\"\")","v":""},{"$f":"IFERROR(VLOOKUP(A37,Data!A$8:J$30,6,FALSE),\"\")","v":""},{"$f":"IFERROR(VLOOKUP(A37,Data!A$8:J$30,7,FALSE),\"\")","v":""},null,null,{"$f":"IFERROR(VLOOKUP(A37,Data!A$8:J$30,8,FALSE),0)","v":0}]
[32,{"$f":"IFERROR(VLOOKUP(A38,Data!A$8:J$30,2,FALSE),\"\")","v":""},{"$f":"IFERROR(VLOOKUP(A38,Data!A$8:J$30,10,FALSE),\"\")","v":""},{"$f":"IFERROR(VLOOKUP(A38,Data!A$8:J$30,3,FALSE),\"\")","v":""},"",{"$f":"IFERROR(VLOOKUP(A38,Data!A$8:J$30,4,FALSE),\"\")","v":""},{"$f":"IFERROR(VLOOKUP(A38,Data!A$8:J$30,5,FALSE),\"\")","v":""},{"$f":"IFERROR(VLOOKUP(A38,Data!A$8:J$30,6,FALSE),\"\")","v":""},{"$f":"IFERROR(VLOOKUP(A38,Data!A$8:J$30,7,FALSE),\"\")","v":""},null,null,{"$f":"IFERROR(VLOOKUP(A38,Data!A$8:J$30,8,FALSE),0)","v":0}]
[33,{"$f":"IFERROR(VLOOKUP(A39,Data!A$8:J$30,2,FALSE),\"\")","v":""},{"$f":"IFERROR(VLOOKUP(A39,Data!A$8:J$30,10,FALSE),\"\")","v":""},{"$f":"IFERROR(VLOOKUP(A39,Data!A$8:J$30,3,FALSE),\"\")","v":""},"",{"$f":"IFERROR(VLOOKUP(A39,Data!A$8:J$30,4,FALSE),\"\")","v":""},{"$f":"IFERROR(VLOOKUP(A39,Data!A$8:J$30,5,FALSE),\"\")","v":""},{"$f":"IFERROR(VLOOKUP(A39,Data!A$8:J$30,6,FALSE),\"\")","v":""},{"$f":"IFERROR(VLOOKUP(A39,Data!A$8:J$30,7,FALSE),\"\")","v":""},null,null,{"$f":"IFERROR(VLOOKUP(A39,Data!A$8:J$30,8,FALSE),0)","v":0}]
[34,{"$f":"IFERROR(VLOOKUP(A40,Data!A$8:J$30,2,FALSE),\"\")","v":""},{"$f":"IFERROR(VLOOKUP(A40,Data!A$8:J$30,10,FALSE),\"\")","v":""},{"$f":"IFERROR(VLOOKUP(A40,Data!A$8:J$30,3,FALSE),\"\")","v":""},"",{"$f":"IFERROR(VLOOKUP(A40,Data!A$8:J$30,4,FALSE),\"\")","v":""},{"$f":"IFERROR(VLOOKUP(A40,Data!A$8:J$30,5,FALSE),\"\")","v":""},{"$f":"IFERROR(VLOOKUP(A40,Data!A$8:J$30,6,FALSE),\"\")","v":""},{"$f":"IFERROR(VLOOKUP(A40,Data!A$8:J$30,7,FALSE),\"\")","v":""},null,null,{"$f":"IFERROR(VLOOKUP(A40,Data!A$8:J$30,8,FALSE),0)","v":0}]
[35,{"$f":"IFERROR(VLOOKUP(A41,Data!A$8:J$30,2,FALSE),\"\")","v":""},{"$f":"IFERROR(VLOOKUP(A41,Data!A$8:J$30,10,FALSE),\"\")","v":""},{"$f":"IFERROR(VLOOKUP(A41,Data!A$8:J$30,3,FALSE),\"\")","v":""},"",{"$f":"IFERROR(VLOOKUP(A41,Data!A$8:J$30,4,FALSE),\"\")","v":""},{"$f":"IFERROR(VLOOKUP(A41,Data!A$8:J$30,5,FALSE),\"\")","v":""},{"$f":"IFERROR(VLOOKUP(A41,Data!A$8:J$30,6,FALSE),\"\")","v":""},{"$f":"IFERROR(VLOOKUP(A41,Data!A$8:J$30,7,FALSE),\"\")","v":""},null,null,{"$f":"IFERROR(VLOOKUP(A41,Data!A$8:J$30,8,FALSE),0)","v":0}]
[36,{"$f":"IFERROR(VLOOKUP(A42,Data!A$8:J$30,2,FALSE),\"\")","v":""},{"$f":"IFERROR(VLOOKUP(A42,Data!A$8:J$30,10,FALSE),\"\")","v":""},{"$f":"IFERROR(VLOOKUP(A42,Data!A$8:J$30,3,FALSE),\"\")","v":""},"",{"$f":"IFERROR(VLOOKUP(A42,Data!A$8:J$30,4,FALSE),\"\")","v":""},{"$f":"IFERROR(VLOOKUP(A42,Data!A$8:J$30,5,FALSE),\"\")","v":""},{"$f":"IFERROR(VLOOKUP(A42,Data!A$8:J$30,6,FALSE),\"\")","v":""},{"$f":"IFERROR(VLOOKUP(A42,Data!A$8:J$30,7,FALSE),\"\")","v":""},null,null,{"$f":"IFERROR(VLOOKUP(A42,Data!A$8:J$30,8,FALSE),0)","v":0}]
[37,{"$f":"IFERROR(VLOOKUP(A43,Data!A$8:J$30,2,FALSE),\"\")","v":""},{"$f":"IFERROR(VLOOKUP(A43,Data!A$8:J$30,10,FALSE),\"\")","v":""},{"$f":"IFERROR(VLOOKUP(A43,Data!A$8:J$30,3,FALSE),\"\")","v":""},"",{"$f":"IFERROR(VLOOKUP(A43,Data!A$8:J$30,4,FALSE),\"\")","v":""},{"$f":"IFERROR(VLOOKUP(A43,Data!A$8:J$30,5,FALSE),\"\")","v":""},{"$f":"IFERROR(VLOOKUP(A43,Data!A$8:J$30,6,FALSE),\"\")","v":""},{"$f":"IFERROR(VLOOKUP(A43,Data!A$8:J$30,7,FALSE),\"\")","v":""},null,null,{"$f":"IFERROR(VLOOKUP(A43,Data!A$8:J$30,8,FALSE),0)","v":0}]
[38,{"$f":"IFERROR(VLOOKUP(A44,Data!A$8:J$30,2,FALSE),\"\")","v":""},{"$f":"IFERROR(VLOOKUP(A44,Data!A$8:J$30,10,FALSE),\"\")","v":""},{"$f":"IFERROR(VLOOKUP(A44,Data!A$8:J$30,3,FALSE),\"\")","v":""},"",{"$f":"IFERROR(VLOOKUP(A44,Data!A$8:J$30,4,FALSE),\"\")","v":""},{"$f":"IFERROR(VLOOKUP(A44,Data!A$8:J$30,5,FALSE),\"\")","v":""},{"$f":"IFERROR(VLOOKUP(A44,Data!A$8:J$30,6,FALSE),\"\")","v":""},{"$f":"IFERROR(VLOOKUP(A44,Data!A$8:J$30,7,FALSE),\"\")","v":""},null,null,{"$f":"IFERROR(VLOOKUP(A44,Data!A$8:J$30,8,FALSE),0)","v":0}]
[39,{"$f":"IFERROR(VLOOKUP(A45,Data!A$8:J$30,2,FALSE),\"\")","v":""},{"$f":"IFERROR(VLOOKUP(A45,Data!A$8:J$30,10,FALSE),\"\")","v":""},{"$f":"IFERROR(VLOOKUP(A45,Data!A$8:J$30,3,FALSE),\"\")","v":""},"",{"$f":"IFERROR(VLOOKUP(A45,Data!A$8:J$30,4,FALSE),\"\")","v":""},{"$f":"IFERROR(VLOOKUP(A45,Data!A$8:J$30,5,FALSE),\"\")","v":""},{"$f":"IFERROR(VLOOKUP(A45,Data!A$8:J$30,6,FALSE),\"\")","v":""},{"$f":"IFERROR(VLOOKUP(A45,Data!A$8:J$30,7,FALSE),\"\")","v":""},null,null,{"$f":"IFERROR(VLOOKUP(A45,Data!A$8:J$30,8,FALSE),0)","v":0}]
[40,{"$f":"IFERROR(VLOOKUP(A46,Data!A$8:J$30,2,FALSE),\"\")","v":""},{"$f":"IFERROR(VLOOKUP(A46,Data!A$8:J$30,10,FALSE),\"\")","v":""},{"$f":"IFERROR(VLOOKUP(A46,Data!A$8:J$30,3,FALSE),\"\")","v":""},"",{"$f":"IFERROR(VLOOKUP(A46,Data!A$8:J$30,4,FALSE),\"\")","v":""},{"$f":"IFERROR(VLOOKUP(A46,Data!A$8:J$30,5,FALSE),\"\")","v":""},{"$f":"IFERROR(VLOOKUP(A46,Data!A$8:J$30,6,FALSE),\"\")","v":""},{"$f":"IFERROR(VLOOKUP(A46,Data!A$8:J$30,7,FALSE),\"\")","v":""},null,null,{"$f":"IFERROR(VLOOKUP(A46,Data!A$8:J$30,8,FALSE),0)","v":0}]
[41,{"$f":"IFERROR(VLOOKUP(A47,Data!A$8:J$30,2,FALSE),\"\")","v":""},{"$f":"IFERROR(VLOOKUP(A47,Data!A$8:J$30,10,FALSE),\"\")","v":""},{"$f":"IFERROR(VLOOKUP(A47,Data!A$8:J$30,3,FALSE),\"\")","v":""},"",{"$f":"IFERROR(VLOOKUP(A47,Data!A$8:J$30,4,FALSE),\"\")","v":""},{"$f":"IFERROR(VLOOKUP(A47,Data!A$8:J$30,5,FALSE),\"\")","v":""},{"$f":"IFERROR(VLOOKUP(A47,Data!A$8:J$30,6,FALSE),\"\")","v":""},{"$f":"IFERROR(VLOOKUP(A47,Data!A$8:J$30,7,FALSE),\"\")","v":""},null,null,{"$f":"IFERROR(VLOOKUP(A47,Data!A$8:J$30,8,FALSE),0)","v":0}]
[42,{"$f":"IFERROR(VLOOKUP(A48,Data!A$8:J$30,2,FALSE),\"\")","v":""},{"$f":"IFERROR(VLOOKUP(A48,Data!A$8:J$30,10,FALSE),\"\")","v":""},{"$f":"IFERROR(VLOOKUP(A48,Data!A$8:J$30,3,FALSE),\"\")","v":""},"",{"$f":"IFERROR(VLOOKUP(A48,Data!A$8:J$30,4,FALSE),\"\")","v":""},{"$f":"IFERROR(VLOOKUP(A48,Data!A$8:J$30,5,FALSE),\"\")","v":""},{"$f":"IFERROR(VLOOKUP(A48,Data!A$8:J$30,6,FALSE),\"\")","v":""},{"$f":"IFERROR(VLOOKUP(A48,Data!A$8:J$30,7,FALSE),\"\")","v":""},null,null,{"$f":"IFERROR(VLOOKUP(A48,Data!A$8:J$30,8,FALSE),0)","v":0}]
[43,{"$f":"IFERROR(VLOOKUP(A49,Data!A$8:J$30,2,FALSE),\"\")","v":""},{"$f":"IFERROR(VLOOKUP(A49,Data!A$8:J$30,10,FALSE),\"\")","v":""},{"$f":"IFERROR(VLOOKUP(A49,Data!A$8:J$30,3,FALSE),\"\")","v":""},"",{"$f":"IFERROR(VLOOKUP(A49,Data!A$8:J$30,4,FALSE),\"\")","v":""},{"$f":"IFERROR(VLOOKUP(A49,Data!A$8:J$30,5,FALSE),\"\")","v":""},{"$f":"IFERROR(VLOOKUP(A49,Data!A$8:J$30,6,FALSE),\"\")","v":""},{"$f":"IFERROR(VLOOKUP(A49,Data!A$8:J$30,7,FALSE),\"\")","v":""},null,null,{"$f":"IFERROR(VLOOKUP(A49,Data!A$8:J$30,8,FALSE),0)","v":0}]
[44,{"$f":"IFERROR(VLOOKUP(A50,Data!A$8:J$30,2,FALSE),\"\")","v":""},{"$f":"IFERROR(VLOOKUP(A50,Data!A$8:J$30,10,FALSE),\"\")","v":""},{"$f":"IFERROR(VLOOKUP(A50,Data!A$8:J$30,3,FALSE),\"\")","v":""},"",{"$f":"IFERROR(VLOOKUP(A50,Data!A$8:J$30,4,FALSE),\"\")","v":""},{"$f":"IFERROR(VLOOKUP(A50,Data!A$8:J$30,5,FALSE),\"\")","v":""},{"$f":"IFERROR(VLOOKUP(A50,Data!A$8:J$30,6,FALSE),\"\")","v":""},{"$f":"IFERROR(VLOOKUP(A50,Data!A$8:J$30,7,FALSE),\"\")","v":""},null,null,{"$f":"IFERROR(VLOOKUP(A50,Data!A$8:J$30,8,FALSE),0)","v":0}]
[45,{"$f":"IFERROR(VLOOKUP(A51,Data!A$8:J$30,2,FALSE),\"\")","v":""},{"$f":"IFERROR(VLOOKUP(A51,Data!A$8:J$30,10,FALSE),\"\")","v":""},{"$f":"IFERROR(VLOOKUP(A51,Data!A$8:J$30,3,FALSE),\"\")","v":""},"",{"$f":"IFERROR(VLOOKUP(A51,Data!A$8:J$30,4,FALSE),\"\")","v":""},{"$f":"IFERROR(VLOOKUP(A51,Data!A$8:J$30,5,FALSE),\"\")","v":""},{"$f":"IFERROR(VLOOKUP(A51,Data!A$8:J$30,6,FALSE),\"\")","v":""},{"$f":"IFERROR(VLOOKUP(A51,Data!A$8:J$30,7,FALSE),\"\")","v":""},null,null,{"$f":"IFERROR(VLOOKUP(A51,Data!A$8:J$30,8,FALSE),0)","v":0}]
[46,{"$f":"IFERROR(VLOOKUP(A52,Data!A$8:J$30,2,FALSE),\"\")","v":""},{"$f":"IFERROR(VLOOKUP(A52,Data!A$8:J$30,10,FALSE),\"\")","v":""},{"$f":"IFERROR(VLOOKUP(A52,Data!A$8:J$30,3,FALSE),\"\")","v":""},"",{"$f":"IFERROR(VLOOKUP(A52,Data!A$8:J$30,4,FALSE),\"\")","v":""},{"$f":"IFERROR(VLOOKUP(A52,Data!A$8:J$30,5,FALSE),\"\")","v":""},{"$f":"IFERROR(VLOOKUP(A52,Data!A$8:J$30,6,FALSE),\"\")","v":""},{"$f":"IFERROR(VLOOKUP(A52,Data!A$8:J$30,7,FALSE),\"\")","v":""},null,null,{"$f":"IFERROR(VLOOKUP(A52,Data!A$8:J$30,8,FALSE),0)","v":0}]
[47,{"$f":"IFERROR(VLOOKUP(A53,Data!A$8:J$30,2,FALSE),\"\")","v":""},{"$f":"IFERROR(VLOOKUP(A53,Data!A$8:J$30,10,FALSE),\"\")","v":""},{"$f":"IFERROR(VLOOKUP(A53,Data!A$8:J$30,3,FALSE),\"\")","v":""},"",{"$f":"IFERROR(VLOOKUP(A53,Data!A$8:J$30,4,FALSE),\"\")","v":""},{"$f":"IFERROR(VLOOKUP(A53,Data!A$8:J$30,5,FALSE),\"\")","v":""},{"$f":"IFERROR(VLOOKUP(A53,Data!A$8:J$30,6,FALSE),\"\")","v":""},{"$f":"IFERROR(VLOOKUP(A53,Data!A$8:J$30,7,FALSE),\"\")","v":""},null,null,{"$f":"IFERROR(VLOOKUP(A53,Data!A$8:J$30,8,FALSE),0)","v":0}]
[48,{"$f":"IFERROR(VLOOKUP(A54,Data!A$8:J$30,2,FALSE),\"\")","v":""},{"$f":"IFERROR(VLOOKUP(A54,Data!A$8:J$30,10,FALSE),\"\")","v":""},{"$f":"IFERROR(VLOOKUP(A54,Data!A$8:J$30,3,FALSE),\"\")","v":""},"",{"$f":"IFERROR(VLOOKUP(A54,Data!A$8:J$30,4,FALSE),\"\")","v":""},{"$f":"IFERROR(VLOOKUP(A54,Data!A$8:J$30,5,FALSE),\"\")","v":""},{"$f":"IFERROR(VLOOKUP(A54,Data!A$8:J$30,6,FALSE),\"\")","v":""},{"$f":"IFERROR(VLOOKUP(A54,Data!A$8:J$30,7,FALSE),\"\")","v":""},null,null,{"$f":"IFERROR(VLOOKUP(A54,Data!A$8:J$30,8,FALSE),0)","v":0}]
[49,{"$f":"IFERROR(VLOOKUP(A55,Data!A$8:J$30,2,FALSE),\"\")","v":""},{"$f":"IFERROR(VLOOKUP(A55,Data!A$8:J$30,10,FALSE),\"\")","v":""},{"$f":"IFERROR(VLOOKUP(A55,Data!A$8:J$30,3,FALSE),\"\")","v":""},"",{"$f":"IFERROR(VLOOKUP(A55,Data!A$8:J$30,4,FALSE),\"\")","v":""},{"$f":"IFERROR(VLOOKUP(A55,Data!A$8:J$30,5,FALSE),\"\")","v":""},{"$f":"IFERROR(VLOOKUP(A55,Data!A$8:J$30,6,FALSE),\"\")","v":""},{"$f":"IFERROR(VLOOKUP(A55,Data!A$8:J$30,7,FALSE),\"\")","v":""},null,null,{"$f":"IFERROR(VLOOKUP(A55,Data!A$8:J$30,8,FALSE),0)","v":0}]
[50,{"$f":"IFERROR(VLOOKUP(A56,Data!A$8:J$30,2,FALSE),\"\")","v":""},{"$f":"IFERROR(VLOOKUP(A56,Data!A$8:J$30,10,FALSE),\"\")","v":""},{"$f":"IFERROR(VLOOKUP(A56,Data!A$8:J$30,3,FALSE),\"\")","v":""},"",{"$f":"IFERROR(VLOOKUP(A56,Data!A$8:J$30,4,FALSE),\"\")","v":""},{"$f":"IFERROR(VLOOKUP(A56,Data!A$8:J$30,5,FALSE),\"\")","v":""},{"$f":"IFERROR(VLOOKUP(A56,Data!A$8:J$30,6,FALSE),\"\")","v":""},{"$f":"IFERROR(VLOOKUP(A56,Data!A$8:J$30,7,FALSE),\"\")","v":""},null,null,{"$f":"IFERROR(VLOOKUP(A56,Data!A$8:J$30,8,FALSE),0)","v":0}]
[51,{"$f":"IFERROR(VLOOKUP(A57,Data!A$8:J$30,2,FALSE),\"\")","v":""},{"$f":"IFERROR(VLOOKUP(A57,Data!A$8:J$30,10,FALSE),\"\")","v":""},{"$f":"IFERROR(VLOOKUP(A57,Data!A$8:J$30,3,FALSE),\"\")","v":""},"",{"$f":"IFERROR(VLOOKUP(A57,Data!A$8:J$30,4,FALSE),\"\")","v":""},{"$f":"IFERROR(VLOOKUP(A57,Data!A$8:J$30,5,FALSE),\"\")","v":""},{"$f":"IFERROR(VLOOKUP(A57,Data!A$8:J$30,6,FALSE),\"\")","v":""},{"$f":"IFERROR(VLOOKUP(A57,Data!A$8:J$30,7,FALSE),\"\")","v":""},null,null,{"$f":"IFERROR(VLOOKUP(A57,Data!A$8:J$30,8,FALSE),0)","v":0}]
[52,{"$f":"IFERROR(VLOOKUP(A58,Data!A$8:J$30,2,FALSE),\"\")","v":""},{"$f":"IFERROR(VLOOKUP(A58,Data!A$8:J$30,10,FALSE),\"\")","v":""},{"$f":"IFERROR(VLOOKUP(A58,Data!A$8:J$30,3,FALSE),\"\")","v":""},"",{"$f":"IFERROR(VLOOKUP(A58,Data!A$8:J$30,4,FALSE),\"\")","v":""},{"$f":"IFERROR(VLOOKUP(A58,Data!A$8:J$30,5,FALSE),\"\")","v":""},{"$f":"IFERROR(VLOOKUP(A58,Data!A$8:J$30,6,FALSE),\"\")","v":""},{"$f":"IFERROR(VLOOKUP(A58,Data!A$8:J$30,7,FALSE),\"\")","v":""},null,null,{"$f":"IFERROR(VLOOKUP(A58,Data!A$8:J$30,8,FALSE),0)","v":0}]
[53,{"$f":"IFERROR(VLOOKUP(A59,Data!A$8:J$30,2,FALSE),\"\")","v":""},{"$f":"IFERROR(VLOOKUP(A59,Data!A$8:J$30,10,FALSE),\"\")","v":""},{"$f":"IFERROR(VLOOKUP(A59,Data!A$8:J$30,3,FALSE),\"\")","v":""},"",{"$f":"IFERROR(VLOOKUP(A59,Data!A$8:J$30,4,FALSE),\"\")","v":""},{"$f":"IFERROR(VLOOKUP(A59,Data!A$8:J$30,5,FALSE),\"\")","v":""},{"$f":"IFERROR(VLOOKUP(A59,Data!A$8:J$30,6,FALSE),\"\")","v":""},{"$f":"IFERROR(VLOOKUP(A59,Data!A$8:J$30,7,FALSE),\"\")","v":""},null,null,{"$f":"IFERROR(VLOOKUP(A59,Data!A$8:J$30,8,FALSE),0)","v":0}]
[54,{"$f":"IFERROR(VLOOKUP(A60,Data!A$8:J$30,2,FALSE),\"\")","v":""},{"$f":"IFERROR(VLOOKUP(A60,Data!A$8:J$30,10,FALSE),\"\")","v":""},{"$f":"IFERROR(VLOOKUP(A60,Data!A$8:J$30,3,FALSE),\"\")","v":""},"",{"$f":"IFERROR(VLOOKUP(A60,Data!A$8:J$30,4,FALSE),\"\")","v":""},{"$f":"IFERROR(VLOOKUP(A60,Data!A$8:J$30,5,FALSE),\"\")","v":""},{"$f":"IFERROR(VLOOKUP(A60,Data!A$8:J$30,6,FALSE),\"\")","v":""},{"$f":"IFERROR(VLOOKUP(A60,Data!A$8:J$30,7,FALSE),\"\")","v":""},null,null,{"$f":"IFERROR(VLOOKUP(A60,Data!A$8:J$30,8,FALSE),0)","v":0}]
[55,{"$f":"IFERROR(VLOOKUP(A61,Data!A$8:J$30,2,FALSE),\"\")","v":""},{"$f":"IFERROR(VLOOKUP(A61,Data!A$8:J$30,10,FALSE),\"\")","v":""},{"$f":"IFERROR(VLOOKUP(A61,Data!A$8:J$30,3,FALSE),\"\")","v":""},"",{"$f":"IFERROR(VLOOKUP(A61,Data!A$8:J$30,4,FALSE),\"\")","v":""},{"$f":"IFERROR(VLOOKUP(A61,Data!A$8:J$30,5,FALSE),\"\")","v":""},{"$f":"IFERROR(VLOOKUP(A61,Data!A$8:J$30,6,FALSE),\"\")","v":""},{"$f":"IFERROR(VLOOKUP(A61,Data!A$8:J$30,7,FALSE),\"\")","v":""},null,null,{"$f":"IFERROR(VLOOKUP(A61,Data!A$8:J$30,8,FALSE),0)","v":0}]
[56,{"$f":"IFERROR(VLOOKUP(A62,Data!A$8:J$30,2,FALSE),\"\")","v":""},{"$f":"IFERROR(VLOOKUP(A62,Data!A$8:J$30,10,FALSE),\"\")","v":""},{"$f":"IFERROR(VLOOKUP(A62,Data!A$8:J$30,3,FALSE),\"\")","v":""},"",{"$f":"IFERROR(VLOOKUP(A62,Data!A$8:J$30,4,FALSE),\"\")","v":""},{"$f":"IFERROR(VLOOKUP(A62,Data!A$8:J$30,5,FALSE),\"\")","v":""},{"$f":"IFERROR(VLOOKUP(A62,Data!A$8:J$30,6,FALSE),\"\")","v":""},{"$f":"IFERROR(VLOOKUP(A62,Data!A$8:J$30,7,FALSE),\"\")","v":""},null,null,{"$f":"IFERROR(VLOOKUP(A62,Data!A$8:J$30,8,FALSE),0)","v":0}]
[57,{"$f":"IFERROR(VLOOKUP(A63,Data!A$8:J$30,2,FALSE),\"\")","v":""},{"$f":"IFERROR(VLOOKUP(A63,Data!A$8:J$30,10,FALSE),\"\")","v":""},{"$f":"IFERROR(VLOOKUP(A63,Data!A$8:J$30,3,FALSE),\"\")","v":""},"",{"$f":"IFERROR(VLOOKUP(A63,Data!A$8:J$30,4,FALSE),\"\")","v":""},{"$f":"IFERROR(VLOOKUP(A63,Data!A$8:J$30,5,FALSE),\"\")","v":""},{"$f":"IFERROR(VLOOKUP(A63,Data!A$8:J$30,6,FALSE),\"\")","v":""},{"$f":"IFERROR(VLOOKUP(A63,Data!A$8:J$30,7,FALSE),\"\")","v":""},null,null,{"$f":"IFERROR(VLOOKUP(A63,Data!A$8:J$30,8,FALSE),0)","v":0}]
[58,{"$f":"IFERROR(VLOOKUP(A64,Data!A$8:J$30,2,FALSE),\"\")","v":""},{"$f":"IFERROR(VLOOKUP(A64,Data!A$8:J$30,10,FALSE),\"\")","v":""},{"$f":"IFERROR(VLOOKUP(A64,Data!A$8:J$30,3,FALSE),\"\")","v":""},"",{"$f":"IFERROR(VLOOKUP(A64,Data!A$8:J$30,4,FALSE),\"\")","v":""},{"$f":"IFERROR(VLOOKUP(A64,Data!A$8:J$30,5,FALSE),\"\")","v":""},{"$f":"IFERROR(VLOOKUP(A64,Data!A$8:J$30,6,FALSE),\"\")","v":""},{"$f":"IFERROR(VLOOKUP(A64,Data!A$8:J$30,7,FALSE),\"\")","v":""},null,null,{"$f":"IFERROR(VLOOKUP(A64,Data!A$8:J$30,8,FALSE),0)","v":0}]
[59,{"$f":"IFERROR(VLOOKUP(A65,Data!A$8:J$30,2,FALSE),\"\")","v":""},{"$f":"IFERROR(VLOOKUP(A65,Data!A$8:J$30,10,FALSE),\"\")","v":""},{"$f":"IFERROR(VLOOKUP(A65,Data!A$8:J$30,3,FALSE),\"\")","v":""},"",{"$f":"IFERROR(VLOOKUP(A65,Data!A$8:J$30,4,FALSE),\"\")","v":""},{"$f":"IFERROR(VLOOKUP(A65,Data!A$8:J$30,5,FALSE),\"\")","v":""},{"$f":"IFERROR(VLOOKUP(A65,Data!A$8:J$30,6,FALSE),\"\")","v":""},{"$f":"IFERROR(VLOOKUP(A65,Data!A$8:J$30,7,FALSE),\"\")","v":""},null,null,{"$f":"IFERROR(VLOOKUP(A65,Data!A$8:J$30,8,FALSE),0)","v":0}]
[60,{"$f":"IFERROR(VLOOKUP(A66,Data!A$8:J$30,2,FALSE),\"\")","v":""},{"$f":"IFERROR(VLOOKUP(A66,Data!A$8:J$30,10,FALSE),\"\")","v":""},{"$f":"IFERROR(VLOOKUP(A66,Data!A$8:J$30,3,FALSE),\"\")","v":""},"",{"$f":"IFERROR(VLOOKUP(A66,Data!A$8:J$30,4,FALSE),\"\")","v":""},{"$f":"IFERROR(VLOOKUP(A66,Data!A$8:J$30,5,FALSE),\"\")","v":""},{"$f":"IFERROR(VLOOKUP(A66,Data!A$8:J$30,6,FALSE),\"\")","v":""},{"$f":"IFERROR(VLOOKUP(A66,Data!A$8:J$30,7,FALSE),\"\")","v":""},null,null,{"$f":"IFERROR(VLOOKUP(A66,Data!A$8:J$30,8,FALSE),0)","v":0}]
[61,{"$f":"IFERROR(VLOOKUP(A67,Data!A$8:J$30,2,FALSE),\"\")","v":""},{"$f":"IFERROR(VLOOKUP(A67,Data!A$8:J$30,10,FALSE),\"\")","v":""},{"$f":"IFERROR(VLOOKUP(A67,Data!A$8:J$30,3,FALSE),\"\")","v":""},"",{"$f":"IFERROR(VLOOKUP(A67,Data!A$8:J$30,4,FALSE),\"\")","v":""},{"$f":"IFERROR(VLOOKUP(A67,Data!A$8:J$30,5,FALSE),\"\")","v":""},{"$f":"IFERROR(VLOOKUP(A67,Data!A$8:J$30,6,FALSE),\"\")","v":""},{"$f":"IFERROR(VLOOKUP(A67,Data!A$8:J$30,7,FALSE),\"\")","v":""},null,null,{"$f":"IFERROR(VLOOKUP(A67,Data!A$8:J$30,8,FALSE),0)","v":0}]
[62,{"$f":"IFERROR(VLOOKUP(A68,Data!A$8:J$30,2,FALSE),\"\")","v":""},{"$f":"IFERROR(VLOOKUP(A68,Data!A$8:J$30,10,FALSE),\"\")","v":""},{"$f":"IFERROR(VLOOKUP(A68,Data!A$8:J$30,3,FALSE),\"\")","v":""},"",{"$f":"IFERROR(VLOOKUP(A68,Data!A$8:J$30,4,FALSE),\"\")","v":""},{"$f":"IFERROR(VLOOKUP(A68,Data!A$8:J$30,5,FALSE),\"\")","v":""},{"$f":"IFERROR(VLOOKUP(A68,Data!A$8:J$30,6,FALSE),\"\")","v":""},{"$f":"IFERROR(VLOOKUP(A68,Data!A$8:J$30,7,FALSE),\"\")","v":""},null,null,{"$f":"IFERROR(VLOOKUP(A68,Data!A$8:J$30,8,FALSE),0)","v":0}]
[63,{"$f":"IFERROR(VLOOKUP(A69,Data!A$8:J$30,2,FALSE),\"\")","v":""},{"$f":"IFERROR(VLOOKUP(A69,Data!A$8:J$30,10,FALSE),\"\")","v":""},{"$f":"IFERROR(VLOOKUP(A69,Data!A$8:J$30,3,FALSE),\"\")","v":""},"",{"$f":"IFERROR(VLOOKUP(A69,Data!A$8:J$30,4,FALSE),\"\")","v":""},{"$f":"IFERROR(VLOOKUP(A69,Data!A$8:J$30,5,FALSE),\"\")","v":""},{"$f":"IFERROR(VLOOKUP(A69,Data!A$8:J$30,6,FALSE),\"\")","v":""},{"$f":"IFERROR(VLOOKUP(A69,Data!A$8:J$30,7,FALSE),\"\")","v":""},null,null,{"$f":"IFERROR(VLOOKUP(A69,Data!A$8:J$30,8,FALSE),0)","v":0}]
[64,{"$f":"IFERROR(VLOOKUP(A70,Data!A$8:J$30,2,FALSE),\"\")","v":""},{"$f":"IFERROR(VLOOKUP(A70,Data!A$8:J$30,10,FALSE),\"\")","v":""},{"$f":"IFERROR(VLOOKUP(A70,Data!A$8:J$30,3,FALSE),\"\")","v":""},"",{"$f":"IFERROR(VLOOKUP(A70,Data!A$8:J$30,4,FALSE),\"\")","v":""},{"$f":"IFERROR(VLOOKUP(A70,Data!A$8:J$30,5,FALSE),\"\")","v":""},{"$f":"IFERROR(VLOOKUP(A70,Data!A$8:J$30,6,FALSE),\"\")","v":""},{"$f":"IFERROR(VLOOKUP(A70,Data!A$8:J$30,7,FALSE),\"\")","v":""},null,null,{"$f":"IFERROR(VLOOKUP(A70,Data!A$8:J$30,8,FALSE),0)","v":0}]
[65,{"$f":"IFERROR(VLOOKUP(A71,Data!A$8:J$30,2,FALSE),\"\")","v":""},{"$f":"IFERROR(VLOOKUP(A71,Data!A$8:J$30,10,FALSE),\"\")","v":""},{"$f":"IFERROR(VLOOKUP(A71,Data!A$8:J$30,3,FALSE),\"\")","v":""},"",{"$f":"IFERROR(VLOOKUP(A71,Data!A$8:J$30,4,FALSE),\"\")","v":""},{"$f":"IFERROR(VLOOKUP(A71,Data!A$8:J$30,5,FALSE),\"\")","v":""},{"$f":"IFERROR(VLOOKUP(A71,Data!A$8:J$30,6,FALSE),\"\")","v":""},{"$f":"IFERROR(VLOOKUP(A71,Data!A$8:J$30,7,FALSE),\"\")","v":""},null,null,{"$f":"IFERROR(VLOOKUP(A71,Data!A$8:J$30,8,FALSE),0)","v":0}]
[66,{"$f":"IFERROR(VLOOKUP(A72,Data!A$8:J$30,2,FALSE),\"\")","v":""},{"$f":"IFERROR(VLOOKUP(A72,Data!A$8:J$30,10,FALSE),\"\")","v":""},{"$f":"IFERROR(VLOOKUP(A72,Data!A$8:J$30,3,FALSE),\"\")","v":""},{"$f":"IF(L72>0,IF(L72=3,L$6,L$5),\"\")","v":""},{"$f":"IFERROR(VLOOKUP(A72,Data!A$8:J$30,4,FALSE),\"\")","v":""},{"$f":"IFERROR(VLOOKUP(A72,Data!A$8:J$30,5,FALSE),\"\")","v":""},{"$f":"IFERROR(VLOOKUP(A72,Data!A$8:J$30,6,FALSE),\"\")","v":""},{"$f":"IFERROR(VLOOKUP(A72,Data!A$8:J$30,7,FALSE),\"\")","v":""},null,null,{"$f":"IFERROR(VLOOKUP(A72,Data!A$8:J$30,8,FALSE),0)","v":0}]
[67,{"$f":"IFERROR(VLOOKUP(A73,Data!A$8:J$30,2,FALSE),\"\")","v":""},{"$f":"IFERROR(VLOOKUP(A73,Data!A$8:J$30,10,FALSE),\"\")","v":""},{"$f":"IFERROR(VLOOKUP(A73,Data!A$8:J$30,3,FALSE),\"\")","v":""},"",{"$f":"IFERROR(VLOOKUP(A73,Data!A$8:J$30,4,FALSE),\"\")","v":""},{"$f":"IFERROR(VLOOKUP(A73,Data!A$8:J$30,5,FALSE),\"\")","v":""},{"$f":"IFERROR(VLOOKUP(A73,Data!A$8:J$30,6,FALSE),\"\")","v":""},{"$f":"IFERROR(VLOOKUP(A73,Data!A$8:J$30,7,FALSE),\"\")","v":""},null,null,{"$f":"IFERROR(VLOOKUP(A73,Data!A$8:J$30,8,FALSE),0)","v":0}]
[68,{"$f":"IFERROR(VLOOKUP(A74,Data!A$8:J$30,2,FALSE),\"\")","v":""},{"$f":"IFERROR(VLOOKUP(A74,Data!A$8:J$30,10,FALSE),\"\")","v":""},{"$f":"IFERROR(VLOOKUP(A74,Data!A$8:J$30,3,FALSE),\"\")","v":""},"",{"$f":"IFERROR(VLOOKUP(A74,Data!A$8:J$30,4,FALSE),\"\")","v":""},{"$f":"IFERROR(VLOOKUP(A74,Data!A$8:J$30,5,FALSE),\"\")","v":""},{"$f":"IFERROR(VLOOKUP(A74,Data!A$8:J$30,6,FALSE),\"\")","v":""},{"$f":"IFERROR(VLOOKUP(A74,Data!A$8:J$30,7,FALSE),\"\")","v":""},null,null,{"$f":"IFERROR(VLOOKUP(A74,Data!A$8:J$30,8,FALSE),0)","v":0}]
[69,{"$f":"IFERROR(VLOOKUP(A75,Data!A$8:J$30,2,FALSE),\"\")","v":""},{"$f":"IFERROR(VLOOKUP(A75,Data!A$8:J$30,10,FALSE),\"\")","v":""},{"$f":"IFERROR(VLOOKUP(A75,Data!A$8:J$30,3,FALSE),\"\")","v":""},"",{"$f":"IFERROR(VLOOKUP(A75,Data!A$8:J$30,4,FALSE),\"\")","v":""},{"$f":"IFERROR(VLOOKUP(A75,Data!A$8:J$30,5,FALSE),\"\")","v":""},{"$f":"IFERROR(VLOOKUP(A75,Data!A$8:J$30,6,FALSE),\"\")","v":""},{"$f":"IFERROR(VLOOKUP(A75,Data!A$8:J$30,7,FALSE),\"\")","v":""},null,null,{"$f":"IFERROR(VLOOKUP(A75,Data!A$8:J$30,8,FALSE),0)","v":0}]
[70,{"$f":"IFERROR(VLOOKUP(A76,Data!A$8:J$30,2,FALSE),\"\")","v":""},{"$f":"IFERROR(VLOOKUP(A76,Data!A$8:J$30,10,FALSE),\"\")","v":""},{"$f":"IFERROR(VLOOKUP(A76,Data!A$8:J$30,3,FALSE),\"\")","v":""},"",{"$f":"IFERROR(VLOOKUP(A76,Data!A$8:J$30,4,FALSE),\"\")","v":""},{"$f":"IFERROR(VLOOKUP(A76,Data!A$8:J$30,5,FALSE),\"\")","v":""},{"$f":"IFERROR(VLOOKUP(A76,Data!A$8:J$30,6,FALSE),\"\")","v":""},{"$f":"IFERROR(VLOOKUP(A76,Data!A$8:J$30,7,FALSE),\"\")","v":""},null,null,{"$f":"IFERROR(VLOOKUP(A76,Data!A$8:J$30,8,FALSE),0)","v":0}]
[71,{"$f":"IFERROR(VLOOKUP(A77,Data!A$8:J$30,2,FALSE),\"\")","v":""},{"$f":"IFERROR(VLOOKUP(A77,Data!A$8:J$30,10,FALSE),\"\")","v":""},{"$f":"IFERROR(VLOOKUP(A77,Data!A$8:J$30,3,FALSE),\"\")","v":""},"",{"$f":"IFERROR(VLOOKUP(A77,Data!A$8:J$30,4,FALSE),\"\")","v":""},{"$f":"IFERROR(VLOOKUP(A77,Data!A$8:J$30,5,FALSE),\"\")","v":""},{"$f":"IFERROR(VLOOKUP(A77,Data!A$8:J$30,6,FALSE),\"\")","v":""},{"$f":"IFERROR(VLOOKUP(A77,Data!A$8:J$30,7,FALSE),\"\")","v":""},null,null,{"$f":"IFERROR(VLOOKUP(A77,Data!A$8:J$30,8,FALSE),0)","v":0}]
[72,{"$f":"IFERROR(VLOOKUP(A78,Data!A$8:J$30,2,FALSE),\"\")","v":""},{"$f":"IFERROR(VLOOKUP(A78,Data!A$8:J$30,10,FALSE),\"\")","v":""},{"$f":"IFERROR(VLOOKUP(A78,Data!A$8:J$30,3,FALSE),\"\")","v":""},"",{"$f":"IFERROR(VLOOKUP(A78,Data!A$8:J$30,4,FALSE),\"\")","v":""},{"$f":"IFERROR(VLOOKUP(A78,Data!A$8:J$30,5,FALSE),\"\")","v":""},{"$f":"IFERROR(VLOOKUP(A78,Data!A$8:J$30,6,FALSE),\"\")","v":""},{"$f":"IFERROR(VLOOKUP(A78,Data!A$8:J$30,7,FALSE),\"\")","v":""},null,null,{"$f":"IFERROR(VLOOKUP(A78,Data!A$8:J$30,8,FALSE),0)","v":0}]
[73,{"$f":"IFERROR(VLOOKUP(A79,Data!A$8:J$30,2,FALSE),\"\")","v":""},{"$f":"IFERROR(VLOOKUP(A79,Data!A$8:J$30,10,FALSE),\"\")","v":""},{"$f":"IFERROR(VLOOKUP(A79,Data!A$8:J$30,3,FALSE),\"\")","v":""},"",{"$f":"IFERROR(VLOOKUP(A79,Data!A$8:J$30,4,FALSE),\"\")","v":""},{"$f":"IFERROR(VLOOKUP(A79,Data!A$8:J$30,5,FALSE),\"\")","v":""},{"$f":"IFERROR(VLOOKUP(A79,Data!A$8:J$30,6,FALSE),\"\")","v":""},{"$f":"IFERROR(VLOOKUP(A79,Data!A$8:J$30,7,FALSE),\"\")","v":""},null,null,{"$f":"IFERROR(VLOOKUP(A79,Data!A$8:J$30,8,FALSE),0)","v":0}]
[74,{"$f":"IFERROR(VLOOKUP(A80,Data!A$8:J$30,2,FALSE),\"\")","v":""},{"$f":"IFERROR(VLOOKUP(A80,Data!A$8:J$30,10,FALSE),\"\")","v":""},{"$f":"IFERROR(VLOOKUP(A80,Data!A$8:J$30,3,FALSE),\"\")","v":""},"",{"$f":"IFERROR(VLOOKUP(A80,Data!A$8:J$30,4,FALSE),\"\")","v":""},{"$f":"IFERROR(VLOOKUP(A80,Data!A$8:J$30,5,FALSE),\"\")","v":""},{"$f":"IFERROR(VLOOKUP(A80,Data!A$8:J$30,6,FALSE),\"\")","v":""},{"$f":"IFERROR(VLOOKUP(A80,Data!A$8:J$30,7,FALSE),\"\")","v":""},null,null,{"$f":"IFERROR(VLOOKUP(A80,Data!A$8:J$30,8,FALSE),0)","v":0}]
[75,{"$f":"IFERROR(VLOOKUP(A81,Data!A$8:J$30,2,FALSE),\"\")","v":""},{"$f":"IFERROR(VLOOKUP(A81,Data!A$8:J$30,10,FALSE),\"\")","v":""},{"$f":"IFERROR(VLOOKUP(A81,Data!A$8:J$30,3,FALSE),\"\")","v":""},"",{"$f":"IFERROR(VLOOKUP(A81,Data!A$8:J$30,4,FALSE),\"\")","v":""},{"$f":"IFERROR(VLOOKUP(A81,Data!A$8:J$30,5,FALSE),\"\")","v":""},{"$f":"IFERROR(VLOOKUP(A81,Data!A$8:J$30,6,FALSE),\"\")","v":""},{"$f":"IFERROR(VLOOKUP(A81,Data!A$8:J$30,7,FALSE),\"\")","v":""},null,null,{"$f":"IFERROR(VLOOKUP(A81,Data!A$8:J$30,8,FALSE),0)","v":0}]
[76,{"$f":"IFERROR(VLOOKUP(A82,Data!A$8:J$30,2,FALSE),\"\")","v":""},{"$f":"IFERROR(VLOOKUP(A82,Data!A$8:J$30,10,FALSE),\"\")","v":""},{"$f":"IFERROR(VLOOKUP(A82,Data!A$8:J$30,3,FALSE),\"\")","v":""},"",{"$f":"IFERROR(VLOOKUP(A82,Data!A$8:J$30,4,FALSE),\"\")","v":""},{"$f":"IFERROR(VLOOKUP(A82,Data!A$8:J$30,5,FALSE),\"\")","v":""},{"$f":"IFERROR(VLOOKUP(A82,Data!A$8:J$30,6,FALSE),\"\")","v":""},{"$f":"IFERROR(VLOOKUP(A82,Data!A$8:J$30,7,FALSE),\"\")","v":""},null,null,{"$f":"IFERROR(VLOOKUP(A82,Data!A$8:J$30,8,FALSE),0)","v":0}]
[77,{"$f":"IFERROR(VLOOKUP(A83,Data!A$8:J$30,2,FALSE),\"\")","v":""},{"$f":"IFERROR(VLOOKUP(A83,Data!A$8:J$30,10,FALSE),\"\")","v":""},{"$f":"IFERROR(VLOOKUP(A83,Data!A$8:J$30,3,FALSE),\"\")","v":""},"",{"$f":"IFERROR(VLOOKUP(A83,Data!A$8:J$30,4,FALSE),\"\")","v":""},{"$f":"IFERROR(VLOOKUP(A83,Data!A$8:J$30,5,FALSE),\"\")","v":""},{"$f":"IFERROR(VLOOKUP(A83,Data!A$8:J$30,6,FALSE),\"\")","v":""},{"$f":"IFERROR(VLOOKUP(A83,Data!A$8:J$30,7,FALSE),\"\")","v":""},null,null,{"$f":"IFERROR(VLOOKUP(A83,Data!A$8:J$30,8,FALSE),0)","v":0}]
[78,{"$f":"IFERROR(VLOOKUP(A84,Data!A$8:J$30,2,FALSE),\"\")","v":""},{"$f":"IFERROR(VLOOKUP(A84,Data!A$8:J$30,10,FALSE),\"\")","v":""},{"$f":"IFERROR(VLOOKUP(A84,Data!A$8:J$30,3,FALSE),\"\")","v":""},"",{"$f":"IFERROR(VLOOKUP(A84,Data!A$8:J$30,4,FALSE),\"\")","v":""},{"$f":"IFERROR(VLOOKUP(A84,Data!A$8:J$30,5,FALSE),\"\")","v":""},{"$f":"IFERROR(VLOOKUP(A84,Data!A$8:J$30,6,FALSE),\"\")","v":""},{"$f":"IFERROR(VLOOKUP(A84,Data!A$8:J$30,7,FALSE),\"\")","v":""},null,null,{"$f":"IFERROR(VLOOKUP(A84,Data!A$8:J$30,8,FALSE),0)","v":0}]
[79,{"$f":"IFERROR(VLOOKUP(A85,Data!A$8:J$30,2,FALSE),\"\")","v":""},{"$f":"IFERROR(VLOOKUP(A85,Data!A$8:J$30,10,FALSE),\"\")","v":""},{"$f":"IFERROR(VLOOKUP(A85,Data!A$8:J$30,3,FALSE),\"\")","v":""},"",{"$f":"IFERROR(VLOOKUP(A85,Data!A$8:J$30,4,FALSE),\"\")","v":""},{"$f":"IFERROR(VLOOKUP(A85,Data!A$8:J$30,5,FALSE),\"\")","v":""},{"$f":"IFERROR(VLOOKUP(A85,Data!A$8:J$30,6,FALSE),\"\")","v":""},{"$f":"IFERROR(VLOOKUP(A85,Data!A$8:J$30,7,FALSE),\"\")","v":""},null,null,{"$f":"IFERROR(VLOOKUP(A85,Data!A$8:J$30,8,FALSE),0)","v":0}]
[80,{"$f":"IFERROR(VLOOKUP(A86,Data!A$8:J$30,2,FALSE),\"\")","v":""},{"$f":"IFERROR(VLOOKUP(A86,Data!A$8:J$30,10,FALSE),\"\")","v":""},{"$f":"IFERROR(VLOOKUP(A86,Data!A$8:J$30,3,FALSE),\"\")","v":""},"",{"$f":"IFERROR(VLOOKUP(A86,Data!A$8:J$30,4,FALSE),\"\")","v":""},{"$f":"IFERROR(VLOOKUP(A86,Data!A$8:J$30,5,FALSE),\"\")","v":""},{"$f":"IFERROR(VLOOKUP(A86,Data!A$8:J$30,6,FALSE),\"\")","v":""},{"$f":"IFERROR(VLOOKUP(A86,Data!A$8:J$30,7,FALSE),\"\")","v":""},null,null,{"$f":"IFERROR(VLOOKUP(A86,Data!A$8:J$30,8,FALSE),0)","v":0}]
[81,{"$f":"IFERROR(VLOOKUP(A87,Data!A$8:J$30,2,FALSE),\"\")","v":""},{"$f":"IFERROR(VLOOKUP(A87,Data!A$8:J$30,10,FALSE),\"\")","v":""},{"$f":"IFERROR(VLOOKUP(A87,Data!A$8:J$30,3,FALSE),\"\")","v":""},"",{"$f":"IFERROR(VLOOKUP(A87,Data!A$8:J$30,4,FALSE),\"\")","v":""},{"$f":"IFERROR(VLOOKUP(A87,Data!A$8:J$30,5,FALSE),\"\")","v":""},{"$f":"IFERROR(VLOOKUP(A87,Data!A$8:J$30,6,FALSE),\"\")","v":""},{"$f":"IFERROR(VLOOKUP(A87,Data!A$8:J$30,7,FALSE),\"\")","v":""},null,null,{"$f":"IFERROR(VLOOKUP(A87,Data!A$8:J$30,8,FALSE),0)","v":0}]
[82,{"$f":"IFERROR(VLOOKUP(A88,Data!A$8:J$30,2,FALSE),\"\")","v":""},{"$f":"IFERROR(VLOOKUP(A88,Data!A$8:J$30,10,FALSE),\"\")","v":""},{"$f":"IFERROR(VLOOKUP(A88,Data!A$8:J$30,3,FALSE),\"\")","v":""},"",{"$f":"IFERROR(VLOOKUP(A88,Data!A$8:J$30,4,FALSE),\"\")","v":""},{"$f":"IFERROR(VLOOKUP(A88,Data!A$8:J$30,5,FALSE),\"\")","v":""},{"$f":"IFERROR(VLOOKUP(A88,Data!A$8:J$30,6,FALSE),\"\")","v":""},{"$f":"IFERROR(VLOOKUP(A88,Data!A$8:J$30,7,FALSE),\"\")","v":""},null,null,{"$f":"IFERROR(VLOOKUP(A88,Data!A$8:J$30,8,FALSE),0)","v":0}]
[83,{"$f":"IFERROR(VLOOKUP(A89,Data!A$8:J$30,2,FALSE),\"\")","v":""},{"$f":"IFERROR(VLOOKUP(A89,Data!A$8:J$30,10,FALSE),\"\")","v":""},{"$f":"IFERROR(VLOOKUP(A89,Data!A$8:J$30,3,FALSE),\"\")","v":""},"",{"$f":"IFERROR(VLOOKUP(A89,Data!A$8:J$30,4,FALSE),\"\")","v":""},{"$f":"IFERROR(VLOOKUP(A89,Data!A$8:J$30,5,FALSE),\"\")","v":""},{"$f":"IFERROR(VLOOKUP(A89,Data!A$8:J$30,6,FALSE),\"\")","v":""},{"$f":"IFERROR(VLOOKUP(A89,Data!A$8:J$30,7,FALSE),\"\")","v":""},null,null,{"$f":"IFERROR(VLOOKUP(A89,Data!A$8:J$30,8,FALSE),0)","v":0}]
[84,{"$f":"IFERROR(VLOOKUP(A90,Data!A$8:J$30,2,FALSE),\"\")","v":""},{"$f":"IFERROR(VLOOKUP(A90,Data!A$8:J$30,10,FALSE),\"\")","v":""},{"$f":"IFERROR(VLOOKUP(A90,Data!A$8:J$30,3,FALSE),\"\")","v":""},"",{"$f":"IFERROR(VLOOKUP(A90,Data!A$8:J$30,4,FALSE),\"\")","v":""},{"$f":"IFERROR(VLOOKUP(A90,Data!A$8:J$30,5,FALSE),\"\")","v":""},{"$f":"IFERROR(VLOOKUP(A90,Data!A$8:J$30,6,FALSE),\"\")","v":""},{"$f":"IFERROR(VLOOKUP(A90,Data!A$8:J$30,7,FALSE),\"\")","v":""},null,null,{"$f":"IFERROR(VLOOKUP(A90,Data!A$8:J$30,8,FALSE),0)","v":0}]
[85,{"$f":"IFERROR(VLOOKUP(A91,Data!A$8:J$30,2,FALSE),\"\")","v":""},{"$f":"IFERROR(VLOOKUP(A91,Data!A$8:J$30,10,FALSE),\"\")","v":""},{"$f":"IFERROR(VLOOKUP(A91,Data!A$8:J$30,3,FALSE),\"\")","v":""},"",{"$f":"IFERROR(VLOOKUP(A91,Data!A$8:J$30,4,FALSE),\"\")","v":""},{"$f":"IFERROR(VLOOKUP(A91,Data!A$8:J$30,5,FALSE),\"\")","v":""},{"$f":"IFERROR(VLOOKUP(A91,Data!A$8:J$30,6,FALSE),\"\")","v":""},{"$f":"IFERROR(VLOOKUP(A91,Data!A$8:J$30,7,FALSE),\"\")","v":""},null,null,{"$f":"IFERROR(VLOOKUP(A91,Data!A$8:J$30,8,FALSE),0)","v":0}]
[86,{"$f":"IFERROR(VLOOKUP(A92,Data!A$8:J$30,2,FALSE),\"\")","v":""},{"$f":"IFERROR(VLOOKUP(A92,Data!A$8:J$30,10,FALSE),\"\")","v":""},{"$f":"IFERROR(VLOOKUP(A92,Data!A$8:J$30,3,FALSE),\"\")","v":""},"",{"$f":"IFERROR(VLOOKUP(A92,Data!A$8:J$30,4,FALSE),\"\")","v":""},{"$f":"IFERROR(VLOOKUP(A92,Data!A$8:J$30,5,FALSE),\"\")","v":""},{"$f":"IFERROR(VLOOKUP(A92,Data!A$8:J$30,6,FALSE),\"\")","v":""},{"$f":"IFERROR(VLOOKUP(A92,Data!A$8:J$30,7,FALSE),\"\")","v":""},null,null,{"$f":"IFERROR(VLOOKUP(A92,Data!A$8:J$30,8,FALSE),0)","v":0}]
[87,{"$f":"IFERROR(VLOOKUP(A93,Data!A$8:J$30,2,FALSE),\"\")","v":""},{"$f":"IFERROR(VLOOKUP(A93,Data!A$8:J$30,10,FALSE),\"\")","v":""},{"$f":"IFERROR(VLOOKUP(A93,Data!A$8:J$30,3,FALSE),\"\")","v":""},"",{"$f":"IFERROR(VLOOKUP(A93,Data!A$8:J$30,4,FALSE),\"\")","v":""},{"$f":"IFERROR(VLOOKUP(A93,Data!A$8:J$30,5,FALSE),\"\")","v":""},{"$f":"IFERROR(VLOOKUP(A93,Data!A$8:J$30,6,FALSE),\"\")","v":""},{"$f":"IFERROR(VLOOKUP(A93,Data!A$8:J$30,7,FALSE),\"\")","v":""},null,null,{"$f":"IFERROR(VLOOKUP(A93,Data!A$8:J$30,8,FALSE),0)","v":0}]
[88,{"$f":"IFERROR(VLOOKUP(A94,Data!A$8:J$30,2,FALSE),\"\")","v":""},{"$f":"IFERROR(VLOOKUP(A94,Data!A$8:J$30,10,FALSE),\"\")","v":""},{"$f":"IFERROR(VLOOKUP(A94,Data!A$8:J$30,3,FALSE),\"\")","v":""},"",{"$f":"IFERROR(VLOOKUP(A94,Data!A$8:J$30,4,FALSE),\"\")","v":""},{"$f":"IFERROR(VLOOKUP(A94,Data!A$8:J$30,5,FALSE),\"\")","v":""},{"$f":"IFERROR(VLOOKUP(A94,Data!A$8:J$30,6,FALSE),\"\")","v":""},{"$f":"IFERROR(VLOOKUP(A94,Data!A$8:J$30,7,FALSE),\"\")","v":""},null,null,{"$f":"IFERROR(VLOOKUP(A94,Data!A$8:J$30,8,FALSE),0)","v":0}]
[89,{"$f":"IFERROR(VLOOKUP(A95,Data!A$8:J$30,2,FALSE),\"\")","v":""},{"$f":"IFERROR(VLOOKUP(A95,Data!A$8:J$30,10,FALSE),\"\")","v":""},{"$f":"IFERROR(VLOOKUP(A95,Data!A$8:J$30,3,FALSE),\"\")","v":""},"",{"$f":"IFERROR(VLOOKUP(A95,Data!A$8:J$30,4,FALSE),\"\")","v":""},{"$f":"IFERROR(VLOOKUP(A95,Data!A$8:J$30,5,FALSE),\"\")","v":""},{"$f":"IFERROR(VLOOKUP(A95,Data!A$8:J$30,6,FALSE),\"\")","v":""},{"$f":"IFERROR(VLOOKUP(A95,Data!A$8:J$30,7,FALSE),\"\")","v":""},null,null,{"$f":"IFERROR(VLOOKUP(A95,Data!A$8:J$30,8,FALSE),0)","v":0}]
[90,{"$f":"IFERROR(VLOOKUP(A96,Data!A$8:J$30,2,FALSE),\"\")","v":""},{"$f":"IFERROR(VLOOKUP(A96,Data!A$8:J$30,10,FALSE),\"\")","v":""},{"$f":"IFERROR(VLOOKUP(A96,Data!A$8:J$30,3,FALSE),\"\")","v":""},"",{"$f":"IFERROR(VLOOKUP(A96,Data!A$8:J$30,4,FALSE),\"\")","v":""},{"$f":"IFERROR(VLOOKUP(A96,Data!A$8:J$30,5,FALSE),\"\")","v":""},{"$f":"IFERROR(VLOOKUP(A96,Data!A$8:J$30,6,FALSE),\"\")","v":""},{"$f":"IFERROR(VLOOKUP(A96,Data!A$8:J$30,7,FALSE),\"\")","v":""},null,null,{"$f":"IFERROR(VLOOKUP(A96,Data!A$8:J$30,8,FALSE),0)","v":0}]
[91,{"$f":"IFERROR(VLOOKUP(A97,Data!A$8:J$30,2,FALSE),\"\")","v":""},{"$f":"IFERROR(VLOOKUP(A97,Data!A$8:J$30,10,FALSE),\"\")","v":""},{"$f":"IFERROR(VLOOKUP(A97,Data!A$8:J$30,3,FALSE),\"\")","v":""},"",{"$f":"IFERROR(VLOOKUP(A97,Data!A$8:J$30,4,FALSE),\"\")","v":""},{"$f":"IFERROR(VLOOKUP(A97,Data!A$8:J$30,5,FALSE),\"\")","v":""},{"$f":"IFERROR(VLOOKUP(A97,Data!A$8:J$30,6,FALSE),\"\")","v":""},{"$f":"IFERROR(VLOOKUP(A97,Data!A$8:J$30,7,FALSE),\"\")","v":""},null,null,{"$f":"IFERROR(VLOOKUP(A97,Data!A$8:J$30,8,FALSE),0)","v":0}]
[92,{"$f":"IFERROR(VLOOKUP(A98,Data!A$8:J$30,2,FALSE),\"\")","v":""},{"$f":"IFERROR(VLOOKUP(A98,Data!A$8:J$30,10,FALSE),\"\")","v":""},{"$f":"IFERROR(VLOOKUP(A98,Data!A$8:J$30,3,FALSE),\"\")","v":""},"",{"$f":"IFERROR(VLOOKUP(A98,Data!A$8:J$30,4,FALSE),\"\")","v":""},{"$f":"IFERROR(VLOOKUP(A98,Data!A$8:J$30,5,FALSE),\"\")","v":""},{"$f":"IFERROR(VLOOKUP(A98,Data!A$8:J$30,6,FALSE),\"\")","v":""},{"$f":"IFERROR(VLOOKUP(A98,Data!A$8:J$30,7,FALSE),\"\")","v":""},null,null,{"$f":"IFERROR(VLOOKUP(A98,Data!A$8:J$30,8,FALSE),0)","v":0}]
[93,{"$f":"IFERROR(VLOOKUP(A99,Data!A$8:J$30,2,FALSE),\"\")","v":""},{"$f":"IFERROR(VLOOKUP(A99,Data!A$8:J$30,10,FALSE),\"\")","v":""},{"$f":"IFERROR(VLOOKUP(A99,Data!A$8:J$30,3,FALSE),\"\")","v":""},"",{"$f":"IFERROR(VLOOKUP(A99,Data!A$8:J$30,4,FALSE),\"\")","v":""},{"$f":"IFERROR(VLOOKUP(A99,Data!A$8:J$30,5,FALSE),\"\")","v":""},{"$f":"IFERROR(VLOOKUP(A99,Data!A$8:J$30,6,FALSE),\"\")","v":""},{"$f":"IFERROR(VLOOKUP(A99,Data!A$8:J$30,7,FALSE),\"\")","v":""},null,null,{"$f":"IFERROR(VLOOKUP(A99,Data!A$8:J$30,8,FALSE),0)","v":0}]
[94,{"$f":"IFERROR(VLOOKUP(A100,Data!A$8:J$30,2,FALSE),\"\")","v":""},{"$f":"IFERROR(VLOOKUP(A100,Data!A$8:J$30,10,FALSE),\"\")","v":""},{"$f":"IFERROR(VLOOKUP(A100,Data!A$8:J$30,3,FALSE),\"\")","v":""},"",{"$f":"IFERROR(VLOOKUP(A100,Data!A$8:J$30,4,FALSE),\"\")","v":""},{"$f":"IFERROR(VLOOKUP(A100,Data!A$8:J$30,5,FALSE),\"\")","v":""},{"$f":"IFERROR(VLOOKUP(A100,Data!A$8:J$30,6,FALSE),\"\")","v":""},{"$f":"IFERROR(VLOOKUP(A100,Data!A$8:J$30,7,FALSE),\"\")","v":""},null,null,{"$f":"IFERROR(VLOOKUP(A100,Data!A$8:J$30,8,FALSE),0)","v":0}]
[95,{"$f":"IFERROR(VLOOKUP(A101,Data!A$8:J$30,2,FALSE),\"\")","v":""},{"$f":"IFERROR(VLOOKUP(A101,Data!A$8:J$30,10,FALSE),\"\")","v":""},{"$f":"IFERROR(VLOOKUP(A101,Data!A$8:J$30,3,FALSE),\"\")","v":""},"",{"$f":"IFERROR(VLOOKUP(A101,Data!A$8:J$30,4,FALSE),\"\")","v":""},{"$f":"IFERROR(VLOOKUP(A101,Data!A$8:J$30,5,FALSE),\"\")","v":""},{"$f":"IFERROR(VLOOKUP(A101,Data!A$8:J$30,6,FALSE),\"\")","v":""},{"$f":"IFERROR(VLOOKUP(A101,Data!A$8:J$30,7,FALSE),\"\")","v":""},null,null,{"$f":"IFERROR(VLOOKUP(A101,Data!A$8:J$30,8,FALSE),0)","v":0}]
[96,{"$f":"IFERROR(VLOOKUP(A102,Data!A$8:J$30,2,FALSE),\"\")","v":""},{"$f":"IFERROR(VLOOKUP(A102,Data!A$8:J$30,10,FALSE),\"\")","v":""},{"$f":"IFERROR(VLOOKUP(A102,Data!A$8:J$30,3,FALSE),\"\")","v":""},"",{"$f":"IFERROR(VLOOKUP(A102,Data!A$8:J$30,4,FALSE),\"\")","v":""},{"$f":"IFERROR(VLOOKUP(A102,Data!A$8:J$30,5,FALSE),\"\")","v":""},{"$f":"IFERROR(VLOOKUP(A102,Data!A$8:J$30,6,FALSE),\"\")","v":""},{"$f":"IFERROR(VLOOKUP(A102,Data!A$8:J$30,7,FALSE),\"\")","v":""},null,null,{"$f":"IFERROR(VLOOKUP(A102,Data!A$8:J$30,8,FALSE),0)","v":0}]
[97,{"$f":"IFERROR(VLOOKUP(A103,Data!A$8:J$30,2,FALSE),\"\")","v":""},{"$f":"IFERROR(VLOOKUP(A103,Data!A$8:J$30,10,FALSE),\"\")","v":""},{"$f":"IFERROR(VLOOKUP(A103,Data!A$8:J$30,3,FALSE),\"\")","v":""},"",{"$f":"IFERROR(VLOOKUP(A103,Data!A$8:J$30,4,FALSE),\"\")","v":""},{"$f":"IFERROR(VLOOKUP(A103,Data!A$8:J$30,5,FALSE),\"\")","v":""},{"$f":"IFERROR(VLOOKUP(A103,Data!A$8:J$30,6,FALSE),\"\")","v":""},{"$f":"IFERROR(VLOOKUP(A103,Data!A$8:J$30,7,FALSE),\"\")","v":""},null,null,{"$f":"IFERROR(VLOOKUP(A103,Data!A$8:J$30,8,FALSE),0)","v":0}]
[98,{"$f":"IFERROR(VLOOKUP(A104,Data!A$8:J$30,2,FALSE),\"\")","v":""},{"$f":"IFERROR(VLOOKUP(A104,Data!A$8:J$30,10,FALSE),\"\")","v":""},{"$f":"IFERROR(VLOOKUP(A104,Data!A$8:J$30,3,FALSE),\"\")","v":""},"",{"$f":"IFERROR(VLOOKUP(A104,Data!A$8:J$30,4,FALSE),\"\")","v":""},{"$f":"IFERROR(VLOOKUP(A104,Data!A$8:J$30,5,FALSE),\"\")","v":""},{"$f":"IFERROR(VLOOKUP(A104,Data!A$8:J$30,6,FALSE),\"\")","v":""},{"$f":"IFERROR(VLOOKUP(A104,Data!A$8:J$30,7,FALSE),\"\")","v":""},null,null,{"$f":"IFERROR(VLOOKUP(A104,Data!A$8:J$30,8,FALSE),0)","v":0}]
[99,{"$f":"IFERROR(VLOOKUP(A105,Data!A$8:J$30,2,FALSE),\"\")","v":""},{"$f":"IFERROR(VLOOKUP(A105,Data!A$8:J$30,10,FALSE),\"\")","v":""},{"$f":"IFERROR(VLOOKUP(A105,Data!A$8:J$30,3,FALSE),\"\")","v":""},"",{"$f":"IFERROR(VLOOKUP(A105,Data!A$8:J$30,4,FALSE),\"\")","v":""},{"$f":"IFERROR(VLOOKUP(A105,Data!A$8:J$30,5,FALSE),\"\")","v":""},{"$f":"IFERROR(VLOOKUP(A105,Data!A$8:J$30,6,FALSE),\"\")","v":""},{"$f":"IFERROR(VLOOKUP(A105,Data!A$8:J$30,7,FALSE),\"\")","v":""},null,null,{"$f":"IFERROR(VLOOKUP(A105,Data!A$8:J$30,8,FALSE),0)","v":0}]
[100,{"$f":"IFERROR(VLOOKUP(A106,Data!A$8:J$30,2,FALSE),\"\")","v":""},{"$f":"IFERROR(VLOOKUP(A106,Data!A$8:J$30,10,FALSE),\"\")","v":""},{"$f":"IFERROR(VLOOKUP(A106,Data!A$8:J$30,3,FALSE),\"\")","v":""},"",{"$f":"IFERROR(VLOOKUP(A106,Data!A$8:J$30,4,FALSE),\"\")","v":""},{"$f":"IFERROR(VLOOKUP(A106,Data!A$8:J$30,5,FALSE),\"\")","v":""},{"$f":"IFERROR(VLOOKUP(A106,Data!A$8:J$30,6,FALSE),\"\")","v":""},{"$f":"IFERROR(VLOOKUP(A106,Data!A$8:J$30,7,FALSE),\"\")","v":""},null,null,{"$f":"IFERROR(VLOOKUP(A106,Data!A$8:J$30,8,FALSE),0)","v":0}]
[101,{"$f":"IFERROR(VLOOKUP(A107,Data!A$8:J$30,2,FALSE),\"\")","v":""},{"$f":"IFERROR(VLOOKUP(A107,Data!A$8:J$30,10,FALSE),\"\")","v":""},{"$f":"IFERROR(VLOOKUP(A107,Data!A$8:J$30,3,FALSE),\"\")","v":""},"",{"$f":"IFERROR(VLOOKUP(A107,Data!A$8:J$30,4,FALSE),\"\")","v":""},{"$f":"IFERROR(VLOOKUP(A107,Data!A$8:J$30,5,FALSE),\"\")","v":""},{"$f":"IFERROR(VLOOKUP(A107,Data!A$8:J$30,6,FALSE),\"\")","v":""},{"$f":"IFERROR(VLOOKUP(A107,Data!A$8:J$30,7,FALSE),\"\")","v":""},null,null,{"$f":"IFERROR(VLOOKUP(A107,Data!A$8:J$30,8,FALSE),0)","v":0}]
[102,{"$f":"IFERROR(VLOOKUP(A108,Data!A$8:J$30,2,FALSE),\"\")","v":""},{"$f":"IFERROR(VLOOKUP(A108,Data!A$8:J$30,10,FALSE),\"\")","v":""},{"$f":"IFERROR(VLOOKUP(A108,Data!A$8:J$30,3,FALSE),\"\")","v":""},"",{"$f":"IFERROR(VLOOKUP(A108,Data!A$8:J$30,4,FALSE),\"\")","v":""},{"$f":"IFERROR(VLOOKUP(A108,Data!A$8:J$30,5,FALSE),\"\")","v":""},{"$f":"IFERROR(VLOOKUP(A108,Data!A$8:J$30,6,FALSE),\"\")","v":""},{"$f":"IFERROR(VLOOKUP(A108,Data!A$8:J$30,7,FALSE),\"\")","v":""},null,null,{"$f":"IFERROR(VLOOKUP(A108,Data!A$8:J$30,8,FALSE),0)","v":0}]
[103,{"$f":"IFERROR(VLOOKUP(A109,Data!A$8:J$30,2,FALSE),\"\")","v":""},{"$f":"IFERROR(VLOOKUP(A109,Data!A$8:J$30,10,FALSE),\"\")","v":""},{"$f":"IFERROR(VLOOKUP(A109,Data!A$8:J$30,3,FALSE),\"\")","v":""},"",{"$f":"IFERROR(VLOOKUP(A109,Data!A$8:J$30,4,FALSE),\"\")","v":""},{"$f":"IFERROR(VLOOKUP(A109,Data!A$8:J$30,5,FALSE),\"\")","v":""},{"$f":"IFERROR(VLOOKUP(A109,Data!A$8:J$30,6,FALSE),\"\")","v":""},{"$f":"IFERROR(VLOOKUP(A109,Data!A$8:J$30,7,FALSE),\"\")","v":""},null,null,{"$f":"IFERROR(VLOOKUP(A109,Data!A$8:J$30,8,FALSE),0)","v":0}]
[104,{"$f":"IFERROR(VLOOKUP(A110,Data!A$8:J$30,2,FALSE),\"\")","v":""},{"$f":"IFERROR(VLOOKUP(A110,Data!A$8:J$30,10,FALSE),\"\")","v":""},{"$f":"IFERROR(VLOOKUP(A110,Data!A$8:J$30,3,FALSE),\"\")","v":""},"",{"$f":"IFERROR(VLOOKUP(A110,Data!A$8:J$30,4,FALSE),\"\")","v":""},{"$f":"IFERROR(VLOOKUP(A110,Data!A$8:J$30,5,FALSE),\"\")","v":""},{"$f":"IFERROR(VLOOKUP(A110,Data!A$8:J$30,6,FALSE),\"\")","v":""},{"$f":"IFERROR(VLOOKUP(A110,Data!A$8:J$30,7,FALSE),\"\")","v":""},null,null,{"$f":"IFERROR(VLOOKUP(A110,Data!A$8:J$30,8,FALSE),0)","v":0}]
[105,{"$f":"IFERROR(VLOOKUP(A111,Data!A$8:J$30,2,FALSE),\"\")","v":""},{"$f":"IFERROR(VLOOKUP(A111,Data!A$8:J$30,10,FALSE),\"\")","v":""},{"$f":"IFERROR(VLOOKUP(A111,Data!A$8:J$30,3,FALSE),\"\")","v":""},"",{"$f":"IFERROR(VLOOKUP(A111,Data!A$8:J$30,4,FALSE),\"\")","v":""},{"$f":"IFERROR(VLOOKUP(A111,Data!A$8:J$30,5,FALSE),\"\")","v":""},{"$f":"IFERROR(VLOOKUP(A111,Data!A$8:J$30,6,FALSE),\"\")","v":""},{"$f":"IFERROR(VLOOKUP(A111,Data!A$8:J$30,7,FALSE),\"\")","v":""},null,null,{"$f":"IFERROR(VLOOKUP(A111,Data!A$8:J$30,8,FALSE),0)","v":0}]
[106,{"$f":"IFERROR(VLOOKUP(A112,Data!A$8:J$30,2,FALSE),\"\")","v":""},{"$f":"IFERROR(VLOOKUP(A112,Data!A$8:J$30,10,FALSE),\"\")","v":""},{"$f":"IFERROR(VLOOKUP(A112,Data!A$8:J$30,3,FALSE),\"\")","v":""},"",{"$f":"IFERROR(VLOOKUP(A112,Data!A$8:J$30,4,FALSE),\"\")","v":""},{"$f":"IFERROR(VLOOKUP(A112,Data!A$8:J$30,5,FALSE),\"\")","v":""},{"$f":"IFERROR(VLOOKUP(A112,Data!A$8:J$30,6,FALSE),\"\")","v":""},{"$f":"IFERROR(VLOOKUP(A112,Data!A$8:J$30,7,FALSE),\"\")","v":""},null,null,{"$f":"IFERROR(VLOOKUP(A112,Data!A$8:J$30,8,FALSE),0)","v":0}]
[107,{"$f":"IFERROR(VLOOKUP(A113,Data!A$8:J$30,2,FALSE),\"\")","v":""},{"$f":"IFERROR(VLOOKUP(A113,Data!A$8:J$30,10,FALSE),\"\")","v":""},{"$f":"IFERROR(VLOOKUP(A113,Data!A$8:J$30,3,FALSE),\"\")","v":""},"",{"$f":"IFERROR(VLOOKUP(A113,Data!A$8:J$30,4,FALSE),\"\")","v":""},{"$f":"IFERROR(VLOOKUP(A113,Data!A$8:J$30,5,FALSE),\"\")","v":""},{"$f":"IFERROR(VLOOKUP(A113,Data!A$8:J$30,6,FALSE),\"\")","v":""},{"$f":"IFERROR(VLOOKUP(A113,Data!A$8:J$30,7,FALSE),\"\")","v":""},null,null,{"$f":"IFERROR(VLOOKUP(A113,Data!A$8:J$30,8,FALSE),0)","v":0}]
[108,{"$f":"IFERROR(VLOOKUP(A114,Data!A$8:J$30,2,FALSE),\"\")","v":""},{"$f":"IFERROR(VLOOKUP(A114,Data!A$8:J$30,10,FALSE),\"\")","v":""},{"$f":"IFERROR(VLOOKUP(A114,Data!A$8:J$30,3,FALSE),\"\")","v":""},"",{"$f":"IFERROR(VLOOKUP(A114,Data!A$8:J$30,4,FALSE),\"\")","v":""},{"$f":"IFERROR(VLOOKUP(A114,Data!A$8:J$30,5,FALSE),\"\")","v":""},{"$f":"IFERROR(VLOOKUP(A114,Data!A$8:J$30,6,FALSE),\"\")","v":""},{"$f":"IFERROR(VLOOKUP(A114,Data!A$8:J$30,7,FALSE),\"\")","v":""},null,null,{"$f":"IFERROR(VLOOKUP(A114,Data!A$8:J$30,8,FALSE),0)","v":0}]
[109,{"$f":"IFERROR(VLOOKUP(A115,Data!A$8:J$30,2,FALSE),\"\")","v":""},{"$f":"IFERROR(VLOOKUP(A115,Data!A$8:J$30,10,FALSE),\"\")","v":""},{"$f":"IFERROR(VLOOKUP(A115,Data!A$8:J$30,3,FALSE),\"\")","v":""},"",{"$f":"IFERROR(VLOOKUP(A115,Data!A$8:J$30,4,FALSE),\"\")","v":""},{"$f":"IFERROR(VLOOKUP(A115,Data!A$8:J$30,5,FALSE),\"\")","v":""},{"$f":"IFERROR(VLOOKUP(A115,Data!A$8:J$30,6,FALSE),\"\")","v":""},{"$f":"IFERROR(VLOOKUP(A115,Data!A$8:J$30,7,FALSE),\"\")","v":""},null,null,{"$f":"IFERROR(VLOOKUP(A115,Data!A$8:J$30,8,FALSE),0)","v":0}]
[110,{"$f":"IFERROR(VLOOKUP(A116,Data!A$8:J$30,2,FALSE),\"\")","v":""},{"$f":"IFERROR(VLOOKUP(A116,Data!A$8:J$30,10,FALSE),\"\")","v":""},{"$f":"IFERROR(VLOOKUP(A116,Data!A$8:J$30,3,FALSE),\"\")","v":""},"",{"$f":"IFERROR(VLOOKUP(A116,Data!A$8:J$30,4,FALSE),\"\")","v":""},{"$f":"IFERROR(VLOOKUP(A116,Data!A$8:J$30,5,FALSE),\"\")","v":""},{"$f":"IFERROR(VLOOKUP(A116,Data!A$8:J$30,6,FALSE),\"\")","v":""},{"$f":"IFERROR(VLOOKUP(A116,Data!A$8:J$30,7,FALSE),\"\")","v":""},null,null,{"$f":"IFERROR(VLOOKUP(A116,Data!A$8:J$30,8,FALSE),0)","v":0}]
[111,{"$f":"IFERROR(VLOOKUP(A117,Data!A$8:J$30,2,FALSE),\"\")","v":""},{"$f":"IFERROR(VLOOKUP(A117,Data!A$8:J$30,10,FALSE),\"\")","v":""},{"$f":"IFERROR(VLOOKUP(A117,Data!A$8:J$30,3,FALSE),\"\")","v":""},"",{"$f":"IFERROR(VLOOKUP(A117,Data!A$8:J$30,4,FALSE),\"\")","v":""},{"$f":"IFERROR(VLOOKUP(A117,Data!A$8:J$30,5,FALSE),\"\")","v":""},{"$f":"IFERROR(VLOOKUP(A117,Data!A$8:J$30,6,FALSE),\"\")","v":""},{"$f":"IFERROR(VLOOKUP(A117,Data!A$8:J$30,7,FALSE),\"\")","v":""},null,null,{"$f":"IFERROR(VLOOKUP(A117,Data!A$8:J$30,8,FALSE),0)","v":0}]
[112,{"$f":"IFERROR(VLOOKUP(A118,Data!A$8:J$30,2,FALSE),\"\")","v":""},{"$f":"IFERROR(VLOOKUP(A118,Data!A$8:J$30,10,FALSE),\"\")","v":""},{"$f":"IFERROR(VLOOKUP(A118,Data!A$8:J$30,3,FALSE),\"\")","v":""},"",{"$f":"IFERROR(VLOOKUP(A118,Data!A$8:J$30,4,FALSE),\"\")","v":""},{"$f":"IFERROR(VLOOKUP(A118,Data!A$8:J$30,5,FALSE),\"\")","v":""},{"$f":"IFERROR(VLOOKUP(A118,Data!A$8:J$30,6,FALSE),\"\")","v":""},{"$f":"IFERROR(VLOOKUP(A118,Data!A$8:J$30,7,FALSE),\"\")","v":""},null,null,{"$f":"IFERROR(VLOOKUP(A118,Data!A$8:J$30,8,FALSE),0)","v":0}]
[113,{"$f":"IFERROR(VLOOKUP(A119,Data!A$8:J$30,2,FALSE),\"\")","v":""},{"$f":"IFERROR(VLOOKUP(A119,Data!A$8:J$30,10,FALSE),\"\")","v":""},{"$f":"IFERROR(VLOOKUP(A119,Data!A$8:J$30,3,FALSE),\"\")","v":""},"",{"$f":"IFERROR(VLOOKUP(A119,Data!A$8:J$30,4,FALSE),\"\")","v":""},{"$f":"IFERROR(VLOOKUP(A119,Data!A$8:J$30,5,FALSE),\"\")","v":""},{"$f":"IFERROR(VLOOKUP(A119,Data!A$8:J$30,6,FALSE),\"\")","v":""},{"$f":"IFERROR(VLOOKUP(A119,Data!A$8:J$30,7,FALSE),\"\")","v":""},null,null,{"$f":"IFERROR(VLOOKUP(A119,Data!A$8:J$30,8,FALSE),0)","v":0}]
[114,{"$f":"IFERROR(VLOOKUP(A120,Data!A$8:J$30,2,FALSE),\"\")","v":""},{"$f":"IFERROR(VLOOKUP(A120,Data!A$8:J$30,10,FALSE),\"\")","v":""},{"$f":"IFERROR(VLOOKUP(A120,Data!A$8:J$30,3,FALSE),\"\")","v":""},"",{"$f":"IFERROR(VLOOKUP(A120,Data!A$8:J$30,4,FALSE),\"\")","v":""},{"$f":"IFERROR(VLOOKUP(A120,Data!A$8:J$30,5,FALSE),\"\")","v":""},{"$f":"IFERROR(VLOOKUP(A120,Data!A$8:J$30,6,FALSE),\"\")","v":""},{"$f":"IFERROR(VLOOKUP(A120,Data!A$8:J$30,7,FALSE),\"\")","v":""},null,null,{"$f":"IFERROR(VLOOKUP(A120,Data!A$8:J$30,8,FALSE),0)","v":0}]
[115,{"$f":"IFERROR(VLOOKUP(A121,Data!A$8:J$30,2,FALSE),\"\")","v":""},{"$f":"IFERROR(VLOOKUP(A121,Data!A$8:J$30,10,FALSE),\"\")","v":""},{"$f":"IFERROR(VLOOKUP(A121,Data!A$8:J$30,3,FALSE),\"\")","v":""},"",{"$f":"IFERROR(VLOOKUP(A121,Data!A$8:J$30,4,FALSE),\"\")","v":""},{"$f":"IFERROR(VLOOKUP(A121,Data!A$8:J$30,5,FALSE),\"\")","v":""},{"$f":"IFERROR(VLOOKUP(A121,Data!A$8:J$30,6,FALSE),\"\")","v":""},{"$f":"IFERROR(VLOOKUP(A121,Data!A$8:J$30,7,FALSE),\"\")","v":""},null,null,{"$f":"IFERROR(VLOOKUP(A121,Data!A$8:J$30,8,FALSE),0)","v":0}]
[116,{"$f":"IFERROR(VLOOKUP(A122,Data!A$8:J$30,2,FALSE),\"\")","v":""},{"$f":"IFERROR(VLOOKUP(A122,Data!A$8:J$30,10,FALSE),\"\")","v":""},{"$f":"IFERROR(VLOOKUP(A122,Data!A$8:J$30,3,FALSE),\"\")","v":""},"",{"$f":"IFERROR(VLOOKUP(A122,Data!A$8:J$30,4,FALSE),\"\")","v":""},{"$f":"IFERROR(VLOOKUP(A122,Data!A$8:J$30,5,FALSE),\"\")","v":""},{"$f":"IFERROR(VLOOKUP(A122,Data!A$8:J$30,6,FALSE),\"\")","v":""},{"$f":"IFERROR(VLOOKUP(A122,Data!A$8:J$30,7,FALSE),\"\")","v":""},null,null,{"$f":"IFERROR(VLOOKUP(A122,Data!A$8:J$30,8,FALSE),0)","v":0}]
[117,{"$f":"IFERROR(VLOOKUP(A123,Data!A$8:J$30,2,FALSE),\"\")","v":""},{"$f":"IFERROR(VLOOKUP(A123,Data!A$8:J$30,10,FALSE),\"\")","v":""},{"$f":"IFERROR(VLOOKUP(A123,Data!A$8:J$30,3,FALSE),\"\")","v":""},"",{"$f":"IFERROR(VLOOKUP(A123,Data!A$8:J$30,4,FALSE),\"\")","v":""},{"$f":"IFERROR(VLOOKUP(A123,Data!A$8:J$30,5,FALSE),\"\")","v":""},{"$f":"IFERROR(VLOOKUP(A123,Data!A$8:J$30,6,FALSE),\"\")","v":""},{"$f":"IFERROR(VLOOKUP(A123,Data!A$8:J$30,7,FALSE),\"\")","v":""},null,null,{"$f":"IFERROR(VLOOKUP(A123,Data!A$8:J$30,8,FALSE),0)","v":0}]
[118,{"$f":"IFERROR(VLOOKUP(A124,Data!A$8:J$30,2,FALSE),\"\")","v":""},{"$f":"IFERROR(VLOOKUP(A124,Data!A$8:J$30,10,FALSE),\"\")","v":""},{"$f":"IFERROR(VLOOKUP(A124,Data!A$8:J$30,3,FALSE),\"\")","v":""},"",{"$f":"IFERROR(VLOOKUP(A124,Data!A$8:J$30,4,FALSE),\"\")","v":""},{"$f":"IFERROR(VLOOKUP(A124,Data!A$8:J$30,5,FALSE),\"\")","v":""},{"$f":"IFERROR(VLOOKUP(A124,Data!A$8:J$30,6,FALSE),\"\")","v":""},{"$f":"IFERROR(VLOOKUP(A124,Data!A$8:J$30,7,FALSE),\"\")","v":""},null,null,{"$f":"IFERROR(VLOOKUP(A124,Data!A$8:J$30,8,FALSE),0)","v":0}]
[119,{"$f":"IFERROR(VLOOKUP(A125,Data!A$8:J$30,2,FALSE),\"\")","v":""},{"$f":"IFERROR(VLOOKUP(A125,Data!A$8:J$30,10,FALSE),\"\")","v":""},{"$f":"IFERROR(VLOOKUP(A125,Data!A$8:J$30,3,FALSE),\"\")","v":""},"",{"$f":"IFERROR(VLOOKUP(A125,Data!A$8:J$30,4,FALSE),\"\")","v":""},{"$f":"IFERROR(VLOOKUP(A125,Data!A$8:J$30,5,FALSE),\"\")","v":""},{"$f":"IFERROR(VLOOKUP(A125,Data!A$8:J$30,6,FALSE),\"\")","v":""},{"$f":"IFERROR(VLOOKUP(A125,Data!A$8:J$30,7,FALSE),\"\")","v":""},null,null,{"$f":"IFERROR(VLOOKUP(A125,Data!A$8:J$30,8,FALSE),0)","v":0}]
[120,{"$f":"IFERROR(VLOOKUP(A126,Data!A$8:J$30,2,FALSE),\"\")","v":""},{"$f":"IFERROR(VLOOKUP(A126,Data!A$8:J$30,10,FALSE),\"\")","v":""},{"$f":"IFERROR(VLOOKUP(A126,Data!A$8:J$30,3,FALSE),\"\")","v":""},"",{"$f":"IFERROR(VLOOKUP(A126,Data!A$8:J$30,4,FALSE),\"\")","v":""},{"$f":"IFERROR(VLOOKUP(A126,Data!A$8:J$30,5,FALSE),\"\")","v":""},{"$f":"IFERROR(VLOOKUP(A126,Data!A$8:J$30,6,FALSE),\"\")","v":""},{"$f":"IFERROR(VLOOKUP(A126,Data!A$8:J$30,7,FALSE),\"\")","v":""},null,null,{"$f":"IFERROR(VLOOKUP(A126,Data!A$8:J$30,8,FALSE),0)","v":0}]
[121,{"$f":"IFERROR(VLOOKUP(A127,Data!A$8:J$30,2,FALSE),\"\")","v":""},{"$f":"IFERROR(VLOOKUP(A127,Data!A$8:J$30,10,FALSE),\"\")","v":""},{"$f":"IFERROR(VLOOKUP(A127,Data!A$8:J$30,3,FALSE),\"\")","v":""},"",{"$f":"IFERROR(VLOOKUP(A127,Data!A$8:J$30,4,FALSE),\"\")","v":""},{"$f":"IFERROR(VLOOKUP(A127,Data!A$8:J$30,5,FALSE),\"\")","v":""},{"$f":"IFERROR(VLOOKUP(A127,Data!A$8:J$30,6,FALSE),\"\")","v":""},{"$f":"IFERROR(VLOOKUP(A127,Data!A$8:J$30,7,FALSE),\"\")","v":""},null,null,{"$f":"IFERROR(VLOOKUP(A127,Data!A$8:J$30,8,FALSE),0)","v":0}]
[122,{"$f":"IFERROR(VLOOKUP(A128,Data!A$8:J$30,2,FALSE),\"\")","v":""},{"$f":"IFERROR(VLOOKUP(A128,Data!A$8:J$30,10,FALSE),\"\")","v":""},{"$f":"IFERROR(VLOOKUP(A128,Data!A$8:J$30,3,FALSE),\"\")","v":""},"",{"$f":"IFERROR(VLOOKUP(A128,Data!A$8:J$30,4,FALSE),\"\")","v":""},{"$f":"IFERROR(VLOOKUP(A128,Data!A$8:J$30,5,FALSE),\"\")","v":""},{"$f":"IFERROR(VLOOKUP(A128,Data!A$8:J$30,6,FALSE),\"\")","v":""},{"$f":"IFERROR(VLOOKUP(A128,Data!A$8:J$30,7,FALSE),\"\")","v":""},null,null,{"$f":"IFERROR(VLOOKUP(A128,Data!A$8:J$30,8,FALSE),0)","v":0}]
[123,{"$f":"IFERROR(VLOOKUP(A129,Data!A$8:J$30,2,FALSE),\"\")","v":""},{"$f":"IFERROR(VLOOKUP(A129,Data!A$8:J$30,10,FALSE),\"\")","v":""},{"$f":"IFERROR(VLOOKUP(A129,Data!A$8:J$30,3,FALSE),\"\")","v":""},"",{"$f":"IFERROR(VLOOKUP(A129,Data!A$8:J$30,4,FALSE),\"\")","v":""},{"$f":"IFERROR(VLOOKUP(A129,Data!A$8:J$30,5,FALSE),\"\")","v":""},{"$f":"IFERROR(VLOOKUP(A129,Data!A$8:J$30,6,FALSE),\"\")","v":""},{"$f":"IFERROR(VLOOKUP(A129,Data!A$8:J$30,7,FALSE),\"\")","v":""},null,null,{"$f":"IFERROR(VLOOKUP(A129,Data!A$8:J$30,8,FALSE),0)","v":0}]
[124,{"$f":"IFERROR(VLOOKUP(A130,Data!A$8:J$30,2,FALSE),\"\")","v":""},{"$f":"IFERROR(VLOOKUP(A130,Data!A$8:J$30,10,FALSE),\"\")","v":""},{"$f":"IFERROR(VLOOKUP(A130,Data!A$8:J$30,3,FALSE),\"\")","v":""},"",{"$f":"IFERROR(VLOOKUP(A130,Data!A$8:J$30,4,FALSE),\"\")","v":""},{"$f":"IFERROR(VLOOKUP(A130,Data!A$8:J$30,5,FALSE),\"\")","v":""},{"$f":"IFERROR(VLOOKUP(A130,Data!A$8:J$30,6,FALSE),\"\")","v":""},{"$f":"IFERROR(VLOOKUP(A130,Data!A$8:J$30,7,FALSE),\"\")","v":""},null,null,{"$f":"IFERROR(VLOOKUP(A130,Data!A$8:J$30,8,FALSE),0)","v":0}]
[125,{"$f":"IFERROR(VLOOKUP(A131,Data!A$8:J$30,2,FALSE),\"\")","v":""},{"$f":"IFERROR(VLOOKUP(A131,Data!A$8:J$30,10,FALSE),\"\")","v":""},{"$f":"IFERROR(VLOOKUP(A131,Data!A$8:J$30,3,FALSE),\"\")","v":""},"",{"$f":"IFERROR(VLOOKUP(A131,Data!A$8:J$30,4,FALSE),\"\")","v":""},{"$f":"IFERROR(VLOOKUP(A131,Data!A$8:J$30,5,FALSE),\"\")","v":""},{"$f":"IFERROR(VLOOKUP(A131,Data!A$8:J$30,6,FALSE),\"\")","v":""},{"$f":"IFERROR(VLOOKUP(A131,Data!A$8:J$30,7,FALSE),\"\")","v":""},null,null,{"$f":"IFERROR(VLOOKUP(A131,Data!A$8:J$30,8,FALSE),0)","v":0}]
[126,{"$f":"IFERROR(VLOOKUP(A132,Data!A$8:J$30,2,FALSE),\"\")","v":""},{"$f":"IFERROR(VLOOKUP(A132,Data!A$8:J$30,10,FALSE),\"\")","v":""},{"$f":"IFERROR(VLOOKUP(A132,Data!A$8:J$30,3,FALSE),\"\")","v":""},"",{"$f":"IFERROR(VLOOKUP(A132,Data!A$8:J$30,4,FALSE),\"\")","v":""},{"$f":"IFERROR(VLOOKUP(A132,Data!A$8:J$30,5,FALSE),\"\")","v":""},{"$f":"IFERROR(VLOOKUP(A132,Data!A$8:J$30,6,FALSE),\"\")","v":""},{"$f":"IFERROR(VLOOKUP(A132,Data!A$8:J$30,7,FALSE),\"\")","v":""},null,null,{"$f":"IFERROR(VLOOKUP(A132,Data!A$8:J$30,8,FALSE),0)","v":0}]
[127,{"$f":"IFERROR(VLOOKUP(A133,Data!A$8:J$30,2,FALSE),\"\")","v":""},{"$f":"IFERROR(VLOOKUP(A133,Data!A$8:J$30,10,FALSE),\"\")","v":""},{"$f":"IFERROR(VLOOKUP(A133,Data!A$8:J$30,3,FALSE),\"\")","v":""},"",{"$f":"IFERROR(VLOOKUP(A133,Data!A$8:J$30,4,FALSE),\"\")","v":""},{"$f":"IFERROR(VLOOKUP(A133,Data!A$8:J$30,5,FALSE),\"\")","v":""},{"$f":"IFERROR(VLOOKUP(A133,Data!A$8:J$30,6,FALSE),\"\")","v":""},{"$f":"IFERROR(VLOOKUP(A133,Data!A$8:J$30,7,FALSE),\"\")","v":""},null,null,{"$f":"IFERROR(VLOOKUP(A133,Data!A$8:J$30,8,FALSE),0)","v":0}]
[128,{"$f":"IFERROR(VLOOKUP(A134,Data!A$8:J$30,2,FALSE),\"\")","v":""},{"$f":"IFERROR(VLOOKUP(A134,Data!A$8:J$30,10,FALSE),\"\")","v":""},{"$f":"IFERROR(VLOOKUP(A134,Data!A$8:J$30,3,FALSE),\"\")","v":""},"",{"$f":"IFERROR(VLOOKUP(A134,Data!A$8:J$30,4,FALSE),\"\")","v":""},{"$f":"IFERROR(VLOOKUP(A134,Data!A$8:J$30,5,FALSE),\"\")","v":""},{"$f":"IFERROR(VLOOKUP(A134,Data!A$8:J$30,6,FALSE),\"\")","v":""},{"$f":"IFERROR(VLOOKUP(A134,Data!A$8:J$30,7,FALSE),\"\")","v":""},null,null,{"$f":"IFERROR(VLOOKUP(A134,Data!A$8:J$30,8,FALSE),0)","v":0}]
[129,{"$f":"IFERROR(VLOOKUP(A135,Data!A$8:J$30,2,FALSE),\"\")","v":""},{"$f":"IFERROR(VLOOKUP(A135,Data!A$8:J$30,10,FALSE),\"\")","v":""},{"$f":"IFERROR(VLOOKUP(A135,Data!A$8:J$30,3,FALSE),\"\")","v":""},"",{"$f":"IFERROR(VLOOKUP(A135,Data!A$8:J$30,4,FALSE),\"\")","v":""},{"$f":"IFERROR(VLOOKUP(A135,Data!A$8:J$30,5,FALSE),\"\")","v":""},{"$f":"IFERROR(VLOOKUP(A135,Data!A$8:J$30,6,FALSE),\"\")","v":""},{"$f":"IFERROR(VLOOKUP(A135,Data!A$8:J$30,7,FALSE),\"\")","v":""},null,null,{"$f":"IFERROR(VLOOKUP(A135,Data!A$8:J$30,8,FALSE),0)","v":0}]
[130,{"$f":"IFERROR(VLOOKUP(A136,Data!A$8:J$30,2,FALSE),\"\")","v":""},{"$f":"IFERROR(VLOOKUP(A136,Data!A$8:J$30,10,FALSE),\"\")","v":""},{"$f":"IFERROR(VLOOKUP(A136,Data!A$8:J$30,3,FALSE),\"\")","v":""},{"$f":"IF(L136>0,IF(L136=3,L$6,L$5),\"\")","v":""},{"$f":"IFERROR(VLOOKUP(A136,Data!A$8:J$30,4,FALSE),\"\")","v":""},{"$f":"IFERROR(VLOOKUP(A136,Data!A$8:J$30,5,FALSE),\"\")","v":""},{"$f":"IFERROR(VLOOKUP(A136,Data!A$8:J$30,6,FALSE),\"\")","v":""},{"$f":"IFERROR(VLOOKUP(A136,Data!A$8:J$30,7,FALSE),\"\")","v":""},null,null,{"$f":"IFERROR(VLOOKUP(A136,Data!A$8:J$30,8,FALSE),0)","v":0}]
[131,{"$f":"IFERROR(VLOOKUP(A137,Data!A$8:J$30,2,FALSE),\"\")","v":""},{"$f":"IFERROR(VLOOKUP(A137,Data!A$8:J$30,10,FALSE),\"\")","v":""},{"$f":"IFERROR(VLOOKUP(A137,Data!A$8:J$30,3,FALSE),\"\")","v":""},"",{"$f":"IFERROR(VLOOKUP(A137,Data!A$8:J$30,4,FALSE),\"\")","v":""},{"$f":"IFERROR(VLOOKUP(A137,Data!A$8:J$30,5,FALSE),\"\")","v":""},{"$f":"IFERROR(VLOOKUP(A137,Data!A$8:J$30,6,FALSE),\"\")","v":""},{"$f":"IFERROR(VLOOKUP(A137,Data!A$8:J$30,7,FALSE),\"\")","v":""},null,null,{"$f":"IFERROR(VLOOKUP(A137,Data!A$8:J$30,8,FALSE),0)","v":0}]
[132,{"$f":"IFERROR(VLOOKUP(A138,Data!A$8:J$30,2,FALSE),\"\")","v":""},{"$f":"IFERROR(VLOOKUP(A138,Data!A$8:J$30,10,FALSE),\"\")","v":""},{"$f":"IFERROR(VLOOKUP(A138,Data!A$8:J$30,3,FALSE),\"\")","v":""},"",{"$f":"IFERROR(VLOOKUP(A138,Data!A$8:J$30,4,FALSE),\"\")","v":""},{"$f":"IFERROR(VLOOKUP(A138,Data!A$8:J$30,5,FALSE),\"\")","v":""},{"$f":"IFERROR(VLOOKUP(A138,Data!A$8:J$30,6,FALSE),\"\")","v":""},{"$f":"IFERROR(VLOOKUP(A138,Data!A$8:J$30,7,FALSE),\"\")","v":""},null,null,{"$f":"IFERROR(VLOOKUP(A138,Data!A$8:J$30,8,FALSE),0)","v":0}]
[133,{"$f":"IFERROR(VLOOKUP(A139,Data!A$8:J$30,2,FALSE),\"\")","v":""},{"$f":"IFERROR(VLOOKUP(A139,Data!A$8:J$30,10,FALSE),\"\")","v":""},{"$f":"IFERROR(VLOOKUP(A139,Data!A$8:J$30,3,FALSE),\"\")","v":""},"",{"$f":"IFERROR(VLOOKUP(A139,Data!A$8:J$30,4,FALSE),\"\")","v":""},{"$f":"IFERROR(VLOOKUP(A139,Data!A$8:J$30,5,FALSE),\"\")","v":""},{"$f":"IFERROR(VLOOKUP(A139,Data!A$8:J$30,6,FALSE),\"\")","v":""},{"$f":"IFERROR(VLOOKUP(A139,Data!A$8:J$30,7,FALSE),\"\")","v":""},null,null,{"$f":"IFERROR(VLOOKUP(A139,Data!A$8:J$30,8,FALSE),0)","v":0}]
[134,{"$f":"IFERROR(VLOOKUP(A140,Data!A$8:J$30,2,FALSE),\"\")","v":""},{"$f":"IFERROR(VLOOKUP(A140,Data!A$8:J$30,10,FALSE),\"\")","v":""},{"$f":"IFERROR(VLOOKUP(A140,Data!A$8:J$30,3,FALSE),\"\")","v":""},"",{"$f":"IFERROR(VLOOKUP(A140,Data!A$8:J$30,4,FALSE),\"\")","v":""},{"$f":"IFERROR(VLOOKUP(A140,Data!A$8:J$30,5,FALSE),\"\")","v":""},{"$f":"IFERROR(VLOOKUP(A140,Data!A$8:J$30,6,FALSE),\"\")","v":""},{"$f":"IFERROR(VLOOKUP(A140,Data!A$8:J$30,7,FALSE),\"\")","v":""},null,null,{"$f":"IFERROR(VLOOKUP(A140,Data!A$8:J$30,8,FALSE),0)","v":0}]
[135,{"$f":"IFERROR(VLOOKUP(A141,Data!A$8:J$30,2,FALSE),\"\")","v":""},{"$f":"IFERROR(VLOOKUP(A141,Data!A$8:J$30,10,FALSE),\"\")","v":""},{"$f":"IFERROR(VLOOKUP(A141,Data!A$8:J$30,3,FALSE),\"\")","v":""},"",{"$f":"IFERROR(VLOOKUP(A141,Data!A$8:J$30,4,FALSE),\"\")","v":""},{"$f":"IFERROR(VLOOKUP(A141,Data!A$8:J$30,5,FALSE),\"\")","v":""},{"$f":"IFERROR(VLOOKUP(A141,Data!A$8:J$30,6,FALSE),\"\")","v":""},{"$f":"IFERROR(VLOOKUP(A141,Data!A$8:J$30,7,FALSE),\"\")","v":""},null,null,{"$f":"IFERROR(VLOOKUP(A141,Data!A$8:J$30,8,FALSE),0)","v":0}]
[136,{"$f":"IFERROR(VLOOKUP(A142,Data!A$8:J$30,2,FALSE),\"\")","v":""},{"$f":"IFERROR(VLOOKUP(A142,Data!A$8:J$30,10,FALSE),\"\")","v":""},{"$f":"IFERROR(VLOOKUP(A142,Data!A$8:J$30,3,FALSE),\"\")","v":""},"",{"$f":"IFERROR(VLOOKUP(A142,Data!A$8:J$30,4,FALSE),\"\")","v":""},{"$f":"IFERROR(VLOOKUP(A142,Data!A$8:J$30,5,FALSE),\"\")","v":""},{"$f":"IFERROR(VLOOKUP(A142,Data!A$8:J$30,6,FALSE),\"\")","v":""},{"$f":"IFERROR(VLOOKUP(A142,Data!A$8:J$30,7,FALSE),\"\")","v":""},null,null,{"$f":"IFERROR(VLOOKUP(A142,Data!A$8:J$30,8,FALSE),0)","v":0}]
[137,{"$f":"IFERROR(VLOOKUP(A143,Data!A$8:J$30,2,FALSE),\"\")","v":""},{"$f":"IFERROR(VLOOKUP(A143,Data!A$8:J$30,10,FALSE),\"\")","v":""},{"$f":"IFERROR(VLOOKUP(A143,Data!A$8:J$30,3,FALSE),\"\")","v":""},"",{"$f":"IFERROR(VLOOKUP(A143,Data!A$8:J$30,4,FALSE),\"\")","v":""},{"$f":"IFERROR(VLOOKUP(A143,Data!A$8:J$30,5,FALSE),\"\")","v":""},{"$f":"IFERROR(VLOOKUP(A143,Data!A$8:J$30,6,FALSE),\"\")","v":""},{"$f":"IFERROR(VLOOKUP(A143,Data!A$8:J$30,7,FALSE),\"\")","v":""},null,null,{"$f":"IFERROR(VLOOKUP(A143,Data!A$8:J$30,8,FALSE),0)","v":0}]
[138,{"$f":"IFERROR(VLOOKUP(A144,Data!A$8:J$30,2,FALSE),\"\")","v":""},{"$f":"IFERROR(VLOOKUP(A144,Data!A$8:J$30,10,FALSE),\"\")","v":""},{"$f":"IFERROR(VLOOKUP(A144,Data!A$8:J$30,3,FALSE),\"\")","v":""},"",{"$f":"IFERROR(VLOOKUP(A144,Data!A$8:J$30,4,FALSE),\"\")","v":""},{"$f":"IFERROR(VLOOKUP(A144,Data!A$8:J$30,5,FALSE),\"\")","v":""},{"$f":"IFERROR(VLOOKUP(A144,Data!A$8:J$30,6,FALSE),\"\")","v":""},{"$f":"IFERROR(VLOOKUP(A144,Data!A$8:J$30,7,FALSE),\"\")","v":""},null,null,{"$f":"IFERROR(VLOOKUP(A144,Data!A$8:J$30,8,FALSE),0)","v":0}]
[139,{"$f":"IFERROR(VLOOKUP(A145,Data!A$8:J$30,2,FALSE),\"\")","v":""},{"$f":"IFERROR(VLOOKUP(A145,Data!A$8:J$30,10,FALSE),\"\")","v":""},{"$f":"IFERROR(VLOOKUP(A145,Data!A$8:J$30,3,FALSE),\"\")","v":""},"",{"$f":"IFERROR(VLOOKUP(A145,Data!A$8:J$30,4,FALSE),\"\")","v":""},{"$f":"IFERROR(VLOOKUP(A145,Data!A$8:J$30,5,FALSE),\"\")","v":""},{"$f":"IFERROR(VLOOKUP(A145,Data!A$8:J$30,6,FALSE),\"\")","v":""},{"$f":"IFERROR(VLOOKUP(A145,Data!A$8:J$30,7,FALSE),\"\")","v":""},null,null,{"$f":"IFERROR(VLOOKUP(A145,Data!A$8:J$30,8,FALSE),0)","v":0}]
[140,{"$f":"IFERROR(VLOOKUP(A146,Data!A$8:J$30,2,FALSE),\"\")","v":""},{"$f":"IFERROR(VLOOKUP(A146,Data!A$8:J$30,10,FALSE),\"\")","v":""},{"$f":"IFERROR(VLOOKUP(A146,Data!A$8:J$30,3,FALSE),\"\")","v":""},"",{"$f":"IFERROR(VLOOKUP(A146,Data!A$8:J$30,4,FALSE),\"\")","v":""},{"$f":"IFERROR(VLOOKUP(A146,Data!A$8:J$30,5,FALSE),\"\")","v":""},{"$f":"IFERROR(VLOOKUP(A146,Data!A$8:J$30,6,FALSE),\"\")","v":""},{"$f":"IFERROR(VLOOKUP(A146,Data!A$8:J$30,7,FALSE),\"\")","v":""},null,null,{"$f":"IFERROR(VLOOKUP(A146,Data!A$8:J$30,8,FALSE),0)","v":0}]
[141,{"$f":"IFERROR(VLOOKUP(A147,Data!A$8:J$30,2,FALSE),\"\")","v":""},{"$f":"IFERROR(VLOOKUP(A147,Data!A$8:J$30,10,FALSE),\"\")","v":""},{"$f":"IFERROR(VLOOKUP(A147,Data!A$8:J$30,3,FALSE),\"\")","v":""},"",{"$f":"IFERROR(VLOOKUP(A147,Data!A$8:J$30,4,FALSE),\"\")","v":""},{"$f":"IFERROR(VLOOKUP(A147,Data!A$8:J$30,5,FALSE),\"\")","v":""},{"$f":"IFERROR(VLOOKUP(A147,Data!A$8:J$30,6,FALSE),\"\")","v":""},{"$f":"IFERROR(VLOOKUP(A147,Data!A$8:J$30,7,FALSE),\"\")","v":""},null,null,{"$f":"IFERROR(VLOOKUP(A147,Data!A$8:J$30,8,FALSE),0)","v":0}]
[142,{"$f":"IFERROR(VLOOKUP(A148,Data!A$8:J$30,2,FALSE),\"\")","v":""},{"$f":"IFERROR(VLOOKUP(A148,Data!A$8:J$30,10,FALSE),\"\")","v":""},{"$f":"IFERROR(VLOOKUP(A148,Data!A$8:J$30,3,FALSE),\"\")","v":""},"",{"$f":"IFERROR(VLOOKUP(A148,Data!A$8:J$30,4,FALSE),\"\")","v":""},{"$f":"IFERROR(VLOOKUP(A148,Data!A$8:J$30,5,FALSE),\"\")","v":""},{"$f":"IFERROR(VLOOKUP(A148,Data!A$8:J$30,6,FALSE),\"\")","v":""},{"$f":"IFERROR(VLOOKUP(A148,Data!A$8:J$30,7,FALSE),\"\")","v":""},null,null,{"$f":"IFERROR(VLOOKUP(A148,Data!A$8:J$30,8,FALSE),0)","v":0}]
[143,{"$f":"IFERROR(VLOOKUP(A149,Data!A$8:J$30,2,FALSE),\"\")","v":""},{"$f":"IFERROR(VLOOKUP(A149,Data!A$8:J$30,10,FALSE),\"\")","v":""},{"$f":"IFERROR(VLOOKUP(A149,Data!A$8:J$30,3,FALSE),\"\")","v":""},"",{"$f":"IFERROR(VLOOKUP(A149,Data!A$8:J$30,4,FALSE),\"\")","v":""},{"$f":"IFERROR(VLOOKUP(A149,Data!A$8:J$30,5,FALSE),\"\")","v":""},{"$f":"IFERROR(VLOOKUP(A149,Data!A$8:J$30,6,FALSE),\"\")","v":""},{"$f":"IFERROR(VLOOKUP(A149,Data!A$8:J$30,7,FALSE),\"\")","v":""},null,null,{"$f":"IFERROR(VLOOKUP(A149,Data!A$8:J$30,8,FALSE),0)","v":0}]
[144,{"$f":"IFERROR(VLOOKUP(A150,Data!A$8:J$30,2,FALSE),\"\")","v":""},{"$f":"IFERROR(VLOOKUP(A150,Data!A$8:J$30,10,FALSE),\"\")","v":""},{"$f":"IFERROR(VLOOKUP(A150,Data!A$8:J$30,3,FALSE),\"\")","v":""},"",{"$f":"IFERROR(VLOOKUP(A150,Data!A$8:J$30,4,FALSE),\"\")","v":""},{"$f":"IFERROR(VLOOKUP(A150,Data!A$8:J$30,5,FALSE),\"\")","v":""},{"$f":"IFERROR(VLOOKUP(A150,Data!A$8:J$30,6,FALSE),\"\")","v":""},{"$f":"IFERROR(VLOOKUP(A150,Data!A$8:J$30,7,FALSE),\"\")","v":""},null,null,{"$f":"IFERROR(VLOOKUP(A150,Data!A$8:J$30,8,FALSE),0)","v":0}]
[145,{"$f":"IFERROR(VLOOKUP(A151,Data!A$8:J$30,2,FALSE),\"\")","v":""},{"$f":"IFERROR(VLOOKUP(A151,Data!A$8:J$30,10,FALSE),\"\")","v":""},{"$f":"IFERROR(VLOOKUP(A151,Data!A$8:J$30,3,FALSE),\"\")","v":""},"",{"$f":"IFERROR(VLOOKUP(A151,Data!A$8:J$30,4,FALSE),\"\")","v":""},{"$f":"IFERROR(VLOOKUP(A151,Data!A$8:J$30,5,FALSE),\"\")","v":""},{"$f":"IFERROR(VLOOKUP(A151,Data!A$8:J$30,6,FALSE),\"\")","v":""},{"$f":"IFERROR(VLOOKUP(A151,Data!A$8:J$30,7,FALSE),\"\")","v":""},null,null,{"$f":"IFERROR(VLOOKUP(A151,Data!A$8:J$30,8,FALSE),0)","v":0}]
[146,{"$f":"IFERROR(VLOOKUP(A152,Data!A$8:J$30,2,FALSE),\"\")","v":""},{"$f":"IFERROR(VLOOKUP(A152,Data!A$8:J$30,10,FALSE),\"\")","v":""},{"$f":"IFERROR(VLOOKUP(A152,Data!A$8:J$30,3,FALSE),\"\")","v":""},"",{"$f":"IFERROR(VLOOKUP(A152,Data!A$8:J$30,4,FALSE),\"\")","v":""},{"$f":"IFERROR(VLOOKUP(A152,Data!A$8:J$30,5,FALSE),\"\")","v":""},{"$f":"IFERROR(VLOOKUP(A152,Data!A$8:J$30,6,FALSE),\"\")","v":""},{"$f":"IFERROR(VLOOKUP(A152,Data!A$8:J$30,7,FALSE),\"\")","v":""},null,null,{"$f":"IFERROR(VLOOKUP(A152,Data!A$8:J$30,8,FALSE),0)","v":0}]
[147,{"$f":"IFERROR(VLOOKUP(A153,Data!A$8:J$30,2,FALSE),\"\")","v":""},{"$f":"IFERROR(VLOOKUP(A153,Data!A$8:J$30,10,FALSE),\"\")","v":""},{"$f":"IFERROR(VLOOKUP(A153,Data!A$8:J$30,3,FALSE),\"\")","v":""},"",{"$f":"IFERROR(VLOOKUP(A153,Data!A$8:J$30,4,FALSE),\"\")","v":""},{"$f":"IFERROR(VLOOKUP(A153,Data!A$8:J$30,5,FALSE),\"\")","v":""},{"$f":"IFERROR(VLOOKUP(A153,Data!A$8:J$30,6,FALSE),\"\")","v":""},{"$f":"IFERROR(VLOOKUP(A153,Data!A$8:J$30,7,FALSE),\"\")","v":""},null,null,{"$f":"IFERROR(VLOOKUP(A153,Data!A$8:J$30,8,FALSE),0)","v":0}]
[148,{"$f":"IFERROR(VLOOKUP(A154,Data!A$8:J$30,2,FALSE),\"\")","v":""},{"$f":"IFERROR(VLOOKUP(A154,Data!A$8:J$30,10,FALSE),\"\")","v":""},{"$f":"IFERROR(VLOOKUP(A154,Data!A$8:J$30,3,FALSE),\"\")","v":""},"",{"$f":"IFERROR(VLOOKUP(A154,Data!A$8:J$30,4,FALSE),\"\")","v":""},{"$f":"IFERROR(VLOOKUP(A154,Data!A$8:J$30,5,FALSE),\"\")","v":""},{"$f":"IFERROR(VLOOKUP(A154,Data!A$8:J$30,6,FALSE),\"\")","v":""},{"$f":"IFERROR(VLOOKUP(A154,Data!A$8:J$30,7,FALSE),\"\")","v":""},null,null,{"$f":"IFERROR(VLOOKUP(A154,Data!A$8:J$30,8,FALSE),0)","v":0}]
[149,{"$f":"IFERROR(VLOOKUP(A155,Data!A$8:J$30,2,FALSE),\"\")","v":""},{"$f":"IFERROR(VLOOKUP(A155,Data!A$8:J$30,10,FALSE),\"\")","v":""},{"$f":"IFERROR(VLOOKUP(A155,Data!A$8:J$30,3,FALSE),\"\")","v":""},"",{"$f":"IFERROR(VLOOKUP(A155,Data!A$8:J$30,4,FALSE),\"\")","v":""},{"$f":"IFERROR(VLOOKUP(A155,Data!A$8:J$30,5,FALSE),\"\")","v":""},{"$f":"IFERROR(VLOOKUP(A155,Data!A$8:J$30,6,FALSE),\"\")","v":""},{"$f":"IFERROR(VLOOKUP(A155,Data!A$8:J$30,7,FALSE),\"\")","v":""},null,null,{"$f":"IFERROR(VLOOKUP(A155,Data!A$8:J$30,8,FALSE),0)","v":0}]
[150,{"$f":"IFERROR(VLOOKUP(A156,Data!A$8:J$30,2,FALSE),\"\")","v":""},{"$f":"IFERROR(VLOOKUP(A156,Data!A$8:J$30,10,FALSE),\"\")","v":""},{"$f":"IFERROR(VLOOKUP(A156,Data!A$8:J$30,3,FALSE),\"\")","v":""},"",{"$f":"IFERROR(VLOOKUP(A156,Data!A$8:J$30,4,FALSE),\"\")","v":""},{"$f":"IFERROR(VLOOKUP(A156,Data!A$8:J$30,5,FALSE),\"\")","v":""},{"$f":"IFERROR(VLOOKUP(A156,Data!A$8:J$30,6,FALSE),\"\")","v":""},{"$f":"IFERROR(VLOOKUP(A156,Data!A$8:J$30,7,FALSE),\"\")","v":""},null,null,{"$f":"IFERROR(VLOOKUP(A156,Data!A$8:J$30,8,FALSE),0)","v":0}]
[151,{"$f":"IFERROR(VLOOKUP(A157,Data!A$8:J$30,2,FALSE),\"\")","v":""},{"$f":"IFERROR(VLOOKUP(A157,Data!A$8:J$30,10,FALSE),\"\")","v":""},{"$f":"IFERROR(VLOOKUP(A157,Data!A$8:J$30,3,FALSE),\"\")","v":""},"",{"$f":"IFERROR(VLOOKUP(A157,Data!A$8:J$30,4,FALSE),\"\")","v":""},{"$f":"IFERROR(VLOOKUP(A157,Data!A$8:J$30,5,FALSE),\"\")","v":""},{"$f":"IFERROR(VLOOKUP(A157,Data!A$8:J$30,6,FALSE),\"\")","v":""},{"$f":"IFERROR(VLOOKUP(A157,Data!A$8:J$30,7,FALSE),\"\")","v":""},null,null,{"$f":"IFERROR(VLOOKUP(A157,Data!A$8:J$30,8,FALSE),0)","v":0}]
[152,{"$f":"IFERROR(VLOOKUP(A158,Data!A$8:J$30,2,FALSE),\"\")","v":""},{"$f":"IFERROR(VLOOKUP(A158,Data!A$8:J$30,10,FALSE),\"\")","v":""},{"$f":"IFERROR(VLOOKUP(A158,Data!A$8:J$30,3,FALSE),\"\")","v":""},"",{"$f":"IFERROR(VLOOKUP(A158,Data!A$8:J$30,4,FALSE),\"\")","v":""},{"$f":"IFERROR(VLOOKUP(A158,Data!A$8:J$30,5,FALSE),\"\")","v":""},{"$f":"IFERROR(VLOOKUP(A158,Data!A$8:J$30,6,FALSE),\"\")","v":""},{"$f":"IFERROR(VLOOKUP(A158,Data!A$8:J$30,7,FALSE),\"\")","v":""},null,null,{"$f":"IFERROR(VLOOKUP(A158,Data!A$8:J$30,8,FALSE),0)","v":0}]
[153,{"$f":"IFERROR(VLOOKUP(A159,Data!A$8:J$30,2,FALSE),\"\")","v":""},{"$f":"IFERROR(VLOOKUP(A159,Data!A$8:J$30,10,FALSE),\"\")","v":""},{"$f":"IFERROR(VLOOKUP(A159,Data!A$8:J$30,3,FALSE),\"\")","v":""},"",{"$f":"IFERROR(VLOOKUP(A159,Data!A$8:J$30,4,FALSE),\"\")","v":""},{"$f":"IFERROR(VLOOKUP(A159,Data!A$8:J$30,5,FALSE),\"\")","v":""},{"$f":"IFERROR(VLOOKUP(A159,Data!A$8:J$30,6,FALSE),\"\")","v":""},{"$f":"IFERROR(VLOOKUP(A159,Data!A$8:J$30,7,FALSE),\"\")","v":""},null,null,{"$f":"IFERROR(VLOOKUP(A159,Data!A$8:J$30,8,FALSE),0)","v":0}]
[154,{"$f":"IFERROR(VLOOKUP(A160,Data!A$8:J$30,2,FALSE),\"\")","v":""},{"$f":"IFERROR(VLOOKUP(A160,Data!A$8:J$30,10,FALSE),\"\")","v":""},{"$f":"IFERROR(VLOOKUP(A160,Data!A$8:J$30,3,FALSE),\"\")","v":""},"",{"$f":"IFERROR(VLOOKUP(A160,Data!A$8:J$30,4,FALSE),\"\")","v":""},{"$f":"IFERROR(VLOOKUP(A160,Data!A$8:J$30,5,FALSE),\"\")","v":""},{"$f":"IFERROR(VLOOKUP(A160,Data!A$8:J$30,6,FALSE),\"\")","v":""},{"$f":"IFERROR(VLOOKUP(A160,Data!A$8:J$30,7,FALSE),\"\")","v":""},null,null,{"$f":"IFERROR(VLOOKUP(A160,Data!A$8:J$30,8,FALSE),0)","v":0}]
[155,{"$f":"IFERROR(VLOOKUP(A161,Data!A$8:J$30,2,FALSE),\"\")","v":""},{"$f":"IFERROR(VLOOKUP(A161,Data!A$8:J$30,10,FALSE),\"\")","v":""},{"$f":"IFERROR(VLOOKUP(A161,Data!A$8:J$30,3,FALSE),\"\")","v":""},"",{"$f":"IFERROR(VLOOKUP(A161,Data!A$8:J$30,4,FALSE),\"\")","v":""},{"$f":"IFERROR(VLOOKUP(A161,Data!A$8:J$30,5,FALSE),\"\")","v":""},{"$f":"IFERROR(VLOOKUP(A161,Data!A$8:J$30,6,FALSE),\"\")","v":""},{"$f":"IFERROR(VLOOKUP(A161,Data!A$8:J$30,7,FALSE),\"\")","v":""},null,null,{"$f":"IFERROR(VLOOKUP(A161,Data!A$8:J$30,8,FALSE),0)","v":0}]
[156,{"$f":"IFERROR(VLOOKUP(A162,Data!A$8:J$30,2,FALSE),\"\")","v":""},{"$f":"IFERROR(VLOOKUP(A162,Data!A$8:J$30,10,FALSE),\"\")","v":""},{"$f":"IFERROR(VLOOKUP(A162,Data!A$8:J$30,3,FALSE),\"\")","v":""},"",{"$f":"IFERROR(VLOOKUP(A162,Data!A$8:J$30,4,FALSE),\"\")","v":""},{"$f":"IFERROR(VLOOKUP(A162,Data!A$8:J$30,5,FALSE),\"\")","v":""},{"$f":"IFERROR(VLOOKUP(A162,Data!A$8:J$30,6,FALSE),\"\")","v":""},{"$f":"IFERROR(VLOOKUP(A162,Data!A$8:J$30,7,FALSE),\"\")","v":""},null,null,{"$f":"IFERROR(VLOOKUP(A162,Data!A$8:J$30,8,FALSE),0)","v":0}]
[157,{"$f":"IFERROR(VLOOKUP(A163,Data!A$8:J$30,2,FALSE),\"\")","v":""},{"$f":"IFERROR(VLOOKUP(A163,Data!A$8:J$30,10,FALSE),\"\")","v":""},{"$f":"IFERROR(VLOOKUP(A163,Data!A$8:J$30,3,FALSE),\"\")","v":""},"",{"$f":"IFERROR(VLOOKUP(A163,Data!A$8:J$30,4,FALSE),\"\")","v":""},{"$f":"IFERROR(VLOOKUP(A163,Data!A$8:J$30,5,FALSE),\"\")","v":""},{"$f":"IFERROR(VLOOKUP(A163,Data!A$8:J$30,6,FALSE),\"\")","v":""},{"$f":"IFERROR(VLOOKUP(A163,Data!A$8:J$30,7,FALSE),\"\")","v":""},null,null,{"$f":"IFERROR(VLOOKUP(A163,Data!A$8:J$30,8,FALSE),0)","v":0}]
[158,{"$f":"IFERROR(VLOOKUP(A164,Data!A$8:J$30,2,FALSE),\"\")","v":""},{"$f":"IFERROR(VLOOKUP(A164,Data!A$8:J$30,10,FALSE),\"\")","v":""},{"$f":"IFERROR(VLOOKUP(A164,Data!A$8:J$30,3,FALSE),\"\")","v":""},"",{"$f":"IFERROR(VLOOKUP(A164,Data!A$8:J$30,4,FALSE),\"\")","v":""},{"$f":"IFERROR(VLOOKUP(A164,Data!A$8:J$30,5,FALSE),\"\")","v":""},{"$f":"IFERROR(VLOOKUP(A164,Data!A$8:J$30,6,FALSE),\"\")","v":""},{"$f":"IFERROR(VLOOKUP(A164,Data!A$8:J$30,7,FALSE),\"\")","v":""},null,null,{"$f":"IFERROR(VLOOKUP(A164,Data!A$8:J$30,8,FALSE),0)","v":0}]
[159,{"$f":"IFERROR(VLOOKUP(A165,Data!A$8:J$30,2,FALSE),\"\")","v":""},{"$f":"IFERROR(VLOOKUP(A165,Data!A$8:J$30,10,FALSE),\"\")","v":""},{"$f":"IFERROR(VLOOKUP(A165,Data!A$8:J$30,3,FALSE),\"\")","v":""},"",{"$f":"IFERROR(VLOOKUP(A165,Data!A$8:J$30,4,FALSE),\"\")","v":""},{"$f":"IFERROR(VLOOKUP(A165,Data!A$8:J$30,5,FALSE),\"\")","v":""},{"$f":"IFERROR(VLOOKUP(A165,Data!A$8:J$30,6,FALSE),\"\")","v":""},{"$f":"IFERROR(VLOOKUP(A165,Data!A$8:J$30,7,FALSE),\"\")","v":""},null,null,{"$f":"IFERROR(VLOOKUP(A165,Data!A$8:J$30,8,FALSE),0)","v":0}]
[160,{"$f":"IFERROR(VLOOKUP(A166,Data!A$8:J$30,2,FALSE),\"\")","v":""},{"$f":"IFERROR(VLOOKUP(A166,Data!A$8:J$30,10,FALSE),\"\")","v":""},{"$f":"IFERROR(VLOOKUP(A166,Data!A$8:J$30,3,FALSE),\"\")","v":""},"",{"$f":"IFERROR(VLOOKUP(A166,Data!A$8:J$30,4,FALSE),\"\")","v":""},{"$f":"IFERROR(VLOOKUP(A166,Data!A$8:J$30,5,FALSE),\"\")","v":""},{"$f":"IFERROR(VLOOKUP(A166,Data!A$8:J$30,6,FALSE),\"\")","v":""},{"$f":"IFERROR(VLOOKUP(A166,Data!A$8:J$30,7,FALSE),\"\")","v":""},null,null,{"$f":"IFERROR(VLOOKUP(A166,Data!A$8:J$30,8,FALSE),0)","v":0}]
[161,{"$f":"IFERROR(VLOOKUP(A167,Data!A$8:J$30,2,FALSE),\"\")","v":""},{"$f":"IFERROR(VLOOKUP(A167,Data!A$8:J$30,10,FALSE),\"\")","v":""},{"$f":"IFERROR(VLOOKUP(A167,Data!A$8:J$30,3,FALSE),\"\")","v":""},"",{"$f":"IFERROR(VLOOKUP(A167,Data!A$8:J$30,4,FALSE),\"\")","v":""},{"$f":"IFERROR(VLOOKUP(A167,Data!A$8:J$30,5,FALSE),\"\")","v":""},{"$f":"IFERROR(VLOOKUP(A167,Data!A$8:J$30,6,FALSE),\"\")","v":""},{"$f":"IFERROR(VLOOKUP(A167,Data!A$8:J$30,7,FALSE),\"\")","v":""},null,null,{"$f":"IFERROR(VLOOKUP(A167,Data!A$8:J$30,8,FALSE),0)","v":0}]
[162,{"$f":"IFERROR(VLOOKUP(A168,Data!A$8:J$30,2,FALSE),\"\")","v":""},{"$f":"IFERROR(VLOOKUP(A168,Data!A$8:J$30,10,FALSE),\"\")","v":""},{"$f":"IFERROR(VLOOKUP(A168,Data!A$8:J$30,3,FALSE),\"\")","v":""},"",{"$f":"IFERROR(VLOOKUP(A168,Data!A$8:J$30,4,FALSE),\"\")","v":""},{"$f":"IFERROR(VLOOKUP(A168,Data!A$8:J$30,5,FALSE),\"\")","v":""},{"$f":"IFERROR(VLOOKUP(A168,Data!A$8:J$30,6,FALSE),\"\")","v":""},{"$f":"IFERROR(VLOOKUP(A168,Data!A$8:J$30,7,FALSE),\"\")","v":""},null,null,{"$f":"IFERROR(VLOOKUP(A168,Data!A$8:J$30,8,FALSE),0)","v":0}]
[163,{"$f":"IFERROR(VLOOKUP(A169,Data!A$8:J$30,2,FALSE),\"\")","v":""},{"$f":"IFERROR(VLOOKUP(A169,Data!A$8:J$30,10,FALSE),\"\")","v":""},{"$f":"IFERROR(VLOOKUP(A169,Data!A$8:J$30,3,FALSE),\"\")","v":""},"",{"$f":"IFERROR(VLOOKUP(A169,Data!A$8:J$30,4,FALSE),\"\")","v":""},{"$f":"IFERROR(VLOOKUP(A169,Data!A$8:J$30,5,FALSE),\"\")","v":""},{"$f":"IFERROR(VLOOKUP(A169,Data!A$8:J$30,6,FALSE),\"\")","v":""},{"$f":"IFERROR(VLOOKUP(A169,Data!A$8:J$30,7,FALSE),\"\")","v":""},null,null,{"$f":"IFERROR(VLOOKUP(A169,Data!A$8:J$30,8,FALSE),0)","v":0}]
[164,{"$f":"IFERROR(VLOOKUP(A170,Data!A$8:J$30,2,FALSE),\"\")","v":""},{"$f":"IFERROR(VLOOKUP(A170,Data!A$8:J$30,10,FALSE),\"\")","v":""},{"$f":"IFERROR(VLOOKUP(A170,Data!A$8:J$30,3,FALSE),\"\")","v":""},"",{"$f":"IFERROR(VLOOKUP(A170,Data!A$8:J$30,4,FALSE),\"\")","v":""},{"$f":"IFERROR(VLOOKUP(A170,Data!A$8:J$30,5,FALSE),\"\")","v":""},{"$f":"IFERROR(VLOOKUP(A170,Data!A$8:J$30,6,FALSE),\"\")","v":""},{"$f":"IFERROR(VLOOKUP(A170,Data!A$8:J$30,7,FALSE),\"\")","v":""},null,null,{"$f":"IFERROR(VLOOKUP(A170,Data!A$8:J$30,8,FALSE),0)","v":0}]
[165,{"$f":"IFERROR(VLOOKUP(A171,Data!A$8:J$30,2,FALSE),\"\")","v":""},{"$f":"IFERROR(VLOOKUP(A171,Data!A$8:J$30,10,FALSE),\"\")","v":""},{"$f":"IFERROR(VLOOKUP(A171,Data!A$8:J$30,3,FALSE),\"\")","v":""},"",{"$f":"IFERROR(VLOOKUP(A171,Data!A$8:J$30,4,FALSE),\"\")","v":""},{"$f":"IFERROR(VLOOKUP(A171,Data!A$8:J$30,5,FALSE),\"\")","v":""},{"$f":"IFERROR(VLOOKUP(A171,Data!A$8:J$30,6,FALSE),\"\")","v":""},{"$f":"IFERROR(VLOOKUP(A171,Data!A$8:J$30,7,FALSE),\"\")","v":""},null,null,{"$f":"IFERROR(VLOOKUP(A171,Data!A$8:J$30,8,FALSE),0)","v":0}]
[166,{"$f":"IFERROR(VLOOKUP(A172,Data!A$8:J$30,2,FALSE),\"\")","v":""},{"$f":"IFERROR(VLOOKUP(A172,Data!A$8:J$30,10,FALSE),\"\")","v":""},{"$f":"IFERROR(VLOOKUP(A172,Data!A$8:J$30,3,FALSE),\"\")","v":""},"",{"$f":"IFERROR(VLOOKUP(A172,Data!A$8:J$30,4,FALSE),\"\")","v":""},{"$f":"IFERROR(VLOOKUP(A172,Data!A$8:J$30,5,FALSE),\"\")","v":""},{"$f":"IFERROR(VLOOKUP(A172,Data!A$8:J$30,6,FALSE),\"\")","v":""},{"$f":"IFERROR(VLOOKUP(A172,Data!A$8:J$30,7,FALSE),\"\")","v":""},null,null,{"$f":"IFERROR(VLOOKUP(A172,Data!A$8:J$30,8,FALSE),0)","v":0}]
[167,{"$f":"IFERROR(VLOOKUP(A173,Data!A$8:J$30,2,FALSE),\"\")","v":""},{"$f":"IFERROR(VLOOKUP(A173,Data!A$8:J$30,10,FALSE),\"\")","v":""},{"$f":"IFERROR(VLOOKUP(A173,Data!A$8:J$30,3,FALSE),\"\")","v":""},"",{"$f":"IFERROR(VLOOKUP(A173,Data!A$8:J$30,4,FALSE),\"\")","v":""},{"$f":"IFERROR(VLOOKUP(A173,Data!A$8:J$30,5,FALSE),\"\")","v":""},{"$f":"IFERROR(VLOOKUP(A173,Data!A$8:J$30,6,FALSE),\"\")","v":""},{"$f":"IFERROR(VLOOKUP(A173,Data!A$8:J$30,7,FALSE),\"\")","v":""},null,null,{"$f":"IFERROR(VLOOKUP(A173,Data!A$8:J$30,8,FALSE),0)","v":0}]
[168,{"$f":"IFERROR(VLOOKUP(A174,Data!A$8:J$30,2,FALSE),\"\")","v":""},{"$f":"IFERROR(VLOOKUP(A174,Data!A$8:J$30,10,FALSE),\"\")","v":""},{"$f":"IFERROR(VLOOKUP(A174,Data!A$8:J$30,3,FALSE),\"\")","v":""},"",{"$f":"IFERROR(VLOOKUP(A174,Data!A$8:J$30,4,FALSE),\"\")","v":""},{"$f":"IFERROR(VLOOKUP(A174,Data!A$8:J$30,5,FALSE),\"\")","v":""},{"$f":"IFERROR(VLOOKUP(A174,Data!A$8:J$30,6,FALSE),\"\")","v":""},{"$f":"IFERROR(VLOOKUP(A174,Data!A$8:J$30,7,FALSE),\"\")","v":""},null,null,{"$f":"IFERROR(VLOOKUP(A174,Data!A$8:J$30,8,FALSE),0)","v":0}]
[169,{"$f":"IFERROR(VLOOKUP(A175,Data!A$8:J$30,2,FALSE),\"\")","v":""},{"$f":"IFERROR(VLOOKUP(A175,Data!A$8:J$30,10,FALSE),\"\")","v":""},{"$f":"IFERROR(VLOOKUP(A175,Data!A$8:J$30,3,FALSE),\"\")","v":""},"",{"$f":"IFERROR(VLOOKUP(A175,Data!A$8:J$30,4,FALSE),\"\")","v":""},{"$f":"IFERROR(VLOOKUP(A175,Data!A$8:J$30,5,FALSE),\"\")","v":""},{"$f":"IFERROR(VLOOKUP(A175,Data!A$8:J$30,6,FALSE),\"\")","v":""},{"$f":"IFERROR(VLOOKUP(A175,Data!A$8:J$30,7,FALSE),\"\")","v":""},null,null,{"$f":"IFERROR(VLOOKUP(A175,Data!A$8:J$30,8,FALSE),0)","v":0}]
[170,{"$f":"IFERROR(VLOOKUP(A176,Data!A$8:J$30,2,FALSE),\"\")","v":""},{"$f":"IFERROR(VLOOKUP(A176,Data!A$8:J$30,10,FALSE),\"\")","v":""},{"$f":"IFERROR(VLOOKUP(A176,Data!A$8:J$30,3,FALSE),\"\")","v":""},"",{"$f":"IFERROR(VLOOKUP(A176,Data!A$8:J$30,4,FALSE),\"\")","v":""},{"$f":"IFERROR(VLOOKUP(A176,Data!A$8:J$30,5,FALSE),\"\")","v":""},{"$f":"IFERROR(VLOOKUP(A176,Data!A$8:J$30,6,FALSE),\"\")","v":""},{"$f":"IFERROR(VLOOKUP(A176,Data!A$8:J$30,7,FALSE),\"\")","v":""},null,null,{"$f":"IFERROR(VLOOKUP(A176,Data!A$8:J$30,8,FALSE),0)","v":0}]
[171,{"$f":"IFERROR(VLOOKUP(A177,Data!A$8:J$30,2,FALSE),\"\")","v":""},{"$f":"IFERROR(VLOOKUP(A177,Data!A$8:J$30,10,FALSE),\"\")","v":""},{"$f":"IFERROR(VLOOKUP(A177,Data!A$8:J$30,3,FALSE),\"\")","v":""},"",{"$f":"IFERROR(VLOOKUP(A177,Data!A$8:J$30,4,FALSE),\"\")","v":""},{"$f":"IFERROR(VLOOKUP(A177,Data!A$8:J$30,5,FALSE),\"\")","v":""},{"$f":"IFERROR(VLOOKUP(A177,Data!A$8:J$30,6,FALSE),\"\")","v":""},{"$f":"IFERROR(VLOOKUP(A177,Data!A$8:J$30,7,FALSE),\"\")","v":""},null,null,{"$f":"IFERROR(VLOOKUP(A177,Data!A$8:J$30,8,FALSE),0)","v":0}]
[172,{"$f":"IFERROR(VLOOKUP(A178,Data!A$8:J$30,2,FALSE),\"\")","v":""},{"$f":"IFERROR(VLOOKUP(A178,Data!A$8:J$30,10,FALSE),\"\")","v":""},{"$f":"IFERROR(VLOOKUP(A178,Data!A$8:J$30,3,FALSE),\"\")","v":""},"",{"$f":"IFERROR(VLOOKUP(A178,Data!A$8:J$30,4,FALSE),\"\")","v":""},{"$f":"IFERROR(VLOOKUP(A178,Data!A$8:J$30,5,FALSE),\"\")","v":""},{"$f":"IFERROR(VLOOKUP(A178,Data!A$8:J$30,6,FALSE),\"\")","v":""},{"$f":"IFERROR(VLOOKUP(A178,Data!A$8:J$30,7,FALSE),\"\")","v":""},null,null,{"$f":"IFERROR(VLOOKUP(A178,Data!A$8:J$30,8,FALSE),0)","v":0}]
[173,{"$f":"IFERROR(VLOOKUP(A179,Data!A$8:J$30,2,FALSE),\"\")","v":""},{"$f":"IFERROR(VLOOKUP(A179,Data!A$8:J$30,10,FALSE),\"\")","v":""},{"$f":"IFERROR(VLOOKUP(A179,Data!A$8:J$30,3,FALSE),\"\")","v":""},"",{"$f":"IFERROR(VLOOKUP(A179,Data!A$8:J$30,4,FALSE),\"\")","v":""},{"$f":"IFERROR(VLOOKUP(A179,Data!A$8:J$30,5,FALSE),\"\")","v":""},{"$f":"IFERROR(VLOOKUP(A179,Data!A$8:J$30,6,FALSE),\"\")","v":""},{"$f":"IFERROR(VLOOKUP(A179,Data!A$8:J$30,7,FALSE),\"\")","v":""},null,null,{"$f":"IFERROR(VLOOKUP(A179,Data!A$8:J$30,8,FALSE),0)","v":0}]
[174,{"$f":"IFERROR(VLOOKUP(A180,Data!A$8:J$30,2,FALSE),\"\")","v":""},{"$f":"IFERROR(VLOOKUP(A180,Data!A$8:J$30,10,FALSE),\"\")","v":""},{"$f":"IFERROR(VLOOKUP(A180,Data!A$8:J$30,3,FALSE),\"\")","v":""},"",{"$f":"IFERROR(VLOOKUP(A180,Data!A$8:J$30,4,FALSE),\"\")","v":""},{"$f":"IFERROR(VLOOKUP(A180,Data!A$8:J$30,5,FALSE),\"\")","v":""},{"$f":"IFERROR(VLOOKUP(A180,Data!A$8:J$30,6,FALSE),\"\")","v":""},{"$f":"IFERROR(VLOOKUP(A180,Data!A$8:J$30,7,FALSE),\"\")","v":""},null,null,{"$f":"IFERROR(VLOOKUP(A180,Data!A$8:J$30,8,FALSE),0)","v":0}]
[175,{"$f":"IFERROR(VLOOKUP(A181,Data!A$8:J$30,2,FALSE),\"\")","v":""},{"$f":"IFERROR(VLOOKUP(A181,Data!A$8:J$30,10,FALSE),\"\")","v":""},{"$f":"IFERROR(VLOOKUP(A181,Data!A$8:J$30,3,FALSE),\"\")","v":""},"",{"$f":"IFERROR(VLOOKUP(A181,Data!A$8:J$30,4,FALSE),\"\")","v":""},{"$f":"IFERROR(VLOOKUP(A181,Data!A$8:J$30,5,FALSE),\"\")","v":""},{"$f":"IFERROR(VLOOKUP(A181,Data!A$8:J$30,6,FALSE),\"\")","v":""},{"$f":"IFERROR(VLOOKUP(A181,Data!A$8:J$30,7,FALSE),\"\")","v":""},null,null,{"$f":"IFERROR(VLOOKUP(A181,Data!A$8:J$30,8,FALSE),0)","v":0}]
[176,{"$f":"IFERROR(VLOOKUP(A182,Data!A$8:J$30,2,FALSE),\"\")","v":""},{"$f":"IFERROR(VLOOKUP(A182,Data!A$8:J$30,10,FALSE),\"\")","v":""},{"$f":"IFERROR(VLOOKUP(A182,Data!A$8:J$30,3,FALSE),\"\")","v":""},"",{"$f":"IFERROR(VLOOKUP(A182,Data!A$8:J$30,4,FALSE),\"\")","v":""},{"$f":"IFERROR(VLOOKUP(A182,Data!A$8:J$30,5,FALSE),\"\")","v":""},{"$f":"IFERROR(VLOOKUP(A182,Data!A$8:J$30,6,FALSE),\"\")","v":""},{"$f":"IFERROR(VLOOKUP(A182,Data!A$8:J$30,7,FALSE),\"\")","v":""},null,null,{"$f":"IFERROR(VLOOKUP(A182,Data!A$8:J$30,8,FALSE),0)","v":0}]
[177,{"$f":"IFERROR(VLOOKUP(A183,Data!A$8:J$30,2,FALSE),\"\")","v":""},{"$f":"IFERROR(VLOOKUP(A183,Data!A$8:J$30,10,FALSE),\"\")","v":""},{"$f":"IFERROR(VLOOKUP(A183,Data!A$8:J$30,3,FALSE),\"\")","v":""},"",{"$f":"IFERROR(VLOOKUP(A183,Data!A$8:J$30,4,FALSE),\"\")","v":""},{"$f":"IFERROR(VLOOKUP(A183,Data!A$8:J$30,5,FALSE),\"\")","v":""},{"$f":"IFERROR(VLOOKUP(A183,Data!A$8:J$30,6,FALSE),\"\")","v":""},{"$f":"IFERROR(VLOOKUP(A183,Data!A$8:J$30,7,FALSE),\"\")","v":""},null,null,{"$f":"IFERROR(VLOOKUP(A183,Data!A$8:J$30,8,FALSE),0)","v":0}]
[178,{"$f":"IFERROR(VLOOKUP(A184,Data!A$8:J$30,2,FALSE),\"\")","v":""},{"$f":"IFERROR(VLOOKUP(A184,Data!A$8:J$30,10,FALSE),\"\")","v":""},{"$f":"IFERROR(VLOOKUP(A184,Data!A$8:J$30,3,FALSE),\"\")","v":""},"",{"$f":"IFERROR(VLOOKUP(A184,Data!A$8:J$30,4,FALSE),\"\")","v":""},{"$f":"IFERROR(VLOOKUP(A184,Data!A$8:J$30,5,FALSE),\"\")","v":""},{"$f":"IFERROR(VLOOKUP(A184,Data!A$8:J$30,6,FALSE),\"\")","v":""},{"$f":"IFERROR(VLOOKUP(A184,Data!A$8:J$30,7,FALSE),\"\")","v":""},null,null,{"$f":"IFERROR(VLOOKUP(A184,Data!A$8:J$30,8,FALSE),0)","v":0}]
[179,{"$f":"IFERROR(VLOOKUP(A185,Data!A$8:J$30,2,FALSE),\"\")","v":""},{"$f":"IFERROR(VLOOKUP(A185,Data!A$8:J$30,10,FALSE),\"\")","v":""},{"$f":"IFERROR(VLOOKUP(A185,Data!A$8:J$30,3,FALSE),\"\")","v":""},"",{"$f":"IFERROR(VLOOKUP(A185,Data!A$8:J$30,4,FALSE),\"\")","v":""},{"$f":"IFERROR(VLOOKUP(A185,Data!A$8:J$30,5,FALSE),\"\")","v":""},{"$f":"IFERROR(VLOOKUP(A185,Data!A$8:J$30,6,FALSE),\"\")","v":""},{"$f":"IFERROR(VLOOKUP(A185,Data!A$8:J$30,7,FALSE),\"\")","v":""},null,null,{"$f":"IFERROR(VLOOKUP(A185,Data!A$8:J$30,8,FALSE),0)","v":0}]
[180,{"$f":"IFERROR(VLOOKUP(A186,Data!A$8:J$30,2,FALSE),\"\")","v":""},{"$f":"IFERROR(VLOOKUP(A186,Data!A$8:J$30,10,FALSE),\"\")","v":""},{"$f":"IFERROR(VLOOKUP(A186,Data!A$8:J$30,3,FALSE),\"\")","v":""},"",{"$f":"IFERROR(VLOOKUP(A186,Data!A$8:J$30,4,FALSE),\"\")","v":""},{"$f":"IFERROR(VLOOKUP(A186,Data!A$8:J$30,5,FALSE),\"\")","v":""},{"$f":"IFERROR(VLOOKUP(A186,Data!A$8:J$30,6,FALSE),\"\")","v":""},{"$f":"IFERROR(VLOOKUP(A186,Data!A$8:J$30,7,FALSE),\"\")","v":""},null,null,{"$f":"IFERROR(VLOOKUP(A186,Data!A$8:J$30,8,FALSE),0)","v":0}]
[181,{"$f":"IFERROR(VLOOKUP(A187,Data!A$8:J$30,2,FALSE),\"\")","v":""},{"$f":"IFERROR(VLOOKUP(A187,Data!A$8:J$30,10,FALSE),\"\")","v":""},{"$f":"IFERROR(VLOOKUP(A187,Data!A$8:J$30,3,FALSE),\"\")","v":""},"",{"$f":"IFERROR(VLOOKUP(A187,Data!A$8:J$30,4,FALSE),\"\")","v":""},{"$f":"IFERROR(VLOOKUP(A187,Data!A$8:J$30,5,FALSE),\"\")","v":""},{"$f":"IFERROR(VLOOKUP(A187,Data!A$8:J$30,6,FALSE),\"\")","v":""},{"$f":"IFERROR(VLOOKUP(A187,Data!A$8:J$30,7,FALSE),\"\")","v":""},null,null,{"$f":"IFERROR(VLOOKUP(A187,Data!A$8:J$30,8,FALSE),0)","v":0}]
[182,{"$f":"IFERROR(VLOOKUP(A188,Data!A$8:J$30,2,FALSE),\"\")","v":""},{"$f":"IFERROR(VLOOKUP(A188,Data!A$8:J$30,10,FALSE),\"\")","v":""},{"$f":"IFERROR(VLOOKUP(A188,Data!A$8:J$30,3,FALSE),\"\")","v":""},"",{"$f":"IFERROR(VLOOKUP(A188,Data!A$8:J$30,4,FALSE),\"\")","v":""},{"$f":"IFERROR(VLOOKUP(A188,Data!A$8:J$30,5,FALSE),\"\")","v":""},{"$f":"IFERROR(VLOOKUP(A188,Data!A$8:J$30,6,FALSE),\"\")","v":""},{"$f":"IFERROR(VLOOKUP(A188,Data!A$8:J$30,7,FALSE),\"\")","v":""},null,null,{"$f":"IFERROR(VLOOKUP(A188,Data!A$8:J$30,8,FALSE),0)","v":0}]
[183,{"$f":"IFERROR(VLOOKUP(A189,Data!A$8:J$30,2,FALSE),\"\")","v":""},{"$f":"IFERROR(VLOOKUP(A189,Data!A$8:J$30,10,FALSE),\"\")","v":""},{"$f":"IFERROR(VLOOKUP(A189,Data!A$8:J$30,3,FALSE),\"\")","v":""},"",{"$f":"IFERROR(VLOOKUP(A189,Data!A$8:J$30,4,FALSE),\"\")","v":""},{"$f":"IFERROR(VLOOKUP(A189,Data!A$8:J$30,5,FALSE),\"\")","v":""},{"$f":"IFERROR(VLOOKUP(A189,Data!A$8:J$30,6,FALSE),\"\")","v":""},{"$f":"IFERROR(VLOOKUP(A189,Data!A$8:J$30,7,FALSE),\"\")","v":""},null,null,{"$f":"IFERROR(VLOOKUP(A189,Data!A$8:J$30,8,FALSE),0)","v":0}]
[184,{"$f":"IFERROR(VLOOKUP(A190,Data!A$8:J$30,2,FALSE),\"\")","v":""},{"$f":"IFERROR(VLOOKUP(A190,Data!A$8:J$30,10,FALSE),\"\")","v":""},{"$f":"IFERROR(VLOOKUP(A190,Data!A$8:J$30,3,FALSE),\"\")","v":""},"",{"$f":"IFERROR(VLOOKUP(A190,Data!A$8:J$30,4,FALSE),\"\")","v":""},{"$f":"IFERROR(VLOOKUP(A190,Data!A$8:J$30,5,FALSE),\"\")","v":""},{"$f":"IFERROR(VLOOKUP(A190,Data!A$8:J$30,6,FALSE),\"\")","v":""},{"$f":"IFERROR(VLOOKUP(A190,Data!A$8:J$30,7,FALSE),\"\")","v":""},null,null,{"$f":"IFERROR(VLOOKUP(A190,Data!A$8:J$30,8,FALSE),0)","v":0}]
[185,{"$f":"IFERROR(VLOOKUP(A191,Data!A$8:J$30,2,FALSE),\"\")","v":""},{"$f":"IFERROR(VLOOKUP(A191,Data!A$8:J$30,10,FALSE),\"\")","v":""},{"$f":"IFERROR(VLOOKUP(A191,Data!A$8:J$30,3,FALSE),\"\")","v":""},"",{"$f":"IFERROR(VLOOKUP(A191,Data!A$8:J$30,4,FALSE),\"\")","v":""},{"$f":"IFERROR(VLOOKUP(A191,Data!A$8:J$30,5,FALSE),\"\")","v":""},{"$f":"IFERROR(VLOOKUP(A191,Data!A$8:J$30,6,FALSE),\"\")","v":""},{"$f":"IFERROR(VLOOKUP(A191,Data!A$8:J$30,7,FALSE),\"\")","v":""},null,null,{"$f":"IFERROR(VLOOKUP(A191,Data!A$8:J$30,8,FALSE),0)","v":0}]
[186,{"$f":"IFERROR(VLOOKUP(A192,Data!A$8:J$30,2,FALSE),\"\")","v":""},{"$f":"IFERROR(VLOOKUP(A192,Data!A$8:J$30,10,FALSE),\"\")","v":""},{"$f":"IFERROR(VLOOKUP(A192,Data!A$8:J$30,3,FALSE),\"\")","v":""},"",{"$f":"IFERROR(VLOOKUP(A192,Data!A$8:J$30,4,FALSE),\"\")","v":""},{"$f":"IFERROR(VLOOKUP(A192,Data!A$8:J$30,5,FALSE),\"\")","v":""},{"$f":"IFERROR(VLOOKUP(A192,Data!A$8:J$30,6,FALSE),\"\")","v":""},{"$f":"IFERROR(VLOOKUP(A192,Data!A$8:J$30,7,FALSE),\"\")","v":""},null,null,{"$f":"IFERROR(VLOOKUP(A192,Data!A$8:J$30,8,FALSE),0)","v":0}]
[187,{"$f":"IFERROR(VLOOKUP(A193,Data!A$8:J$30,2,FALSE),\"\")","v":""},{"$f":"IFERROR(VLOOKUP(A193,Data!A$8:J$30,10,FALSE),\"\")","v":""},{"$f":"IFERROR(VLOOKUP(A193,Data!A$8:J$30,3,FALSE),\"\")","v":""},"",{"$f":"IFERROR(VLOOKUP(A193,Data!A$8:J$30,4,FALSE),\"\")","v":""},{"$f":"IFERROR(VLOOKUP(A193,Data!A$8:J$30,5,FALSE),\"\")","v":""},{"$f":"IFERROR(VLOOKUP(A193,Data!A$8:J$30,6,FALSE),\"\")","v":""},{"$f":"IFERROR(VLOOKUP(A193,Data!A$8:J$30,7,FALSE),\"\")","v":""},null,null,{"$f":"IFERROR(VLOOKUP(A193,Data!A$8:J$30,8,FALSE),0)","v":0}]
[188,{"$f":"IFERROR(VLOOKUP(A194,Data!A$8:J$30,2,FALSE),\"\")","v":""},{"$f":"IFERROR(VLOOKUP(A194,Data!A$8:J$30,10,FALSE),\"\")","v":""},{"$f":"IFERROR(VLOOKUP(A194,Data!A$8:J$30,3,FALSE),\"\")","v":""},"",{"$f":"IFERROR(VLOOKUP(A194,Data!A$8:J$30,4,FALSE),\"\")","v":""},{"$f":"IFERROR(VLOOKUP(A194,Data!A$8:J$30,5,FALSE),\"\")","v":""},{"$f":"IFERROR(VLOOKUP(A194,Data!A$8:J$30,6,FALSE),\"\")","v":""},{"$f":"IFERROR(VLOOKUP(A194,Data!A$8:J$30,7,FALSE),\"\")","v":""},null,null,{"$f":"IFERROR(VLOOKUP(A194,Data!A$8:J$30,8,FALSE),0)","v":0}]
[189,{"$f":"IFERROR(VLOOKUP(A195,Data!A$8:J$30,2,FALSE),\"\")","v":""},{"$f":"IFERROR(VLOOKUP(A195,Data!A$8:J$30,10,FALSE),\"\")","v":""},{"$f":"IFERROR(VLOOKUP(A195,Data!A$8:J$30,3,FALSE),\"\")","v":""},"",{"$f":"IFERROR(VLOOKUP(A195,Data!A$8:J$30,4,FALSE),\"\")","v":""},{"$f":"IFERROR(VLOOKUP(A195,Data!A$8:J$30,5,FALSE),\"\")","v":""},{"$f":"IFERROR(VLOOKUP(A195,Data!A$8:J$30,6,FALSE),\"\")","v":""},{"$f":"IFERROR(VLOOKUP(A195,Data!A$8:J$30,7,FALSE),\"\")","v":""},null,null,{"$f":"IFERROR(VLOOKUP(A195,Data!A$8:J$30,8,FALSE),0)","v":0}]
[190,{"$f":"IFERROR(VLOOKUP(A196,Data!A$8:J$30,2,FALSE),\"\")","v":""},{"$f":"IFERROR(VLOOKUP(A196,Data!A$8:J$30,10,FALSE),\"\")","v":""},{"$f":"IFERROR(VLOOKUP(A196,Data!A$8:J$30,3,FALSE),\"\")","v":""},"",{"$f":"IFERROR(VLOOKUP(A196,Data!A$8:J$30,4,FALSE),\"\")","v":""},{"$f":"IFERROR(VLOOKUP(A196,Data!A$8:J$30,5,FALSE),\"\")","v":""},{"$f":"IFERROR(VLOOKUP(A196,Data!A$8:J$30,6,FALSE),\"\")","v":""},{"$f":"IFERROR(VLOOKUP(A196,Data!A$8:J$30,7,FALSE),\"\")","v":""},null,null,{"$f":"IFERROR(VLOOKUP(A196,Data!A$8:J$30,8,FALSE),0)","v":0}]
[191,{"$f":"IFERROR(VLOOKUP(A197,Data!A$8:J$30,2,FALSE),\"\")","v":""},{"$f":"IFERROR(VLOOKUP(A197,Data!A$8:J$30,10,FALSE),\"\")","v":""},{"$f":"IFERROR(VLOOKUP(A197,Data!A$8:J$30,3,FALSE),\"\")","v":""},"",{"$f":"IFERROR(VLOOKUP(A197,Data!A$8:J$30,4,FALSE),\"\")","v":""},{"$f":"IFERROR(VLOOKUP(A197,Data!A$8:J$30,5,FALSE),\"\")","v":""},{"$f":"IFERROR(VLOOKUP(A197,Data!A$8:J$30,6,FALSE),\"\")","v":""},{"$f":"IFERROR(VLOOKUP(A197,Data!A$8:J$30,7,FALSE),\"\")","v":""},null,null,{"$f":"IFERROR(VLOOKUP(A197,Data!A$8:J$30,8,FALSE),0)","v":0}]
[192,{"$f":"IFERROR(VLOOKUP(A198,Data!A$8:J$30,2,FALSE),\"\")","v":""},{"$f":"IFERROR(VLOOKUP(A198,Data!A$8:J$30,10,FALSE),\"\")","v":""},{"$f":"IFERROR(VLOOKUP(A198,Data!A$8:J$30,3,FALSE),\"\")","v":""},"",{"$f":"IFERROR(VLOOKUP(A198,Data!A$8:J$30,4,FALSE),\"\")","v":""},{"$f":"IFERROR(VLOOKUP(A198,Data!A$8:J$30,5,FALSE),\"\")","v":""},{"$f":"IFERROR(VLOOKUP(A198,Data!A$8:J$30,6,FALSE),\"\")","v":""},{"$f":"IFERROR(VLOOKUP(A198,Data!A$8:J$30,7,FALSE),\"\")","v":""},null,null,{"$f":"IFERROR(VLOOKUP(A198,Data!A$8:J$30,8,FALSE),0)","v":0}]
[193,{"$f":"IFERROR(VLOOKUP(A199,Data!A$8:J$30,2,FALSE),\"\")","v":""},{"$f":"IFERROR(VLOOKUP(A199,Data!A$8:J$30,10,FALSE),\"\")","v":""},{"$f":"IFERROR(VLOOKUP(A199,Data!A$8:J$30,3,FALSE),\"\")","v":""},"",{"$f":"IFERROR(VLOOKUP(A199,Data!A$8:J$30,4,FALSE),\"\")","v":""},{"$f":"IFERROR(VLOOKUP(A199,Data!A$8:J$30,5,FALSE),\"\")","v":""},{"$f":"IFERROR(VLOOKUP(A199,Data!A$8:J$30,6,FALSE),\"\")","v":""},{"$f":"IFERROR(VLOOKUP(A199,Data!A$8:J$30,7,FALSE),\"\")","v":""},null,null,{"$f":"IFERROR(VLOOKUP(A199,Data!A$8:J$30,8,FALSE),0)","v":0}]
[194,{"$f":"IFERROR(VLOOKUP(A200,Data!A$8:J$30,2,FALSE),\"\")","v":""},{"$f":"IFERROR(VLOOKUP(A200,Data!A$8:J$30,10,FALSE),\"\")","v":""},{"$f":"IFERROR(VLOOKUP(A200,Data!A$8:J$30,3,FALSE),\"\")","v":""},{"$f":"IF(L200>0,IF(L200=3,L$6,L$5),\"\")","v":""},{"$f":"IFERROR(VLOOKUP(A200,Data!A$8:J$30,4,FALSE),\"\")","v":""},{"$f":"IFERROR(VLOOKUP(A200,Data!A$8:J$30,5,FALSE),\"\")","v":""},{"$f":"IFERROR(VLOOKUP(A200,Data!A$8:J$30,6,FALSE),\"\")","v":""},{"$f":"IFERROR(VLOOKUP(A200,Data!A$8:J$30,7,FALSE),\"\")","v":""},null,null,{"$f":"IFERROR(VLOOKUP(A200,Data!A$8:J$30,8,FALSE),0)","v":0}]
[195,{"$f":"IFERROR(VLOOKUP(A201,Data!A$8:J$30,2,FALSE),\"\")","v":""},{"$f":"IFERROR(VLOOKUP(A201,Data!A$8:J$30,10,FALSE),\"\")","v":""},{"$f":"IFERROR(VLOOKUP(A201,Data!A$8:J$30,3,FALSE),\"\")","v":""},"",{"$f":"IFERROR(VLOOKUP(A201,Data!A$8:J$30,4,FALSE),\"\")","v":""},{"$f":"IFERROR(VLOOKUP(A201,Data!A$8:J$30,5,FALSE),\"\")","v":""},{"$f":"IFERROR(VLOOKUP(A201,Data!A$8:J$30,6,FALSE),\"\")","v":""},{"$f":"IFERROR(VLOOKUP(A201,Data!A$8:J$30,7,FALSE),\"\")","v":""},null,null,{"$f":"IFERROR(VLOOKUP(A201,Data!A$8:J$30,8,FALSE),0)","v":0}]
[196,{"$f":"IFERROR(VLOOKUP(A202,Data!A$8:J$30,2,FALSE),\"\")","v":""},{"$f":"IFERROR(VLOOKUP(A202,Data!A$8:J$30,10,FALSE),\"\")","v":""},{"$f":"IFERROR(VLOOKUP(A202,Data!A$8:J$30,3,FALSE),\"\")","v":""},"",{"$f":"IFERROR(VLOOKUP(A202,Data!A$8:J$30,4,FALSE),\"\")","v":""},{"$f":"IFERROR(VLOOKUP(A202,Data!A$8:J$30,5,FALSE),\"\")","v":""},{"$f":"IFERROR(VLOOKUP(A202,Data!A$8:J$30,6,FALSE),\"\")","v":""},{"$f":"IFERROR(VLOOKUP(A202,Data!A$8:J$30,7,FALSE),\"\")","v":""},null,null,{"$f":"IFERROR(VLOOKUP(A202,Data!A$8:J$30,8,FALSE),0)","v":0}]
[197,{"$f":"IFERROR(VLOOKUP(A203,Data!A$8:J$30,2,FALSE),\"\")","v":""},{"$f":"IFERROR(VLOOKUP(A203,Data!A$8:J$30,10,FALSE),\"\")","v":""},{"$f":"IFERROR(VLOOKUP(A203,Data!A$8:J$30,3,FALSE),\"\")","v":""},"",{"$f":"IFERROR(VLOOKUP(A203,Data!A$8:J$30,4,FALSE),\"\")","v":""},{"$f":"IFERROR(VLOOKUP(A203,Data!A$8:J$30,5,FALSE),\"\")","v":""},{"$f":"IFERROR(VLOOKUP(A203,Data!A$8:J$30,6,FALSE),\"\")","v":""},{"$f":"IFERROR(VLOOKUP(A203,Data!A$8:J$30,7,FALSE),\"\")","v":""},null,null,{"$f":"IFERROR(VLOOKUP(A203,Data!A$8:J$30,8,FALSE),0)","v":0}]
[198,{"$f":"IFERROR(VLOOKUP(A204,Data!A$8:J$30,2,FALSE),\"\")","v":""},{"$f":"IFERROR(VLOOKUP(A204,Data!A$8:J$30,10,FALSE),\"\")","v":""},{"$f":"IFERROR(VLOOKUP(A204,Data!A$8:J$30,3,FALSE),\"\")","v":""},"",{"$f":"IFERROR(VLOOKUP(A204,Data!A$8:J$30,4,FALSE),\"\")","v":""},{"$f":"IFERROR(VLOOKUP(A204,Data!A$8:J$30,5,FALSE),\"\")","v":""},{"$f":"IFERROR(VLOOKUP(A204,Data!A$8:J$30,6,FALSE),\"\")","v":""},{"$f":"IFERROR(VLOOKUP(A204,Data!A$8:J$30,7,FALSE),\"\")","v":""},null,null,{"$f":"IFERROR(VLOOKUP(A204,Data!A$8:J$30,8,FALSE),0)","v":0}]
[199,{"$f":"IFERROR(VLOOKUP(A205,Data!A$8:J$30,2,FALSE),\"\")","v":""},{"$f":"IFERROR(VLOOKUP(A205,Data!A$8:J$30,10,FALSE),\"\")","v":""},{"$f":"IFERROR(VLOOKUP(A205,Data!A$8:J$30,3,FALSE),\"\")","v":""},"",{"$f":"IFERROR(VLOOKUP(A205,Data!A$8:J$30,4,FALSE),\"\")","v":""},{"$f":"IFERROR(VLOOKUP(A205,Data!A$8:J$30,5,FALSE),\"\")","v":""},{"$f":"IFERROR(VLOOKUP(A205,Data!A$8:J$30,6,FALSE),\"\")","v":""},{"$f":"IFERROR(VLOOKUP(A205,Data!A$8:J$30,7,FALSE),\"\")","v":""},null,null,{"$f":"IFERROR(VLOOKUP(A205,Data!A$8:J$30,8,FALSE),0)","v":0}]
[200,{"$f":"IFERROR(VLOOKUP(A206,Data!A$8:J$30,2,FALSE),\"\")","v":""},{"$f":"IFERROR(VLOOKUP(A206,Data!A$8:J$30,10,FALSE),\"\")","v":""},{"$f":"IFERROR(VLOOKUP(A206,Data!A$8:J$30,3,FALSE),\"\")","v":""},"",{"$f":"IFERROR(VLOOKUP(A206,Data!A$8:J$30,4,FALSE),\"\")","v":""},{"$f":"IFERROR(VLOOKUP(A206,Data!A$8:J$30,5,FALSE),\"\")","v":""},{"$f":"IFERROR(VLOOKUP(A206,Data!A$8:J$30,6,FALSE),\"\")","v":""},{"$f":"IFERROR(VLOOKUP(A206,Data!A$8:J$30,7,FALSE),\"\")","v":""},null,null,{"$f":"IFERROR(VLOOKUP(A206,Data!A$8:J$30,8,FALSE),0)","v":0}]
[201,{"$f":"IFERROR(VLOOKUP(A207,Data!A$8:J$30,2,FALSE),\"\")","v":""},{"$f":"IFERROR(VLOOKUP(A207,Data!A$8:J$30,10,FALSE),\"\")","v":""},{"$f":"IFERROR(VLOOKUP(A207,Data!A$8:J$30,3,FALSE),\"\")","v":""},"",{"$f":"IFERROR(VLOOKUP(A207,Data!A$8:J$30,4,FALSE),\"\")","v":""},{"$f":"IFERROR(VLOOKUP(A207,Data!A$8:J$30,5,FALSE),\"\")","v":""},{"$f":"IFERROR(VLOOKUP(A207,Data!A$8:J$30,6,FALSE),\"\")","v":""},{"$f":"IFERROR(VLOOKUP(A207,Data!A$8:J$30,7,FALSE),\"\")","v":""},null,null,{"$f":"IFERROR(VLOOKUP(A207,Data!A$8:J$30,8,FALSE),0)","v":0}]
[202,{"$f":"IFERROR(VLOOKUP(A208,Data!A$8:J$30,2,FALSE),\"\")","v":""},{"$f":"IFERROR(VLOOKUP(A208,Data!A$8:J$30,10,FALSE),\"\")","v":""},{"$f":"IFERROR(VLOOKUP(A208,Data!A$8:J$30,3,FALSE),\"\")","v":""},"",{"$f":"IFERROR(VLOOKUP(A208,Data!A$8:J$30,4,FALSE),\"\")","v":""},{"$f":"IFERROR(VLOOKUP(A208,Data!A$8:J$30,5,FALSE),\"\")","v":""},{"$f":"IFERROR(VLOOKUP(A208,Data!A$8:J$30,6,FALSE),\"\")","v":""},{"$f":"IFERROR(VLOOKUP(A208,Data!A$8:J$30,7,FALSE),\"\")","v":""},null,null,{"$f":"IFERROR(VLOOKUP(A208,Data!A$8:J$30,8,FALSE),0)","v":0}]
[203,{"$f":"IFERROR(VLOOKUP(A209,Data!A$8:J$30,2,FALSE),\"\")","v":""},{"$f":"IFERROR(VLOOKUP(A209,Data!A$8:J$30,10,FALSE),\"\")","v":""},{"$f":"IFERROR(VLOOKUP(A209,Data!A$8:J$30,3,FALSE),\"\")","v":""},"",{"$f":"IFERROR(VLOOKUP(A209,Data!A$8:J$30,4,FALSE),\"\")","v":""},{"$f":"IFERROR(VLOOKUP(A209,Data!A$8:J$30,5,FALSE),\"\")","v":""},{"$f":"IFERROR(VLOOKUP(A209,Data!A$8:J$30,6,FALSE),\"\")","v":""},{"$f":"IFERROR(VLOOKUP(A209,Data!A$8:J$30,7,FALSE),\"\")","v":""},null,null,{"$f":"IFERROR(VLOOKUP(A209,Data!A$8:J$30,8,FALSE),0)","v":0}]
[204,{"$f":"IFERROR(VLOOKUP(A210,Data!A$8:J$30,2,FALSE),\"\")","v":""},{"$f":"IFERROR(VLOOKUP(A210,Data!A$8:J$30,10,FALSE),\"\")","v":""},{"$f":"IFERROR(VLOOKUP(A210,Data!A$8:J$30,3,FALSE),\"\")","v":""},"",{"$f":"IFERROR(VLOOKUP(A210,Data!A$8:J$30,4,FALSE),\"\")","v":""},{"$f":"IFERROR(VLOOKUP(A210,Data!A$8:J$30,5,FALSE),\"\")","v":""},{"$f":"IFERROR(VLOOKUP(A210,Data!A$8:J$30,6,FALSE),\"\")","v":""},{"$f":"IFERROR(VLOOKUP(A210,Data!A$8:J$30,7,FALSE),\"\")","v":""},null,null,{"$f":"IFERROR(VLOOKUP(A210,Data!A$8:J$30,8,FALSE),0)","v":0}]
[205,{"$f":"IFERROR(VLOOKUP(A211,Data!A$8:J$30,2,FALSE),\"\")","v":""},{"$f":"IFERROR(VLOOKUP(A211,Data!A$8:J$30,10,FALSE),\"\")","v":""},{"$f":"IFERROR(VLOOKUP(A211,Data!A$8:J$30,3,FALSE),\"\")","v":""},"",{"$f":"IFERROR(VLOOKUP(A211,Data!A$8:J$30,4,FALSE),\"\")","v":""},{"$f":"IFERROR(VLOOKUP(A211,Data!A$8:J$30,5,FALSE),\"\")","v":""},{"$f":"IFERROR(VLOOKUP(A211,Data!A$8:J$30,6,FALSE),\"\")","v":""},{"$f":"IFERROR(VLOOKUP(A211,Data!A$8:J$30,7,FALSE),\"\")","v":""},null,null,{"$f":"IFERROR(VLOOKUP(A211,Data!A$8:J$30,8,FALSE),0)","v":0}]
[206,{"$f":"IFERROR(VLOOKUP(A212,Data!A$8:J$30,2,FALSE),\"\")","v":""},{"$f":"IFERROR(VLOOKUP(A212,Data!A$8:J$30,10,FALSE),\"\")","v":""},{"$f":"IFERROR(VLOOKUP(A212,Data!A$8:J$30,3,FALSE),\"\")","v":""},"",{"$f":"IFERROR(VLOOKUP(A212,Data!A$8:J$30,4,FALSE),\"\")","v":""},{"$f":"IFERROR(VLOOKUP(A212,Data!A$8:J$30,5,FALSE),\"\")","v":""},{"$f":"IFERROR(VLOOKUP(A212,Data!A$8:J$30,6,FALSE),\"\")","v":""},{"$f":"IFERROR(VLOOKUP(A212,Data!A$8:J$30,7,FALSE),\"\")","v":""},null,null,{"$f":"IFERROR(VLOOKUP(A212,Data!A$8:J$30,8,FALSE),0)","v":0}]
[207,{"$f":"IFERROR(VLOOKUP(A213,Data!A$8:J$30,2,FALSE),\"\")","v":""},{"$f":"IFERROR(VLOOKUP(A213,Data!A$8:J$30,10,FALSE),\"\")","v":""},{"$f":"IFERROR(VLOOKUP(A213,Data!A$8:J$30,3,FALSE),\"\")","v":""},"",{"$f":"IFERROR(VLOOKUP(A213,Data!A$8:J$30,4,FALSE),\"\")","v":""},{"$f":"IFERROR(VLOOKUP(A213,Data!A$8:J$30,5,FALSE),\"\")","v":""},{"$f":"IFERROR(VLOOKUP(A213,Data!A$8:J$30,6,FALSE),\"\")","v":""},{"$f":"IFERROR(VLOOKUP(A213,Data!A$8:J$30,7,FALSE),\"\")","v":""},null,null,{"$f":"IFERROR(VLOOKUP(A213,Data!A$8:J$30,8,FALSE),0)","v":0}]
[208,{"$f":"IFERROR(VLOOKUP(A214,Data!A$8:J$30,2,FALSE),\"\")","v":""},{"$f":"IFERROR(VLOOKUP(A214,Data!A$8:J$30,10,FALSE),\"\")","v":""},{"$f":"IFERROR(VLOOKUP(A214,Data!A$8:J$30,3,FALSE),\"\")","v":""},"",{"$f":"IFERROR(VLOOKUP(A214,Data!A$8:J$30,4,FALSE),\"\")","v":""},{"$f":"IFERROR(VLOOKUP(A214,Data!A$8:J$30,5,FALSE),\"\")","v":""},{"$f":"IFERROR(VLOOKUP(A214,Data!A$8:J$30,6,FALSE),\"\")","v":""},{"$f":"IFERROR(VLOOKUP(A214,Data!A$8:J$30,7,FALSE),\"\")","v":""},null,null,{"$f":"IFERROR(VLOOKUP(A214,Data!A$8:J$30,8,FALSE),0)","v":0}]
[209,{"$f":"IFERROR(VLOOKUP(A215,Data!A$8:J$30,2,FALSE),\"\")","v":""},{"$f":"IFERROR(VLOOKUP(A215,Data!A$8:J$30,10,FALSE),\"\")","v":""},{"$f":"IFERROR(VLOOKUP(A215,Data!A$8:J$30,3,FALSE),\"\")","v":""},"",{"$f":"IFERROR(VLOOKUP(A215,Data!A$8:J$30,4,FALSE),\"\")","v":""},{"$f":"IFERROR(VLOOKUP(A215,Data!A$8:J$30,5,FALSE),\"\")","v":""},{"$f":"IFERROR(VLOOKUP(A215,Data!A$8:J$30,6,FALSE),\"\")","v":""},{"$f":"IFERROR(VLOOKUP(A215,Data!A$8:J$30,7,FALSE),\"\")","v":""},null,null,{"$f":"IFERROR(VLOOKUP(A215,Data!A$8:J$30,8,FALSE),0)","v":0}]
[210,{"$f":"IFERROR(VLOOKUP(A216,Data!A$8:J$30,2,FALSE),\"\")","v":""},{"$f":"IFERROR(VLOOKUP(A216,Data!A$8:J$30,10,FALSE),\"\")","v":""},{"$f":"IFERROR(VLOOKUP(A216,Data!A$8:J$30,3,FALSE),\"\")","v":""},"",{"$f":"IFERROR(VLOOKUP(A216,Data!A$8:J$30,4,FALSE),\"\")","v":""},{"$f":"IFERROR(VLOOKUP(A216,Data!A$8:J$30,5,FALSE),\"\")","v":""},{"$f":"IFERROR(VLOOKUP(A216,Data!A$8:J$30,6,FALSE),\"\")","v":""},{"$f":"IFERROR(VLOOKUP(A216,Data!A$8:J$30,7,FALSE),\"\")","v":""},null,null,{"$f":"IFERROR(VLOOKUP(A216,Data!A$8:J$30,8,FALSE),0)","v":0}]
[211,{"$f":"IFERROR(VLOOKUP(A217,Data!A$8:J$30,2,FALSE),\"\")","v":""},{"$f":"IFERROR(VLOOKUP(A217,Data!A$8:J$30,10,FALSE),\"\")","v":""},{"$f":"IFERROR(VLOOKUP(A217,Data!A$8:J$30,3,FALSE),\"\")","v":""},"",{"$f":"IFERROR(VLOOKUP(A217,Data!A$8:J$30,4,FALSE),\"\")","v":""},{"$f":"IFERROR(VLOOKUP(A217,Data!A$8:J$30,5,FALSE),\"\")","v":""},{"$f":"IFERROR(VLOOKUP(A217,Data!A$8:J$30,6,FALSE),\"\")","v":""},{"$f":"IFERROR(VLOOKUP(A217,Data!A$8:J$30,7,FALSE),\"\")","v":""},null,null,{"$f":"IFERROR(VLOOKUP(A217,Data!A$8:J$30,8,FALSE),0)","v":0}]
[212,{"$f":"IFERROR(VLOOKUP(A218,Data!A$8:J$30,2,FALSE),\"\")","v":""},{"$f":"IFERROR(VLOOKUP(A218,Data!A$8:J$30,10,FALSE),\"\")","v":""},{"$f":"IFERROR(VLOOKUP(A218,Data!A$8:J$30,3,FALSE),\"\")","v":""},"",{"$f":"IFERROR(VLOOKUP(A218,Data!A$8:J$30,4,FALSE),\"\")","v":""},{"$f":"IFERROR(VLOOKUP(A218,Data!A$8:J$30,5,FALSE),\"\")","v":""},{"$f":"IFERROR(VLOOKUP(A218,Data!A$8:J$30,6,FALSE),\"\")","v":""},{"$f":"IFERROR(VLOOKUP(A218,Data!A$8:J$30,7,FALSE),\"\")","v":""},null,null,{"$f":"IFERROR(VLOOKUP(A218,Data!A$8:J$30,8,FALSE),0)","v":0}]
[213,{"$f":"IFERROR(VLOOKUP(A219,Data!A$8:J$30,2,FALSE),\"\")","v":""},{"$f":"IFERROR(VLOOKUP(A219,Data!A$8:J$30,10,FALSE),\"\")","v":""},{"$f":"IFERROR(VLOOKUP(A219,Data!A$8:J$30,3,FALSE),\"\")","v":""},"",{"$f":"IFERROR(VLOOKUP(A219,Data!A$8:J$30,4,FALSE),\"\")","v":""},{"$f":"IFERROR(VLOOKUP(A219,Data!A$8:J$30,5,FALSE),\"\")","v":""},{"$f":"IFERROR(VLOOKUP(A219,Data!A$8:J$30,6,FALSE),\"\")","v":""},{"$f":"IFERROR(VLOOKUP(A219,Data!A$8:J$30,7,FALSE),\"\")","v":""},null,null,{"$f":"IFERROR(VLOOKUP(A219,Data!A$8:J$30,8,FALSE),0)","v":0}]
[214,{"$f":"IFERROR(VLOOKUP(A220,Data!A$8:J$30,2,FALSE),\"\")","v":""},{"$f":"IFERROR(VLOOKUP(A220,Data!A$8:J$30,10,FALSE),\"\")","v":""},{"$f":"IFERROR(VLOOKUP(A220,Data!A$8:J$30,3,FALSE),\"\")","v":""},"",{"$f":"IFERROR(VLOOKUP(A220,Data!A$8:J$30,4,FALSE),\"\")","v":""},{"$f":"IFERROR(VLOOKUP(A220,Data!A$8:J$30,5,FALSE),\"\")","v":""},{"$f":"IFERROR(VLOOKUP(A220,Data!A$8:J$30,6,FALSE),\"\")","v":""},{"$f":"IFERROR(VLOOKUP(A220,Data!A$8:J$30,7,FALSE),\"\")","v":""},null,null,{"$f":"IFERROR(VLOOKUP(A220,Data!A$8:J$30,8,FALSE),0)","v":0}]
[215,{"$f":"IFERROR(VLOOKUP(A221,Data!A$8:J$30,2,FALSE),\"\")","v":""},{"$f":"IFERROR(VLOOKUP(A221,Data!A$8:J$30,10,FALSE),\"\")","v":""},{"$f":"IFERROR(VLOOKUP(A221,Data!A$8:J$30,3,FALSE),\"\")","v":""},"",{"$f":"IFERROR(VLOOKUP(A221,Data!A$8:J$30,4,FALSE),\"\")","v":""},{"$f":"IFERROR(VLOOKUP(A221,Data!A$8:J$30,5,FALSE),\"\")","v":""},{"$f":"IFERROR(VLOOKUP(A221,Data!A$8:J$30,6,FALSE),\"\")","v":""},{"$f":"IFERROR(VLOOKUP(A221,Data!A$8:J$30,7,FALSE),\"\")","v":""},null,null,{"$f":"IFERROR(VLOOKUP(A221,Data!A$8:J$30,8,FALSE),0)","v":0}]
[216,{"$f":"IFERROR(VLOOKUP(A222,Data!A$8:J$30,2,FALSE),\"\")","v":""},{"$f":"IFERROR(VLOOKUP(A222,Data!A$8:J$30,10,FALSE),\"\")","v":""},{"$f":"IFERROR(VLOOKUP(A222,Data!A$8:J$30,3,FALSE),\"\")","v":""},"",{"$f":"IFERROR(VLOOKUP(A222,Data!A$8:J$30,4,FALSE),\"\")","v":""},{"$f":"IFERROR(VLOOKUP(A222,Data!A$8:J$30,5,FALSE),\"\")","v":""},{"$f":"IFERROR(VLOOKUP(A222,Data!A$8:J$30,6,FALSE),\"\")","v":""},{"$f":"IFERROR(VLOOKUP(A222,Data!A$8:J$30,7,FALSE),\"\")","v":""},null,null,{"$f":"IFERROR(VLOOKUP(A222,Data!A$8:J$30,8,FALSE),0)","v":0}]
[217,{"$f":"IFERROR(VLOOKUP(A223,Data!A$8:J$30,2,FALSE),\"\")","v":""},{"$f":"IFERROR(VLOOKUP(A223,Data!A$8:J$30,10,FALSE),\"\")","v":""},{"$f":"IFERROR(VLOOKUP(A223,Data!A$8:J$30,3,FALSE),\"\")","v":""},"",{"$f":"IFERROR(VLOOKUP(A223,Data!A$8:J$30,4,FALSE),\"\")","v":""},{"$f":"IFERROR(VLOOKUP(A223,Data!A$8:J$30,5,FALSE),\"\")","v":""},{"$f":"IFERROR(VLOOKUP(A223,Data!A$8:J$30,6,FALSE),\"\")","v":""},{"$f":"IFERROR(VLOOKUP(A223,Data!A$8:J$30,7,FALSE),\"\")","v":""},null,null,{"$f":"IFERROR(VLOOKUP(A223,Data!A$8:J$30,8,FALSE),0)","v":0}]
[218,{"$f":"IFERROR(VLOOKUP(A224,Data!A$8:J$30,2,FALSE),\"\")","v":""},{"$f":"IFERROR(VLOOKUP(A224,Data!A$8:J$30,10,FALSE),\"\")","v":""},{"$f":"IFERROR(VLOOKUP(A224,Data!A$8:J$30,3,FALSE),\"\")","v":""},"",{"$f":"IFERROR(VLOOKUP(A224,Data!A$8:J$30,4,FALSE),\"\")","v":""},{"$f":"IFERROR(VLOOKUP(A224,Data!A$8:J$30,5,FALSE),\"\")","v":""},{"$f":"IFERROR(VLOOKUP(A224,Data!A$8:J$30,6,FALSE),\"\")","v":""},{"$f":"IFERROR(VLOOKUP(A224,Data!A$8:J$30,7,FALSE),\"\")","v":""},null,null,{"$f":"IFERROR(VLOOKUP(A224,Data!A$8:J$30,8,FALSE),0)","v":0}]
[219,{"$f":"IFERROR(VLOOKUP(A225,Data!A$8:J$30,2,FALSE),\"\")","v":""},{"$f":"IFERROR(VLOOKUP(A225,Data!A$8:J$30,10,FALSE),\"\")","v":""},{"$f":"IFERROR(VLOOKUP(A225,Data!A$8:J$30,3,FALSE),\"\")","v":""},"",{"$f":"IFERROR(VLOOKUP(A225,Data!A$8:J$30,4,FALSE),\"\")","v":""},{"$f":"IFERROR(VLOOKUP(A225,Data!A$8:J$30,5,FALSE),\"\")","v":""},{"$f":"IFERROR(VLOOKUP(A225,Data!A$8:J$30,6,FALSE),\"\")","v":""},{"$f":"IFERROR(VLOOKUP(A225,Data!A$8:J$30,7,FALSE),\"\")","v":""},null,null,{"$f":"IFERROR(VLOOKUP(A225,Data!A$8:J$30,8,FALSE),0)","v":0}]
[220,{"$f":"IFERROR(VLOOKUP(A226,Data!A$8:J$30,2,FALSE),\"\")","v":""},{"$f":"IFERROR(VLOOKUP(A226,Data!A$8:J$30,10,FALSE),\"\")","v":""},{"$f":"IFERROR(VLOOKUP(A226,Data!A$8:J$30,3,FALSE),\"\")","v":""},"",{"$f":"IFERROR(VLOOKUP(A226,Data!A$8:J$30,4,FALSE),\"\")","v":""},{"$f":"IFERROR(VLOOKUP(A226,Data!A$8:J$30,5,FALSE),\"\")","v":""},{"$f":"IFERROR(VLOOKUP(A226,Data!A$8:J$30,6,FALSE),\"\")","v":""},{"$f":"IFERROR(VLOOKUP(A226,Data!A$8:J$30,7,FALSE),\"\")","v":""},null,null,{"$f":"IFERROR(VLOOKUP(A226,Data!A$8:J$30,8,FALSE),0)","v":0}]
[221,{"$f":"IFERROR(VLOOKUP(A227,Data!A$8:J$30,2,FALSE),\"\")","v":""},{"$f":"IFERROR(VLOOKUP(A227,Data!A$8:J$30,10,FALSE),\"\")","v":""},{"$f":"IFERROR(VLOOKUP(A227,Data!A$8:J$30,3,FALSE),\"\")","v":""},"",{"$f":"IFERROR(VLOOKUP(A227,Data!A$8:J$30,4,FALSE),\"\")","v":""},{"$f":"IFERROR(VLOOKUP(A227,Data!A$8:J$30,5,FALSE),\"\")","v":""},{"$f":"IFERROR(VLOOKUP(A227,Data!A$8:J$30,6,FALSE),\"\")","v":""},{"$f":"IFERROR(VLOOKUP(A227,Data!A$8:J$30,7,FALSE),\"\")","v":""},null,null,{"$f":"IFERROR(VLOOKUP(A227,Data!A$8:J$30,8,FALSE),0)","v":0}]
[222,{"$f":"IFERROR(VLOOKUP(A228,Data!A$8:J$30,2,FALSE),\"\")","v":""},{"$f":"IFERROR(VLOOKUP(A228,Data!A$8:J$30,10,FALSE),\"\")","v":""},{"$f":"IFERROR(VLOOKUP(A228,Data!A$8:J$30,3,FALSE),\"\")","v":""},"",{"$f":"IFERROR(VLOOKUP(A228,Data!A$8:J$30,4,FALSE),\"\")","v":""},{"$f":"IFERROR(VLOOKUP(A228,Data!A$8:J$30,5,FALSE),\"\")","v":""},{"$f":"IFERROR(VLOOKUP(A228,Data!A$8:J$30,6,FALSE),\"\")","v":""},{"$f":"IFERROR(VLOOKUP(A228,Data!A$8:J$30,7,FALSE),\"\")","v":""},null,null,{"$f":"IFERROR(VLOOKUP(A228,Data!A$8:J$30,8,FALSE),0)","v":0}]
[223,{"$f":"IFERROR(VLOOKUP(A229,Data!A$8:J$30,2,FALSE),\"\")","v":""},{"$f":"IFERROR(VLOOKUP(A229,Data!A$8:J$30,10,FALSE),\"\")","v":""},{"$f":"IFERROR(VLOOKUP(A229,Data!A$8:J$30,3,FALSE),\"\")","v":""},"",{"$f":"IFERROR(VLOOKUP(A229,Data!A$8:J$30,4,FALSE),\"\")","v":""},{"$f":"IFERROR(VLOOKUP(A229,Data!A$8:J$30,5,FALSE),\"\")","v":""},{"$f":"IFERROR(VLOOKUP(A229,Data!A$8:J$30,6,FALSE),\"\")","v":""},{"$f":"IFERROR(VLOOKUP(A229,Data!A$8:J$30,7,FALSE),\"\")","v":""},null,null,{"$f":"IFERROR(VLOOKUP(A229,Data!A$8:J$30,8,FALSE),0)","v":0}]
[224,{"$f":"IFERROR(VLOOKUP(A230,Data!A$8:J$30,2,FALSE),\"\")","v":""},{"$f":"IFERROR(VLOOKUP(A230,Data!A$8:J$30,10,FALSE),\"\")","v":""},{"$f":"IFERROR(VLOOKUP(A230,Data!A$8:J$30,3,FALSE),\"\")","v":""},"",{"$f":"IFERROR(VLOOKUP(A230,Data!A$8:J$30,4,FALSE),\"\")","v":""},{"$f":"IFERROR(VLOOKUP(A230,Data!A$8:J$30,5,FALSE),\"\")","v":""},{"$f":"IFERROR(VLOOKUP(A230,Data!A$8:J$30,6,FALSE),\"\")","v":""},{"$f":"IFERROR(VLOOKUP(A230,Data!A$8:J$30,7,FALSE),\"\")","v":""},null,null,{"$f":"IFERROR(VLOOKUP(A230,Data!A$8:J$30,8,FALSE),0)","v":0}]
[225,{"$f":"IFERROR(VLOOKUP(A231,Data!A$8:J$30,2,FALSE),\"\")","v":""},{"$f":"IFERROR(VLOOKUP(A231,Data!A$8:J$30,10,FALSE),\"\")","v":""},{"$f":"IFERROR(VLOOKUP(A231,Data!A$8:J$30,3,FALSE),\"\")","v":""},"",{"$f":"IFERROR(VLOOKUP(A231,Data!A$8:J$30,4,FALSE),\"\")","v":""},{"$f":"IFERROR(VLOOKUP(A231,Data!A$8:J$30,5,FALSE),\"\")","v":""},{"$f":"IFERROR(VLOOKUP(A231,Data!A$8:J$30,6,FALSE),\"\")","v":""},{"$f":"IFERROR(VLOOKUP(A231,Data!A$8:J$30,7,FALSE),\"\")","v":""},null,null,{"$f":"IFERROR(VLOOKUP(A231,Data!A$8:J$30,8,FALSE),0)","v":0}]
[226,{"$f":"IFERROR(VLOOKUP(A232,Data!A$8:J$30,2,FALSE),\"\")","v":""},{"$f":"IFERROR(VLOOKUP(A232,Data!A$8:J$30,10,FALSE),\"\")","v":""},{"$f":"IFERROR(VLOOKUP(A232,Data!A$8:J$30,3,FALSE),\"\")","v":""},"",{"$f":"IFERROR(VLOOKUP(A232,Data!A$8:J$30,4,FALSE),\"\")","v":""},{"$f":"IFERROR(VLOOKUP(A232,Data!A$8:J$30,5,FALSE),\"\")","v":""},{"$f":"IFERROR(VLOOKUP(A232,Data!A$8:J$30,6,FALSE),\"\")","v":""},{"$f":"IFERROR(VLOOKUP(A232,Data!A$8:J$30,7,FALSE),\"\")","v":""},null,null,{"$f":"IFERROR(VLOOKUP(A232,Data!A$8:J$30,8,FALSE),0)","v":0}]
[227,{"$f":"IFERROR(VLOOKUP(A233,Data!A$8:J$30,2,FALSE),\"\")","v":""},{"$f":"IFERROR(VLOOKUP(A233,Data!A$8:J$30,10,FALSE),\"\")","v":""},{"$f":"IFERROR(VLOOKUP(A233,Data!A$8:J$30,3,FALSE),\"\")","v":""},"",{"$f":"IFERROR(VLOOKUP(A233,Data!A$8:J$30,4,FALSE),\"\")","v":""},{"$f":"IFERROR(VLOOKUP(A233,Data!A$8:J$30,5,FALSE),\"\")","v":""},{"$f":"IFERROR(VLOOKUP(A233,Data!A$8:J$30,6,FALSE),\"\")","v":""},{"$f":"IFERROR(VLOOKUP(A233,Data!A$8:J$30,7,FALSE),\"\")","v":""},null,null,{"$f":"IFERROR(VLOOKUP(A233,Data!A$8:J$30,8,FALSE),0)","v":0}]
[228,{"$f":"IFERROR(VLOOKUP(A234,Data!A$8:J$30,2,FALSE),\"\")","v":""},{"$f":"IFERROR(VLOOKUP(A234,Data!A$8:J$30,10,FALSE),\"\")","v":""},{"$f":"IFERROR(VLOOKUP(A234,Data!A$8:J$30,3,FALSE),\"\")","v":""},"",{"$f":"IFERROR(VLOOKUP(A234,Data!A$8:J$30,4,FALSE),\"\")","v":""},{"$f":"IFERROR(VLOOKUP(A234,Data!A$8:J$30,5,FALSE),\"\")","v":""},{"$f":"IFERROR(VLOOKUP(A234,Data!A$8:J$30,6,FALSE),\"\")","v":""},{"$f":"IFERROR(VLOOKUP(A234,Data!A$8:J$30,7,FALSE),\"\")","v":""},null,null,{"$f":"IFERROR(VLOOKUP(A234,Data!A$8:J$30,8,FALSE),0)","v":0}]
[229,{"$f":"IFERROR(VLOOKUP(A235,Data!A$8:J$30,2,FALSE),\"\")","v":""},{"$f":"IFERROR(VLOOKUP(A235,Data!A$8:J$30,10,FALSE),\"\")","v":""},{"$f":"IFERROR(VLOOKUP(A235,Data!A$8:J$30,3,FALSE),\"\")","v":""},"",{"$f":"IFERROR(VLOOKUP(A235,Data!A$8:J$30,4,FALSE),\"\")","v":""},{"$f":"IFERROR(VLOOKUP(A235,Data!A$8:J$30,5,FALSE),\"\")","v":""},{"$f":"IFERROR(VLOOKUP(A235,Data!A$8:J$30,6,FALSE),\"\")","v":""},{"$f":"IFERROR(VLOOKUP(A235,Data!A$8:J$30,7,FALSE),\"\")","v":""},null,null,{"$f":"IFERROR(VLOOKUP(A235,Data!A$8:J$30,8,FALSE),0)","v":0}]
[230,{"$f":"IFERROR(VLOOKUP(A236,Data!A$8:J$30,2,FALSE),\"\")","v":""},{"$f":"IFERROR(VLOOKUP(A236,Data!A$8:J$30,10,FALSE),\"\")","v":""},{"$f":"IFERROR(VLOOKUP(A236,Data!A$8:J$30,3,FALSE),\"\")","v":""},"",{"$f":"IFERROR(VLOOKUP(A236,Data!A$8:J$30,4,FALSE),\"\")","v":""},{"$f":"IFERROR(VLOOKUP(A236,Data!A$8:J$30,5,FALSE),\"\")","v":""},{"$f":"IFERROR(VLOOKUP(A236,Data!A$8:J$30,6,FALSE),\"\")","v":""},{"$f":"IFERROR(VLOOKUP(A236,Data!A$8:J$30,7,FALSE),\"\")","v":""},null,null,{"$f":"IFERROR(VLOOKUP(A236,Data!A$8:J$30,8,FALSE),0)","v":0}]
[231,{"$f":"IFERROR(VLOOKUP(A237,Data!A$8:J$30,2,FALSE),\"\")","v":""},{"$f":"IFERROR(VLOOKUP(A237,Data!A$8:J$30,10,FALSE),\"\")","v":""},{"$f":"IFERROR(VLOOKUP(A237,Data!A$8:J$30,3,FALSE),\"\")","v":""},"",{"$f":"IFERROR(VLOOKUP(A237,Data!A$8:J$30,4,FALSE),\"\")","v":""},{"$f":"IFERROR(VLOOKUP(A237,Data!A$8:J$30,5,FALSE),\"\")","v":""},{"$f":"IFERROR(VLOOKUP(A237,Data!A$8:J$30,6,FALSE),\"\")","v":""},{"$f":"IFERROR(VLOOKUP(A237,Data!A$8:J$30,7,FALSE),\"\")","v":""},null,null,{"$f":"IFERROR(VLOOKUP(A237,Data!A$8:J$30,8,FALSE),0)","v":0}]
[232,{"$f":"IFERROR(VLOOKUP(A238,Data!A$8:J$30,2,FALSE),\"\")","v":""},{"$f":"IFERROR(VLOOKUP(A238,Data!A$8:J$30,10,FALSE),\"\")","v":""},{"$f":"IFERROR(VLOOKUP(A238,Data!A$8:J$30,3,FALSE),\"\")","v":""},"",{"$f":"IFERROR(VLOOKUP(A238,Data!A$8:J$30,4,FALSE),\"\")","v":""},{"$f":"IFERROR(VLOOKUP(A238,Data!A$8:J$30,5,FALSE),\"\")","v":""},{"$f":"IFERROR(VLOOKUP(A238,Data!A$8:J$30,6,FALSE),\"\")","v":""},{"$f":"IFERROR(VLOOKUP(A238,Data!A$8:J$30,7,FALSE),\"\")","v":""},null,null,{"$f":"IFERROR(VLOOKUP(A238,Data!A$8:J$30,8,FALSE),0)","v":0}]
[233,{"$f":"IFERROR(VLOOKUP(A239,Data!A$8:J$30,2,FALSE),\"\")","v":""},{"$f":"IFERROR(VLOOKUP(A239,Data!A$8:J$30,10,FALSE),\"\")","v":""},{"$f":"IFERROR(VLOOKUP(A239,Data!A$8:J$30,3,FALSE),\"\")","v":""},"",{"$f":"IFERROR(VLOOKUP(A239,Data!A$8:J$30,4,FALSE),\"\")","v":""},{"$f":"IFERROR(VLOOKUP(A239,Data!A$8:J$30,5,FALSE),\"\")","v":""},{"$f":"IFERROR(VLOOKUP(A239,Data!A$8:J$30,6,FALSE),\"\")","v":""},{"$f":"IFERROR(VLOOKUP(A239,Data!A$8:J$30,7,FALSE),\"\")","v":""},null,null,{"$f":"IFERROR(VLOOKUP(A239,Data!A$8:J$30,8,FALSE),0)","v":0}]
[234,{"$f":"IFERROR(VLOOKUP(A240,Data!A$8:J$30,2,FALSE),\"\")","v":""},{"$f":"IFERROR(VLOOKUP(A240,Data!A$8:J$30,10,FALSE),\"\")","v":""},{"$f":"IFERROR(VLOOKUP(A240,Data!A$8:J$30,3,FALSE),\"\")","v":""},"",{"$f":"IFERROR(VLOOKUP(A240,Data!A$8:J$30,4,FALSE),\"\")","v":""},{"$f":"IFERROR(VLOOKUP(A240,Data!A$8:J$30,5,FALSE),\"\")","v":""},{"$f":"IFERROR(VLOOKUP(A240,Data!A$8:J$30,6,FALSE),\"\")","v":""},{"$f":"IFERROR(VLOOKUP(A240,Data!A$8:J$30,7,FALSE),\"\")","v":""},null,null,{"$f":"IFERROR(VLOOKUP(A240,Data!A$8:J$30,8,FALSE),0)","v":0}]
[235,{"$f":"IFERROR(VLOOKUP(A241,Data!A$8:J$30,2,FALSE),\"\")","v":""},{"$f":"IFERROR(VLOOKUP(A241,Data!A$8:J$30,10,FALSE),\"\")","v":""},{"$f":"IFERROR(VLOOKUP(A241,Data!A$8:J$30,3,FALSE),\"\")","v":""},"",{"$f":"IFERROR(VLOOKUP(A241,Data!A$8:J$30,4,FALSE),\"\")","v":""},{"$f":"IFERROR(VLOOKUP(A241,Data!A$8:J$30,5,FALSE),\"\")","v":""},{"$f":"IFERROR(VLOOKUP(A241,Data!A$8:J$30,6,FALSE),\"\")","v":""},{"$f":"IFERROR(VLOOKUP(A241,Data!A$8:J$30,7,FALSE),\"\")","v":""},null,null,{"$f":"IFERROR(VLOOKUP(A241,Data!A$8:J$30,8,FALSE),0)","v":0}]
[236,{"$f":"IFERROR(VLOOKUP(A242,Data!A$8:J$30,2,FALSE),\"\")","v":""},{"$f":"IFERROR(VLOOKUP(A242,Data!A$8:J$30,10,FALSE),\"\")","v":""},{"$f":"IFERROR(VLOOKUP(A242,Data!A$8:J$30,3,FALSE),\"\")","v":""},"",{"$f":"IFERROR(VLOOKUP(A242,Data!A$8:J$30,4,FALSE),\"\")","v":""},{"$f":"IFERROR(VLOOKUP(A242,Data!A$8:J$30,5,FALSE),\"\")","v":""},{"$f":"IFERROR(VLOOKUP(A242,Data!A$8:J$30,6,FALSE),\"\")","v":""},{"$f":"IFERROR(VLOOKUP(A242,Data!A$8:J$30,7,FALSE),\"\")","v":""},null,null,{"$f":"IFERROR(VLOOKUP(A242,Data!A$8:J$30,8,FALSE),0)","v":0}]
[237,{"$f":"IFERROR(VLOOKUP(A243,Data!A$8:J$30,2,FALSE),\"\")","v":""},{"$f":"IFERROR(VLOOKUP(A243,Data!A$8:J$30,10,FALSE),\"\")","v":""},{"$f":"IFERROR(VLOOKUP(A243,Data!A$8:J$30,3,FALSE),\"\")","v":""},"",{"$f":"IFERROR(VLOOKUP(A243,Data!A$8:J$30,4,FALSE),\"\")","v":""},{"$f":"IFERROR(VLOOKUP(A243,Data!A$8:J$30,5,FALSE),\"\")","v":""},{"$f":"IFERROR(VLOOKUP(A243,Data!A$8:J$30,6,FALSE),\"\")","v":""},{"$f":"IFERROR(VLOOKUP(A243,Data!A$8:J$30,7,FALSE),\"\")","v":""},null,null,{"$f":"IFERROR(VLOOKUP(A243,Data!A$8:J$30,8,FALSE),0)","v":0}]
[238,{"$f":"IFERROR(VLOOKUP(A244,Data!A$8:J$30,2,FALSE),\"\")","v":""},{"$f":"IFERROR(VLOOKUP(A244,Data!A$8:J$30,10,FALSE),\"\")","v":""},{"$f":"IFERROR(VLOOKUP(A244,Data!A$8:J$30,3,FALSE),\"\")","v":""},"",{"$f":"IFERROR(VLOOKUP(A244,Data!A$8:J$30,4,FALSE),\"\")","v":""},{"$f":"IFERROR(VLOOKUP(A244,Data!A$8:J$30,5,FALSE),\"\")","v":""},{"$f":"IFERROR(VLOOKUP(A244,Data!A$8:J$30,6,FALSE),\"\")","v":""},{"$f":"IFERROR(VLOOKUP(A244,Data!A$8:J$30,7,FALSE),\"\")","v":""},null,null,{"$f":"IFERROR(VLOOKUP(A244,Data!A$8:J$30,8,FALSE),0)","v":0}]
[239,{"$f":"IFERROR(VLOOKUP(A245,Data!A$8:J$30,2,FALSE),\"\")","v":""},{"$f":"IFERROR(VLOOKUP(A245,Data!A$8:J$30,10,FALSE),\"\")","v":""},{"$f":"IFERROR(VLOOKUP(A245,Data!A$8:J$30,3,FALSE),\"\")","v":""},"",{"$f":"IFERROR(VLOOKUP(A245,Data!A$8:J$30,4,FALSE),\"\")","v":""},{"$f":"IFERROR(VLOOKUP(A245,Data!A$8:J$30,5,FALSE),\"\")","v":""},{"$f":"IFERROR(VLOOKUP(A245,Data!A$8:J$30,6,FALSE),\"\")","v":""},{"$f":"IFERROR(VLOOKUP(A245,Data!A$8:J$30,7,FALSE),\"\")","v":""},null,null,{"$f":"IFERROR(VLOOKUP(A245,Data!A$8:J$30,8,FALSE),0)","v":0}]
[240,{"$f":"IFERROR(VLOOKUP(A246,Data!A$8:J$30,2,FALSE),\"\")","v":""},{"$f":"IFERROR(VLOOKUP(A246,Data!A$8:J$30,10,FALSE),\"\")","v":""},{"$f":"IFERROR(VLOOKUP(A246,Data!A$8:J$30,3,FALSE),\"\")","v":""},"",{"$f":"IFERROR(VLOOKUP(A246,Data!A$8:J$30,4,FALSE),\"\")","v":""},{"$f":"IFERROR(VLOOKUP(A246,Data!A$8:J$30,5,FALSE),\"\")","v":""},{"$f":"IFERROR(VLOOKUP(A246,Data!A$8:J$30,6,FALSE),\"\")","v":""},{"$f":"IFERROR(VLOOKUP(A246,Data!A$8:J$30,7,FALSE),\"\")","v":""},null,null,{"$f":"IFERROR(VLOOKUP(A246,Data!A$8:J$30,8,FALSE),0)","v":0}]
[241,{"$f":"IFERROR(VLOOKUP(A247,Data!A$8:J$30,2,FALSE),\"\")","v":""},{"$f":"IFERROR(VLOOKUP(A247,Data!A$8:J$30,10,FALSE),\"\")","v":""},{"$f":"IFERROR(VLOOKUP(A247,Data!A$8:J$30,3,FALSE),\"\")","v":""},"",{"$f":"IFERROR(VLOOKUP(A247,Data!A$8:J$30,4,FALSE),\"\")","v":""},{"$f":"IFERROR(VLOOKUP(A247,Data!A$8:J$30,5,FALSE),\"\")","v":""},{"$f":"IFERROR(VLOOKUP(A247,Data!A$8:J$30,6,FALSE),\"\")","v":""},{"$f":"IFERROR(VLOOKUP(A247,Data!A$8:J$30,7,FALSE),\"\")","v":""},null,null,{"$f":"IFERROR(VLOOKUP(A247,Data!A$8:J$30,8,FALSE),0)","v":0}]
[242,{"$f":"IFERROR(VLOOKUP(A248,Data!A$8:J$30,2,FALSE),\"\")","v":""},{"$f":"IFERROR(VLOOKUP(A248,Data!A$8:J$30,10,FALSE),\"\")","v":""},{"$f":"IFERROR(VLOOKUP(A248,Data!A$8:J$30,3,FALSE),\"\")","v":""},"",{"$f":"IFERROR(VLOOKUP(A248,Data!A$8:J$30,4,FALSE),\"\")","v":""},{"$f":"IFERROR(VLOOKUP(A248,Data!A$8:J$30,5,FALSE),\"\")","v":""},{"$f":"IFERROR(VLOOKUP(A248,Data!A$8:J$30,6,FALSE),\"\")","v":""},{"$f":"IFERROR(VLOOKUP(A248,Data!A$8:J$30,7,FALSE),\"\")","v":""},null,null,{"$f":"IFERROR(VLOOKUP(A248,Data!A$8:J$30,8,FALSE),0)","v":0}]
[243,{"$f":"IFERROR(VLOOKUP(A249,Data!A$8:J$30,2,FALSE),\"\")","v":""},{"$f":"IFERROR(VLOOKUP(A249,Data!A$8:J$30,10,FALSE),\"\")","v":""},{"$f":"IFERROR(VLOOKUP(A249,Data!A$8:J$30,3,FALSE),\"\")","v":""},"",{"$f":"IFERROR(VLOOKUP(A249,Data!A$8:J$30,4,FALSE),\"\")","v":""},{"$f":"IFERROR(VLOOKUP(A249,Data!A$8:J$30,5,FALSE),\"\")","v":""},{"$f":"IFERROR(VLOOKUP(A249,Data!A$8:J$30,6,FALSE),\"\")","v":""},{"$f":"IFERROR(VLOOKUP(A249,Data!A$8:J$30,7,FALSE),\"\")","v":""},null,null,{"$f":"IFERROR(VLOOKUP(A249,Data!A$8:J$30,8,FALSE),0)","v":0}]
[244,{"$f":"IFERROR(VLOOKUP(A250,Data!A$8:J$30,2,FALSE),\"\")","v":""},{"$f":"IFERROR(VLOOKUP(A250,Data!A$8:J$30,10,FALSE),\"\")","v":""},{"$f":"IFERROR(VLOOKUP(A250,Data!A$8:J$30,3,FALSE),\"\")","v":""},"",{"$f":"IFERROR(VLOOKUP(A250,Data!A$8:J$30,4,FALSE),\"\")","v":""},{"$f":"IFERROR(VLOOKUP(A250,Data!A$8:J$30,5,FALSE),\"\")","v":""},{"$f":"IFERROR(VLOOKUP(A250,Data!A$8:J$30,6,FALSE),\"\")","v":""},{"$f":"IFERROR(VLOOKUP(A250,Data!A$8:J$30,7,FALSE),\"\")","v":""},null,null,{"$f":"IFERROR(VLOOKUP(A250,Data!A$8:J$30,8,FALSE),0)","v":0}]
[245,{"$f":"IFERROR(VLOOKUP(A251,Data!A$8:J$30,2,FALSE),\"\")","v":""},{"$f":"IFERROR(VLOOKUP(A251,Data!A$8:J$30,10,FALSE),\"\")","v":""},{"$f":"IFERROR(VLOOKUP(A251,Data!A$8:J$30,3,FALSE),\"\")","v":""},"",{"$f":"IFERROR(VLOOKUP(A251,Data!A$8:J$30,4,FALSE),\"\")","v":""},{"$f":"IFERROR(VLOOKUP(A251,Data!A$8:J$30,5,FALSE),\"\")","v":""},{"$f":"IFERROR(VLOOKUP(A251,Data!A$8:J$30,6,FALSE),\"\")","v":""},{"$f":"IFERROR(VLOOKUP(A251,Data!A$8:J$30,7,FALSE),\"\")","v":""},null,null,{"$f":"IFERROR(VLOOKUP(A251,Data!A$8:J$30,8,FALSE),0)","v":0}]
[246,{"$f":"IFERROR(VLOOKUP(A252,Data!A$8:J$30,2,FALSE),\"\")","v":""},{"$f":"IFERROR(VLOOKUP(A252,Data!A$8:J$30,10,FALSE),\"\")","v":""},{"$f":"IFERROR(VLOOKUP(A252,Data!A$8:J$30,3,FALSE),\"\")","v":""},"",{"$f":"IFERROR(VLOOKUP(A252,Data!A$8:J$30,4,FALSE),\"\")","v":""},{"$f":"IFERROR(VLOOKUP(A252,Data!A$8:J$30,5,FALSE),\"\")","v":""},{"$f":"IFERROR(VLOOKUP(A252,Data!A$8:J$30,6,FALSE),\"\")","v":""},{"$f":"IFERROR(VLOOKUP(A252,Data!A$8:J$30,7,FALSE),\"\")","v":""},null,null,{"$f":"IFERROR(VLOOKUP(A252,Data!A$8:J$30,8,FALSE),0)","v":0}]
[247,{"$f":"IFERROR(VLOOKUP(A253,Data!A$8:J$30,2,FALSE),\"\")","v":""},{"$f":"IFERROR(VLOOKUP(A253,Data!A$8:J$30,10,FALSE),\"\")","v":""},{"$f":"IFERROR(VLOOKUP(A253,Data!A$8:J$30,3,FALSE),\"\")","v":""},"",{"$f":"IFERROR(VLOOKUP(A253,Data!A$8:J$30,4,FALSE),\"\")","v":""},{"$f":"IFERROR(VLOOKUP(A253,Data!A$8:J$30,5,FALSE),\"\")","v":""},{"$f":"IFERROR(VLOOKUP(A253,Data!A$8:J$30,6,FALSE),\"\")","v":""},{"$f":"IFERROR(VLOOKUP(A253,Data!A$8:J$30,7,FALSE),\"\")","v":""},null,null,{"$f":"IFERROR(VLOOKUP(A253,Data!A$8:J$30,8,FALSE),0)","v":0}]
[248,{"$f":"IFERROR(VLOOKUP(A254,Data!A$8:J$30,2,FALSE),\"\")","v":""},{"$f":"IFERROR(VLOOKUP(A254,Data!A$8:J$30,10,FALSE),\"\")","v":""},{"$f":"IFERROR(VLOOKUP(A254,Data!A$8:J$30,3,FALSE),\"\")","v":""},"",{"$f":"IFERROR(VLOOKUP(A254,Data!A$8:J$30,4,FALSE),\"\")","v":""},{"$f":"IFERROR(VLOOKUP(A254,Data!A$8:J$30,5,FALSE),\"\")","v":""},{"$f":"IFERROR(VLOOKUP(A254,Data!A$8:J$30,6,FALSE),\"\")","v":""},{"$f":"IFERROR(VLOOKUP(A254,Data!A$8:J$30,7,FALSE),\"\")","v":""},null,null,{"$f":"IFERROR(VLOOKUP(A254,Data!A$8:J$30,8,FALSE),0)","v":0}]
[249,{"$f":"IFERROR(VLOOKUP(A255,Data!A$8:J$30,2,FALSE),\"\")","v":""},{"$f":"IFERROR(VLOOKUP(A255,Data!A$8:J$30,10,FALSE),\"\")","v":""},{"$f":"IFERROR(VLOOKUP(A255,Data!A$8:J$30,3,FALSE),\"\")","v":""},"",{"$f":"IFERROR(VLOOKUP(A255,Data!A$8:J$30,4,FALSE),\"\")","v":""},{"$f":"IFERROR(VLOOKUP(A255,Data!A$8:J$30,5,FALSE),\"\")","v":""},{"$f":"IFERROR(VLOOKUP(A255,Data!A$8:J$30,6,FALSE),\"\")","v":""},{"$f":"IFERROR(VLOOKUP(A255,Data!A$8:J$30,7,FALSE),\"\")","v":""},null,null,{"$f":"IFERROR(VLOOKUP(A255,Data!A$8:J$30,8,FALSE),0)","v":0}]
[250,{"$f":"IFERROR(VLOOKUP(A256,Data!A$8:J$30,2,FALSE),\"\")","v":""},{"$f":"IFERROR(VLOOKUP(A256,Data!A$8:J$30,10,FALSE),\"\")","v":""},{"$f":"IFERROR(VLOOKUP(A256,Data!A$8:J$30,3,FALSE),\"\")","v":""},"",{"$f":"IFERROR(VLOOKUP(A256,Data!A$8:J$30,4,FALSE),\"\")","v":""},{"$f":"IFERROR(VLOOKUP(A256,Data!A$8:J$30,5,FALSE),\"\")","v":""},{"$f":"IFERROR(VLOOKUP(A256,Data!A$8:J$30,6,FALSE),\"\")","v":""},{"$f":"IFERROR(VLOOKUP(A256,Data!A$8:J$30,7,FALSE),\"\")","v":""},null,null,{"$f":"IFERROR(VLOOKUP(A256,Data!A$8:J$30,8,FALSE),0)","v":0}]

{"sheet":"Sett","index":4,"n_rows":54,"n_cols":22,"rows_kept":54,"cut":false,"hidden":false,"merged":[[25,13,25,14],[2,1,2,10],[2,13,2,14],[15,13,15,14],[16,13,16,14],[18,13,18,14]]}
[]
[null,{"$f":"COUNTA(sett[عنوان])","v":20},99,{"$f":"SUM(sett[متراژ])","v":0},null,{"$f":"SUM(sett[نفرات])","v":0},null,null,null,null,null,null,null,null,null,null,null,null,null,{"$f":"COUNTIF(T5:T44,\">0\")","v":0},{"$f":"SUM(U5:U44)","v":0},{"$f":"SUM(V5:V44)","v":0}]
[null,"تعريف واحدهاي موجود در ساختمان",null,null,null,null,null,null,null,null,null,null,null,"تعریف انواع هزینه ها"]
[null,"کد","عنوان","متراژ","وضعیت","نفرات","نام مالك فعلی","تلفن واحد","موبایل مالک","توضیحات واحد","مانده حساب",null,null,"كد","نوع قبض"]
[null,1,"واحد 1",null,null,null,null,null,null,null,0,null,null,1,"آب مشاع",null,null,1,{"$f":"COUNTIF(E$4:E5,2)","v":0},{"$f":"SUMIFS(B$5:B$71,E$5:E$71,2,S$5:S$46,R5)","v":{"$error":"#VALUE!"}},{"$f":"IFERROR(VLOOKUP(T5,sett[],3,FALSE),0)","v":0},{"$f":"IFERROR(VLOOKUP(T5,sett[],5,FALSE),0)","v":0}]
[null,2,"واحد 2",null,null,null,null,null,null,null,null,null,null,2,"گاز مشاع",null,null,2,{"$f":"COUNTIF(E$4:E6,2)","v":0},{"$error":"#VALUE!"},{"$f":"IFERROR(VLOOKUP(T6,sett[],3,FALSE),0)","v":0},{"$f":"IFERROR(VLOOKUP(T6,sett[],5,FALSE),0)","v":0}]
[null,3,"واحد 3",null,null,null,null,null,null,null,null,null,null,3,"برق مشاع",null,null,3,{"$f":"COUNTIF(E$4:E7,2)","v":0},{"$error":"#VALUE!"},{"$f":"IFERROR(VLOOKUP(T7,sett[],3,FALSE),0)","v":0},{"$f":"IFERROR(VLOOKUP(T7,sett[],5,FALSE),0)","v":0}]
[null,4,"واحد 4",null,null,null,null,null,null,null,null,null,null,4,"سایر قبوض",null,null,4,{"$f":"COUNTIF(E$4:E8,2)","v":0},{"$error":"#VALUE!"},{"$f":"IFERROR(VLOOKUP(T8,sett[],3,FALSE),0)","v":0},{"$f":"IFERROR(VLOOKUP(T8,sett[],5,FALSE),0)","v":0}]
[null,5,"واحد 5",null,null,null,null,null,null,null,null,null,null,"کد","نوع هزینه",null,null,5,{"$f":"COUNTIF(E$4:E9,2)","v":0},{"$error":"#VALUE!"},{"$f":"IFERROR(VLOOKUP(T9,sett[],3,FALSE),0)","v":0},{"$f":"IFERROR(VLOOKUP(T9,sett[],5,FALSE),0)","v":0}]
[null,6,"واحد 6",null,null,null,null,null,null,null,null,null,null,1,"تاسيسات ساختمان",null,null,6,{"$f":"COUNTIF(E$4:E10,2)","v":0},{"$error":"#VALUE!"},{"$f":"IFERROR(VLOOKUP(T10,sett[],3,FALSE),0)","v":0},{"$f":"IFERROR(VLOOKUP(T10,sett[],5,FALSE),0)","v":0}]
[null,7,"واحد 7",null,null,null,null,null,null,null,null,null,null,2,"خدماتی و نظافتی",null,null,7,{"$f":"COUNTIF(E$4:E11,2)","v":0},{"$error":"#VALUE!"},{"$f":"IFERROR(VLOOKUP(T11,sett[],3,FALSE),0)","v":0},{"$f":"IFERROR(VLOOKUP(T11,sett[],5,FALSE),0)","v":0}]
[null,8,"واحد 8",null,null,null,null,null,null,null,null,null,null,3,"آسانسور و بالابرها",null,null,8,{"$f":"COUNTIF(E$4:E12,2)","v":0},{"$error":"#VALUE!"},{"$f":"IFERROR(VLOOKUP(T12,sett[],3,FALSE),0)","v":0},{"$f":"IFERROR(VLOOKUP(T12,sett[],5,FALSE),0)","v":0}]
[null,9,"واحد 9",null,null,null,null,null,null,null,null,null,null,4,"توسعه و تعمیرات",null,null,9,{"$f":"COUNTIF(E$4:E13,2)","v":0},{"$error":"#VALUE!"},{"$f":"IFERROR(VLOOKUP(T13,sett[],3,FALSE),0)","v":0},{"$f":"IFERROR(VLOOKUP(T13,sett[],5,FALSE),0)","v":0}]
[null,10,"واحد 10",null,null,null,null,null,null,null,null,null,null,5,"موارد هزینه خاص",null,null,10,{"$f":"COUNTIF(E$4:E14,2)","v":0},{"$error":"#VALUE!"},{"$f":"IFERROR(VLOOKUP(T14,sett[],3,FALSE),0)","v":0},{"$f":"IFERROR(VLOOKUP(T14,sett[],5,FALSE),0)","v":0}]
[null,11,"واحد 11",null,null,null,null,null,null,null,null,null,null,null,null,null,null,11,{"$f":"COUNTIF(E$4:E15,2)","v":0},{"$error":"#VALUE!"},{"$f":"IFERROR(VLOOKUP(T15,sett[],3,FALSE),0)","v":0},{"$f":"IFERROR(VLOOKUP(T15,sett[],5,FALSE),0)","v":0}]
[null,12,"واحد 12",null,null,null,null,null,null,null,null,null,null,"موجودي اولیه حساب",null,null,null,12,{"$f":"COUNTIF(E$4:E16,2)","v":0},{"$error":"#VALUE!"},{"$f":"IFERROR(VLOOKUP(T16,sett[],3,FALSE),0)","v":0},{"$f":"IFERROR(VLOOKUP(T16,sett[],5,FALSE),0)","v":0}]
[null,13,"واحد 13",null,null,null,null,null,null,null,null,null,null,0,null,null,null,13,{"$f":"COUNTIF(E$4:E17,2)","v":0},{"$error":"#VALUE!"},{"$f":"IFERROR(VLOOKUP(T17,sett[],3,FALSE),0)","v":0},{"$f":"IFERROR(VLOOKUP(T17,sett[],5,FALSE),0)","v":0}]
[null,14,"واحد 14",null,null,null,null,null,null,null,null,null,null,null,null,null,null,14,{"$f":"COUNTIF(E$4:E18,2)","v":0},{"$error":"#VALUE!"},{"$f":"IFERROR(VLOOKUP(T18,sett[],3,FALSE),0)","v":0},{"$f":"IFERROR(VLOOKUP(T18,sett[],5,FALSE),0)","v":0}]
[null,15,"واحد 15",null,null,null,null,null,null,null,null,null,null,"تعریف انواع دریافت ها",null,null,null,15,{"$f":"COUNTIF(E$4:E19,2)","v":0},{"$error":"#VALUE!"},{"$f":"IFERROR(VLOOKUP(T19,sett[],3,FALSE),0)","v":0},{"$f":"IFERROR(VLOOKUP(T19,sett[],5,FALSE),0)","v":0}]
[null,16,"واحد 16",null,null,null,null,null,null,null,null,null,null,"كد","شرح",null,null,16,{"$f":"COUNTIF(E$4:E20,2)","v":0},{"$error":"#VALUE!"},{"$f":"IFERROR(VLOOKUP(T20,sett[],3,FALSE),0)","v":0},{"$f":"IFERROR(VLOOKUP(T20,sett[],5,FALSE),0)","v":0}]
[null,17,"واحد 17",null,null,null,null,null,null,null,null,null,null,1,"حق شارژ",null,null,17,{"$f":"COUNTIF(E$4:E21,2)","v":0},{"$error":"#VALUE!"},{"$f":"IFERROR(VLOOKUP(T21,sett[],3,FALSE),0)","v":0},{"$f":"IFERROR(VLOOKUP(T21,sett[],5,FALSE),0)","v":0}]
[null,18,"واحد 18",null,null,null,null,null,null,null,null,null,null,2,"سهم قبوض",null,null,18,{"$f":"COUNTIF(E$4:E22,2)","v":0},{"$error":"#VALUE!"},{"$f":"IFERROR(VLOOKUP(T22,sett[],3,FALSE),0)","v":0},{"$f":"IFERROR(VLOOKUP(T22,sett[],5,FALSE),0)","v":0}]
[null,19,"واحد 19",null,null,null,null,null,null,null,null,null,null,3,"سایر موارد",null,null,19,{"$f":"COUNTIF(E$4:E23,2)","v":0},{"$error":"#VALUE!"},{"$f":"IFERROR(VLOOKUP(T23,sett[],3,FALSE),0)","v":0},{"$f":"IFERROR(VLOOKUP(T23,sett[],5,FALSE),0)","v":0}]
[null,20,"واحد 20",null,null,null,null,null,null,null,null,null,null,null,null,null,null,20,{"$f":"COUNTIF(E$4:E54,2)","v":0},{"$error":"#VALUE!"},{"$f":"IFERROR(VLOOKUP(T24,sett[],3,FALSE),0)","v":0},{"$f":"IFERROR(VLOOKUP(T24,sett[],5,FALSE),0)","v":0}]
[null,21,null,null,null,null,null,null,null,null,null,null,null,null,null,null,null,21,{"$f":"COUNTIF(E$4:E25,2)","v":0},{"$error":"#VALUE!"},{"$f":"IFERROR(VLOOKUP(T25,sett[],3,FALSE),0)","v":0},{"$f":"IFERROR(VLOOKUP(T25,sett[],5,FALSE),0)","v":0}]
[null,22,null,null,null,null,null,null,null,null,null,null,null,"انواع پرداخت از شارژ",null,null,null,22,{"$f":"COUNTIF(E$4:E26,2)","v":0},{"$error":"#VALUE!"},{"$f":"IFERROR(VLOOKUP(T26,sett[],3,FALSE),0)","v":0},{"$f":"IFERROR(VLOOKUP(T26,sett[],5,FALSE),0)","v":0}]
[null,23,null,null,null,null,null,null,null,null,null,null,null,"كد","شرح",null,null,23,{"$f":"COUNTIF(E$4:E27,2)","v":0},{"$error":"#VALUE!"},{"$f":"IFERROR(VLOOKUP(T27,sett[],3,FALSE),0)","v":0},{"$f":"IFERROR(VLOOKUP(T27,sett[],5,FALSE),0)","v":0}]
[null,24,null,null,null,null,null,null,null,null,null,null,null,1,"حقوق نگهبانی",null,null,24,{"$f":"COUNTIF(E$4:E28,2)","v":0},{"$error":"#VALUE!"},{"$f":"IFERROR(VLOOKUP(T28,sett[],3,FALSE),0)","v":0},{"$f":"IFERROR(VLOOKUP(T28,sett[],5,FALSE),0)","v":0}]
[null,25,null,null,null,null,null,null,null,null,null,null,null,2,"قبوض متفرقه",null,null,25,{"$f":"COUNTIF(E$4:E54,2)","v":0},{"$error":"#VALUE!"},{"$f":"IFERROR(VLOOKUP(T29,sett[],3,FALSE),0)","v":0},{"$f":"IFERROR(VLOOKUP(T29,sett[],5,FALSE),0)","v":0}]
[null,26,null,null,null,null,null,null,null,null,null,null,null,3,"تعویض تجهیزات",null,null,26,{"$f":"COUNTIF(E$4:E54,2)","v":0},{"$error":"#VALUE!"},{"$f":"IFERROR(VLOOKUP(T30,sett[],3,FALSE),0)","v":0},{"$f":"IFERROR(VLOOKUP(T30,sett[],5,FALSE),0)","v":0}]
[null,27,null,null,null,null,null,null,null,null,null,null,null,4,null,null,null,27,{"$f":"COUNTIF(E$4:E56,2)","v":0},{"$error":"#VALUE!"},{"$f":"IFERROR(VLOOKUP(T31,sett[],3,FALSE),0)","v":0},{"$f":"IFERROR(VLOOKUP(T31,sett[],5,FALSE),0)","v":0}]
[null,28,null,null,null,null,null,null,null,null,null,null,null,5,null,null,null,28,{"$f":"COUNTIF(E$4:E57,2)","v":0},{"$error":"#VALUE!"},{"$f":"IFERROR(VLOOKUP(T32,sett[],3,FALSE),0)","v":0},{"$f":"IFERROR(VLOOKUP(T32,sett[],5,FALSE),0)","v":0}]
[null,29,null,null,null,null,null,null,null,null,null,null,null,null,null,null,null,29,{"$f":"COUNTIF(E$4:E58,2)","v":0},{"$error":"#VALUE!"},{"$f":"IFERROR(VLOOKUP(T33,sett[],3,FALSE),0)","v":0},{"$f":"IFERROR(VLOOKUP(T33,sett[],5,FALSE),0)","v":0}]
[null,30,null,null,null,null,null,null,null,null,null,null,null,null,null,null,null,30,{"$f":"COUNTIF(E$4:E59,2)","v":0},{"$error":"#VALUE!"},{"$f":"IFERROR(VLOOKUP(T34,sett[],3,FALSE),0)","v":0},{"$f":"IFERROR(VLOOKUP(T34,sett[],5,FALSE),0)","v":0}]
[null,31,null,null,null,null,null,null,null,null,null,null,null,null,null,null,null,31,{"$f":"COUNTIF(E$4:E60,2)","v":0},{"$error":"#VALUE!"},{"$f":"IFERROR(VLOOKUP(T35,sett[],3,FALSE),0)","v":0},{"$f":"IFERROR(VLOOKUP(T35,sett[],5,FALSE),0)","v":0}]
[null,32,null,null,null,null,null,null,null,null,null,null,null,null,null,null,null,32,{"$f":"COUNTIF(E$4:E61,2)","v":0},{"$error":"#VALUE!"},{"$f":"IFERROR(VLOOKUP(T36,sett[],3,FALSE),0)","v":0},{"$f":"IFERROR(VLOOKUP(T36,sett[],5,FALSE),0)","v":0}]
[null,33,null,null,null,null,null,null,null,null,null,null,null,null,null,null,null,33,{"$f":"COUNTIF(E$4:E62,2)","v":0},{"$error":"#VALUE!"},{"$f":"IFERROR(VLOOKUP(T37,sett[],3,FALSE),0)","v":0},{"$f":"IFERROR(VLOOKUP(T37,sett[],5,FALSE),0)","v":0}]
[null,34,null,null,null,null,null,null,null,null,null,null,null,null,null,null,null,34,{"$f":"COUNTIF(E$4:E63,2)","v":0},{"$error":"#VALUE!"},{"$f":"IFERROR(VLOOKUP(T38,sett[],3,FALSE),0)","v":0},{"$f":"IFERROR(VLOOKUP(T38,sett[],5,FALSE),0)","v":0}]
[null,35,null,null,null,null,null,null,null,null,null,null,null,null,null,null,null,35,{"$f":"COUNTIF(E$4:E64,2)","v":0},{"$error":"#VALUE!"},{"$f":"IFERROR(VLOOKUP(T39,sett[],3,FALSE),0)","v":0},{"$f":"IFERROR(VLOOKUP(T39,sett[],5,FALSE),0)","v":0}]
[null,36,null,null,null,null,null,null,null,null,null,null,null,null,null,null,null,36,{"$f":"COUNTIF(E$4:E65,2)","v":0},{"$error":"#VALUE!"},{"$f":"IFERROR(VLOOKUP(T40,sett[],3,FALSE),0)","v":0},{"$f":"IFERROR(VLOOKUP(T40,sett[],5,FALSE),0)","v":0}]
[null,37,null,null,null,null,null,null,null,null,null,null,null,null,null,null,null,37,{"$f":"COUNTIF(E$4:E66,2)","v":0},{"$error":"#VALUE!"},{"$f":"IFERROR(VLOOKUP(T41,sett[],3,FALSE),0)","v":0},{"$f":"IFERROR(VLOOKUP(T41,sett[],5,FALSE),0)","v":0}]
[null,38,null,null,null,null,null,null,null,null,null,null,null,null,null,null,null,38,{"$f":"COUNTIF(E$4:E67,2)","v":0},{"$error":"#VALUE!"},{"$f":"IFERROR(VLOOKUP(T42,sett[],3,FALSE),0)","v":0},{"$f":"IFERROR(VLOOKUP(T42,sett[],5,FALSE),0)","v":0}]
[null,39,null,null,null,null,null,null,null,null,null,null,null,null,null,null,null,39,{"$f":"COUNTIF(E$4:E68,2)","v":0},{"$error":"#VALUE!"},{"$f":"IFERROR(VLOOKUP(T43,sett[],3,FALSE),0)","v":0},{"$f":"IFERROR(VLOOKUP(T43,sett[],5,FALSE),0)","v":0}]
[null,40,null,null,null,null,null,null,null,null,null,null,null,null,null,null,null,40,{"$f":"COUNTIF(E$4:E69,2)","v":0},{"$error":"#VALUE!"},{"$f":"IFERROR(VLOOKUP(T44,sett[],3,FALSE),0)","v":0},{"$f":"IFERROR(VLOOKUP(T44,sett[],5,FALSE),0)","v":0}]
[null,41]
[null,42]
[null,43]
[null,44]
[null,45]
[null,46]
[null,47]
[null,48]
[null,49]
[null,50]

{"sheet":"Archive","index":5,"n_rows":4,"n_cols":8,"rows_kept":4,"cut":false,"hidden":false,"merged":[[1,1,1,7]]}
[]
[null,"ثبت تغییرات مالکین و ساکنین واحدهای ساختمان"]
[null,"واحد","خرید / اجاره","نام مالک / مستاجر جدید","شماره تماس","تاریخ ورود","تاریخ خروج","توضیحات اضافه"]
[null,null,null,null,null,null,null,"توضیحات مد نظرتان را وارد کنید"]